Workbook
Name fhdata_Query: #REF!
Name PARKS_Query: #REF!
Name sum_data: #REF!
Name sum_data: #REF!

Sheet Annual Report
A1: 2010 Aerial Overview Summary for British Columbia
B2: Regions | J2: Provincial
B3: South Coast | C3: West Coast | D3: Cariboo | E3: Thompson/Okanagan | F3: Kootenay/ Boundary | G3: Skeena | H3: Omineca | I3: Northeast | J3: Total
A5: =Master!A5 -> Bark Beetles
A6: =Master!A6 -> IBM=Mountain Pine Beetle | B6: =Master!Y6 -> 14806.415 | C6: =Master!BI6 -> 6902.7058 | D6: =Master!CG6 -> 139228.38 | E6: =Master!DK6 -> 232361.51 | F6: =Master!FG6 -> 106146.36 | G6: =Master!HO6 -> 943450.9 | H6: =Master!IM6 -> 2931879.9 | I6: =Master!JK6 -> 1876810.2 | J6: =SUM(B6:I6) -> 6251586.4
A7: =Master!A7 -> IBS=Spruce Beetle | B7: =Master!Y7 -> 9.0506838 | C7: =Master!BI7 -> 37.409989 | D7: =Master!CG7 -> 25841.439 | E7: =Master!DK7 -> 3033.2963 | F7: =Master!FG7 -> 519.44153 | G7: =Master!HO7 -> 85.022274 | H7: =Master!IM7 -> 569.93321 | I7: =Master!JK7 -> 0 | J7: =SUM(B7:I7) -> 30095.593
A8: =Master!A8 -> IBB=Western Balsam Bark Beetle | B8: =Master!Y8 -> 2848.2358 | C8: =Master!BI8 -> 1619.1607 | D8: =Master!CG8 -> 37585.269 | E8: =Master!DK8 -> 121723.69 | F8: =Master!FG8 -> 10504.081 | G8: =Master!HO8 -> 537365.49 | H8: =Master!IM8 -> 843294.65 | I8: =Master!JK8 -> 217454.33 | J8: =SUM(B8:I8) -> 1772394.9
A9: =Master!A9 -> IBD=Douglas-fir Beetle | B9: =Master!Y9 -> 1927.8064 | C9: =Master!BI9 -> 1628.9464 | D9: =Master!CG9 -> 7180.461 | E9: =Master!DK9 -> 1927.9043 | F9: =Master!FG9 -> 2279.1738 | G9: =Master!HO9 -> 0 | H9: =Master!IM9 -> 844.31071 | I9: =Master!JK9 -> 0 | J9: =SUM(B9:I9) -> 15788.603
A10: =Master!A10 -> IBF = Fir engraver Beetle | B10: =Master!Y10 -> 0 | C10: =Master!BI10 -> 0 | D10: =Master!CG10 -> 0 | E10: =Master!DK10 -> 0 | F10: =Master!FG10 -> 0 | G10: =Master!HO10 -> 0 | H10: =Master!IM10 -> 0 | I10: =Master!JK10 -> 0 | J10: =SUM(B10:I10) -> 0
A11: =Master!A11 -> IBP = Twig Beetle | B11: =Master!Y11 -> 0 | C11: =Master!BI11 -> 0 | D11: =Master!CG11 -> 0 | E11: =Master!DK11 -> 0 | F11: =Master!FG11 -> 0 | G11: =Master!HO11 -> 0 | H11: =Master!IM11 -> 0 | I11: =Master!JK11 -> 0 | J11: =SUM(B11:I11) -> 0
A12: =Master!A12 -> IBI=Engraver Beetle (Ips species) | B12: =Master!Y12 -> 0 | C12: =Master!BI12 -> 0 | D12: =Master!CG12 -> 0 | E12: =Master!DK12 -> 0 | F12: =Master!FG12 -> 0 | G12: =Master!HO12 -> 0 | H12: =Master!IM12 -> 0 | I12: =Master!JK12 -> 0 | J12: =SUM(B12:I12) -> 0
A13: =Master!A13 -> IBW=Western Pine Beetle | B13: =Master!Y13 -> 0 | C13: =Master!BI13 -> 0 | D13: =Master!CG13 -> 0 | E13: =Master!DK13 -> 0 | F13: =Master!FG13 -> 0 | G13: =Master!HO13 -> 0 | H13: =Master!IM13 -> 0 | I13: =Master!JK13 -> 0 | J13: =SUM(B13:I13) -> 0
A14: =Master!A14 -> IBL=Lodgepole Pine Beetle | B14: =Master!Y14 -> 0 | C14: =Master!BI14 -> 0 | D14: =Master!CG14 -> 0 | E14: =Master!DK14 -> 0 | F14: =Master!FG14 -> 0 | G14: =Master!HO14 -> 0 | H14: =Master!IM14 -> 0 | I14: =Master!JK14 -> 0 | J14: =SUM(B14:I14) -> 0
A15: =Master!A15 -> IBT=Red Turpentine Beetle | B15: =Master!Y15 -> 0 | C15: =Master!BI15 -> 0 | D15: =Master!CG15 -> 0 | E15: =Master!DK15 -> 0 | F15: =Master!FG15 -> 0 | G15: =Master!HO15 -> 0 | H15: =Master!IM15 -> 0 | I15: =Master!JK15 -> 0 | J15: =SUM(B15:I15) -> 0
A16: =Master!A16 -> IB=Unknown Beetle | B16: =Master!Y16 -> 0 | C16: =Master!BI16 -> 0 | D16: =Master!CG16 -> 0 | E16: =Master!DK16 -> 0 | F16: =Master!FG16 -> 0 | G16: =Master!HO16 -> 0 | H16: =Master!IM16 -> 0 | I16: =Master!JK16 -> 0 | J16: =SUM(B16:I16) -> 0
A17: =Master!A17 -> Total All BB= | B17: =Master!Y17 -> 19591.507 | C17: =Master!BI17 -> 10188.223 | D17: =Master!CG17 -> 209835.55 | E17: =Master!DK17 -> 359046.39 | F17: =Master!FG17 -> 119449.05 | G17: =Master!HO17 -> 1480901.4 | H17: =Master!IM17 -> 3776588.8 | I17: =Master!JK17 -> 2094264.5 | J17: =SUM(B17:I17) -> 8069865.4
A18: =Master!A18 -> 0
A19: =Master!A19 -> Defoliators
A20: =Master!A20 -> ID=Defoliators | B20: =Master!Y20 -> 39.553956 | C20: =Master!BI20 -> 48.698836 | D20: =Master!CG20 -> 0 | E20: =Master!DK20 -> 0 | F20: =Master!FG20 -> 31.145551 | G20: =Master!HO20 -> 20309.124 | H20: =Master!IM20 -> 1346.3482 | I20: =Master!JK20 -> 17181.781 | J20: =SUM(B20:I20) -> 38956.652
A21: =Master!A21 -> IDB=2-Year Budworm | B21: =Master!Y21 -> 0 | C21: =Master!BI21 -> 0 | D21: =Master!CG21 -> 56121.651 | E21: =Master!DK21 -> 7643.0897 | F21: =Master!FG21 -> 3128.0167 | G21: =Master!HO21 -> 4554.2274 | H21: =Master!IM21 -> 25636.812 | I21: =Master!JK21 -> 0 | J21: =SUM(B21:I21) -> 97083.797
A22: =Master!A22 -> IDC=Larch casebearer | B22: =Master!Y22 -> 0 | C22: =Master!BI22 -> 0 | D22: =Master!CG22 -> 0 | E22: =Master!DK22 -> 0 | F22: =Master!FG22 -> 5.6542756 | G22: =Master!HO22 -> 0 | H22: =Master!IM22 -> 0 | I22: =Master!JK22 -> 0 | J22: =SUM(B22:I22) -> 5.6542756
A23: =Master!A23 -> IDE=Spruce Budworm | B23: =Master!Y23 -> 0 | C23: =Master!BI23 -> 0 | D23: =Master!CG23 -> 0 | E23: =Master!DK23 -> 0 | F23: =Master!FG23 -> 0 | G23: =Master!HO23 -> 0 | H23: =Master!IM23 -> 0 | I23: =Master!JK23 -> 0 | J23: =SUM(B23:I23) -> 0
A24: =Master!A24 -> IDF=Forest Tent Caterpillar | B24: =Master!Y24 -> 0 | C24: =Master!BI24 -> 0 | D24: =Master!CG24 -> 35029.923 | E24: =Master!DK24 -> 2425.0018 | F24: =Master!FG24 -> 0 | G24: =Master!HO24 -> 6091.7908 | H24: =Master!IM24 -> 88175.895 | I24: =Master!JK24 -> 903.00287 | J24: =SUM(B24:I24) -> 132625.61
A25: =Master!A25 -> IDH=Western Blackheaded Budworm | B25: =Master!Y25 -> 0 | C25: =Master!BI25 -> 87496.743 | D25: =Master!CG25 -> 0 | E25: =Master!DK25 -> 0 | F25: =Master!FG25 -> 154.99048 | G25: =Master!HO25 -> 5588.9543 | H25: =Master!IM25 -> 0 | I25: =Master!JK25 -> 0 | J25: =SUM(B25:I25) -> 93240.688
A26: =Master!A26 -> IDI=Pine needle sheathminer | B26: =Master!Y26 -> 0 | C26: =Master!BI26 -> 0 | D26: =Master!CG26 -> 0 | E26: =Master!DK26 -> 0 | F26: =Master!FG26 -> 0 | G26: =Master!HO26 -> 0 | H26: =Master!IM26 -> 0 | I26: =Master!JK26 -> 0 | J26: =SUM(B26:I26) -> 0
A27: =Master!A27 -> IDK=Northern Tent Caterpillar | B27: =Master!Y27 -> 0 | C27: =Master!BI27 -> 0 | D27: =Master!CG27 -> 0 | E27: =Master!DK27 -> 0 | F27: =Master!FG27 -> 0 | G27: =Master!HO27 -> 0 | H27: =Master!IM27 -> 0 | I27: =Master!JK27 -> 0 | J27: =SUM(B27:I27) -> 0
A28: =Master!A28 -> IDL=Western Hemlock Looper | B28: =Master!Y28 -> 0 | C28: =Master!BI28 -> 282.06892 | D28: =Master!CG28 -> 0 | E28: =Master!DK28 -> 2672.3016 | F28: =Master!FG28 -> 363.21434 | G28: =Master!HO28 -> 0 | H28: =Master!IM28 -> 0 | I28: =Master!JK28 -> 0 | J28: =SUM(B28:I28) -> 3317.5848
A29: =Master!A29 -> IDN=Birch Leaf Miner | B29: =Master!Y29 -> 0 | C29: =Master!BI29 -> 0 | D29: =Master!CG29 -> 0 | E29: =Master!DK29 -> 3028.4658 | F29: =Master!FG29 -> 5389.6429 | G29: =Master!HO29 -> 0 | H29: =Master!IM29 -> 0 | I29: =Master!JK29 -> 0 | J29: =SUM(B29:I29) -> 8418.1086
A30: =Master!A30 -> IDP=Larch Sawfly | B30: =Master!Y30 -> 0 | C30: =Master!BI30 -> 0 | D30: =Master!CG30 -> 0 | E30: =Master!DK30 -> 0 | F30: =Master!FG30 -> 0 | G30: =Master!HO30 -> 0 | H30: =Master!IM30 -> 0 | I30: =Master!JK30 -> 0 | J30: =SUM(B30:I30) -> 0
A31: =Master!A31 -> IDR=Alder Sawfly | B31: =Master!Y31 -> 0 | C31: =Master!BI31 -> 0 | D31: =Master!CG31 -> 0 | E31: =Master!DK31 -> 0 | F31: =Master!FG31 -> 0 | G31: =Master!HO31 -> 0 | H31: =Master!IM31 -> 0 | I31: =Master!JK31 -> 0 | J31: =SUM(B31:I31) -> 0
... A43: =Master!A43 -> Total Defoliators= | B43: =Master!Y43 -> 1056.0748 | C43: =Master!BI43 -> 89216.879 | D43: =Master!CG43 -> 297114.62 | E43: =Master!DK43 -> 382104.69 | F43: =Master!FG43 -> 19692.489 | G43: =Master!HO43 -> 147604.18 | H43: =Master!IM43 -> 151994.78 | I43: =Master!JK43 -> 1685890.7 | J43: =SUM(B43:I43) -> 2774674.5
A45: =Master!A45 -> Other
A46: =Master!A46 -> N | B46: =Master!Y46 -> 0 | C46: =Master!BI46 -> 0 | D46: =Master!CG46 -> 0 | E46: =Master!DK46 -> 0 | F46: =Master!FG46 -> 0 | G46: =Master!HO46 -> 0 | H46: =Master!IM46 -> 9.6893471 | I46: =Master!JK46 -> 0 | J46: =SUM(B46:I46) -> 9.6893471
A47: =Master!A47 -> NAV=Avalanche or snow slide | B47: =Master!Y47 -> 0 | C47: =Master!BI47 -> 71.95646 | D47: =Master!CG47 -> 9.1571036 | E47: =Master!DK47 -> 0 | F47: =Master!FG47 -> 0 | G47: =Master!HO47 -> 2.8611715 | H47: =Master!IM47 -> 17.36362 | I47: =Master!JK47 -> 0 | J47: =SUM(B47:I47) -> 101.33836
A48: =Master!A48 -> NB=Fire | B48: =Master!Y48 -> 159.23281 | C48: =Master!BI48 -> 20109.72 | D48: =Master!CG48 -> 154617.17 | E48: =Master!DK48 -> 4179.1185 | F48: =Master!FG48 -> 2309.3266 | G48: =Master!HO48 -> 70525.24 | H48: =Master!IM48 -> 44476.294 | I48: =Master!JK48 -> 5778.4027 | J48: =SUM(B48:I48) -> 302154.51
A49: =Master!A49 -> NCA=Aspen decline | B49: =Master!Y49 -> 0 | C49: =Master!BI49 -> 0 | D49: =Master!CG49 -> 0 | E49: =Master!DK49 -> 0 | F49: =Master!FG49 -> 0 | G49: =Master!HO49 -> 0 | H49: =Master!IM49 -> 0 | I49: =Master!JK49 -> 0 | J49: =SUM(B49:I49) -> 0
A50: =Master!A50 -> NCB=Birch decline | B50: =Master!Y50 -> 0 | C50: =Master!BI50 -> 0 | D50: =Master!CG50 -> 0 | E50: =Master!DK50 -> 0 | F50: =Master!FG50 -> 0 | G50: =Master!HO50 -> 0 | H50: =Master!IM50 -> 0 | I50: =Master!JK50 -> 128.35183 | J50: =SUM(B50:I50) -> 128.35183
A51: =Master!A51 -> NCY=Yellow cedar decline | B51: =Master!Y51 -> 0 | C51: =Master!BI51 -> 2720.0564 | D51: =Master!CG51 -> 0 | E51: =Master!DK51 -> 0 | F51: =Master!FG51 -> 0 | G51: =Master!HO51 -> 8263.6437 | H51: =Master!IM51 -> 0 | I51: =Master!JK51 -> 0 | J51: =SUM(B51:I51) -> 10983.7
A52: =Master!A52 -> ND=Drought | B52: =Master!Y52 -> 0.75 | C52: =Master!BI52 -> 243.81666 | D52: =Master!CG52 -> 35.822604 | E52: =Master!DK52 -> 388.27536 | F52: =Master!FG52 -> 0 | G52: =Master!HO52 -> 19.041892 | H52: =Master!IM52 -> 0 | I52: =Master!JK52 -> 0 | J52: =SUM(B52:I52) -> 687.70651
A53: =Master!A53 -> NF=Flooding | B53: =Master!Y53 -> 133.78615 | C53: =Master!BI53 -> 113.05044 | D53: =Master!CG53 -> 48.434657 | E53: =Master!DK53 -> 5.1486948 | F53: =Master!FG53 -> 26.957703 | G53: =Master!HO53 -> 604.25208 | H53: =Master!IM53 -> 335.78474 | I53: =Master!JK53 -> 3171.4175 | J53: =SUM(B53:I53) -> 4438.832
A54: =Master!A54 -> NGK=Shoot/Bud Frost Kill | B54: =Master!Y54 -> 0 | C54: =Master!BI54 -> 0 | D54: =Master!CG54 -> 0 | E54: =Master!DK54 -> 0 | F54: =Master!FG54 -> 0 | G54: =Master!HO54 -> 0 | H54: =Master!IM54 -> 0 | I54: =Master!JK54 -> 0 | J54: =SUM(B54:I54) -> 0
A55: =Master!A55 -> NH=Hail | B55: =Master!Y55 -> 0 | C55: =Master!BI55 -> 0 | D55: =Master!CG55 -> 0 | E55: =Master!DK55 -> 0 | F55: =Master!FG55 -> 0 | G55: =Master!HO55 -> 0 | H55: =Master!IM55 -> 0 | I55: =Master!JK55 -> 0 | J55: =SUM(B55:I55) -> 0
A56: =Master!A56 -> NR=Redbelt | B56: =Master!Y56 -> 0 | C56: =Master!BI56 -> 0 | D56: =Master!CG56 -> 0 | E56: =Master!DK56 -> 0 | F56: =Master!FG56 -> 0 | G56: =Master!HO56 -> 0 | H56: =Master!IM56 -> 0 | I56: =Master!JK56 -> 880.17586 | J56: =SUM(B56:I56) -> 880.17586
A57: =Master!A57 -> NS=Slide | B57: =Master!Y57 -> 1247.9619 | C57: =Master!BI57 -> 361.2596 | D57: =Master!CG57 -> 8.887443 | E57: =Master!DK57 -> 8.707077 | F57: =Master!FG57 -> 236.20049 | G57: =Master!HO57 -> 415.56765 | H57: =Master!IM57 -> 0 | I57: =Master!JK57 -> 13.644656 | J57: =SUM(B57:I57) -> 2292.2288
... A60: =Master!A60 -> Total Abiotics= | B60: =Master!Y60 -> 1541.9809 | C60: =Master!BI60 -> 23849.033 | D60: =Master!CG60 -> 154864.79 | E60: =Master!DK60 -> 4715.9855 | F60: =Master!FG60 -> 4775.7533 | G60: =Master!HO60 -> 79860.973 | H60: =Master!IM60 -> 45030.621 | I60: =Master!JK60 -> 10287.158 | J60: =SUM(B60:I60) -> 324926.29
A62: =Master!A62 -> Diseases
A63: =Master!A63 -> DF= Unknown Disease | B63: =Master!Y63 -> 0 | C63: =Master!BI63 -> 0 | D63: =Master!CG63 -> 0 | E63: =Master!DK63 -> 0 | F63: =Master!FG63 -> 0 | G63: =Master!HO63 -> 0 | H63: =Master!IM63 -> 0 | I63: =Master!JK63 -> 0 | J63: =SUM(B63:I63) -> 0
A64: =Master!A64 -> DFB=Delphinella needle cast | B64: =Master!Y64 -> 0 | C64: =Master!BI64 -> 0 | D64: =Master!CG64 -> 0 | E64: =Master!DK64 -> 0 | F64: =Master!FG64 -> 0 | G64: =Master!HO64 -> 0 | H64: =Master!IM64 -> 0 | I64: =Master!JK64 -> 0 | J64: =SUM(B64:I64) -> 0
A65: =Master!A65 -> DFH=Larch Needle Blight | B65: =Master!Y65 -> 0 | C65: =Master!BI65 -> 0 | D65: =Master!CG65 -> 0 | E65: =Master!DK65 -> 27.837111 | F65: =Master!FG65 -> 3288.9614 | G65: =Master!HO65 -> 0 | H65: =Master!IM65 -> 0 | I65: =Master!JK65 -> 0 | J65: =SUM(B65:I65) -> 3316.7986
A66: =Master!A66 -> DFL=Pine Needle Cast | B66: =Master!Y66 -> 0 | C66: =Master!BI66 -> 0 | D66: =Master!CG66 -> 0 | E66: =Master!DK66 -> 20.213967 | F66: =Master!FG66 -> 0 | G66: =Master!HO66 -> 1762.8242 | H66: =Master!IM66 -> 1201.4469 | I66: =Master!JK66 -> 0 | J66: =SUM(B66:I66) -> 2984.4851
A67: =Master!A67 -> DFM=Larch Needle Cast | B67: =Master!Y67 -> 0 | C67: =Master!BI67 -> 0 | D67: =Master!CG67 -> 0 | E67: =Master!DK67 -> 0 | F67: =Master!FG67 -> 1.7781743 | G67: =Master!HO67 -> 0 | H67: =Master!IM67 -> 0 | I67: =Master!JK67 -> 0 | J67: =SUM(B67:I67) -> 1.7781743
A68: =Master!A68 -> DFR=Douglas-fir Needle Cast | B68: =Master!Y68 -> 259.52645 | C68: =Master!BI68 -> 0 | D68: =Master!CG68 -> 0 | E68: =Master!DK68 -> 0 | F68: =Master!FG68 -> 0 | G68: =Master!HO68 -> 0 | H68: =Master!IM68 -> 0 | I68: =Master!JK68 -> 0 | J68: =SUM(B68:I68) -> 259.52645
A69: =Master!A69 -> DFS=Redband Needle Blight | B69: =Master!Y69 -> 0 | C69: =Master!BI69 -> 0 | D69: =Master!CG69 -> 0 | E69: =Master!DK69 -> 0 | F69: =Master!FG69 -> 0 | G69: =Master!HO69 -> 7412.7504 | H69: =Master!IM69 -> 0 | I69: =Master!JK69 -> 0 | J69: =SUM(B69:I69) -> 7412.7504
A70: =Master!A70 -> DL=Unknown Dieback | B70: =Master!Y70 -> 0 | C70: =Master!BI70 -> 0 | D70: =Master!CG70 -> 0 | E70: =Master!DK70 -> 0 | F70: =Master!FG70 -> 0 | G70: =Master!HO70 -> 0 | H70: =Master!IM70 -> 0 | I70: =Master!JK70 -> 0 | J70: =SUM(B70:I70) -> 0
A71: =Master!A71 -> DLV=Venturia spp | B71: =Master!Y71 -> 0 | C71: =Master!BI71 -> 0 | D71: =Master!CG71 -> 0 | E71: =Master!DK71 -> 0 | F71: =Master!FG71 -> 0 | G71: =Master!HO71 -> 6293.5993 | H71: =Master!IM71 -> 327.44494 | I71: =Master!JK71 -> 0 | J71: =SUM(B71:I71) -> 6621.0442
A72: =Master!A72 -> DMP=Lodgepole Pine Dwarf Mistletoe | B72: =Master!Y72 -> 0 | C72: =Master!BI72 -> 0 | D72: =Master!CG72 -> 0 | E72: =Master!DK72 -> 0 | F72: =Master!FG72 -> 0 | G72: =Master!HO72 -> 0 | H72: =Master!IM72 -> 0 | I72: =Master!JK72 -> 0 | J72: =SUM(B72:I72) -> 0
A73: =Master!A73 -> DR=Unknown Root Disease | B73: =Master!Y73 -> 0 | C73: =Master!BI73 -> 0 | D73: =Master!CG73 -> 0 | E73: =Master!DK73 -> 0 | F73: =Master!FG73 -> 0 | G73: =Master!HO73 -> 0 | H73: =Master!IM73 -> 0 | I73: =Master!JK73 -> 0 | J73: =SUM(B73:I73) -> 0
A74: =Master!A74 -> DRA=Armillaria Root Disease | B74: =Master!Y74 -> 85.436403 | C74: =Master!BI74 -> 1.25 | D74: =Master!CG74 -> 0 | E74: =Master!DK74 -> 0 | F74: =Master!FG74 -> 0 | G74: =Master!HO74 -> 0 | H74: =Master!IM74 -> 0 | I74: =Master!JK74 -> 0 | J74: =SUM(B74:I74) -> 86.686403
... A80: =Master!A80 -> Total Diseases= | B80: =Master!Y80 -> 1611.9624 | C80: =Master!BI80 -> 3379.0912 | D80: =Master!CG80 -> 0 | E80: =Master!DK80 -> 48.051077 | F80: =Master!FG80 -> 3292.2396 | G80: =Master!HO80 -> 15469.174 | H80: =Master!IM80 -> 1528.8919 | I80: =Master!JK80 -> 0 | J80: =SUM(B80:I80) -> 25329.41
A82: =Master!A82 -> Animals
A83: =Master!A83 -> AB=Bear | B83: =Master!Y83 -> 0 | C83: =Master!BI83 -> 0 | D83: =Master!CG83 -> 0 | E83: =Master!DK83 -> 0 | F83: =Master!FG83 -> 81.64714 | G83: =Master!HO83 -> 0 | H83: =Master!IM83 -> 0 | I83: =Master!JK83 -> 0 | J83: =SUM(B83:I83) -> 81.64714
A84: =Master!A84 -> AP=Porcupine | B84: =Master!Y84 -> 0 | C84: =Master!BI84 -> 0 | D84: =Master!CG84 -> 0 | E84: =Master!DK84 -> 0 | F84: =Master!FG84 -> 1.9068398 | G84: =Master!HO84 -> 10.937298 | H84: =Master!IM84 -> 0 | I84: =Master!JK84 -> 0 | J84: =SUM(B84:I84) -> 12.844138
A85: =Master!A85 -> AD=Deer | B85: =Master!Y85 -> 0 | C85: =Master!BI85 -> 0 | D85: =Master!CG85 -> 0 | E85: =Master!DK85 -> 0 | F85: =Master!FG85 -> 0 | G85: =Master!HO85 -> 0 | H85: =Master!IM85 -> 0 | I85: =Master!JK85 -> 0 | J85: =SUM(B85:I85) -> 0
A86: =Master!A86 -> Total Animals= | B86: =Master!Y86 -> 0 | C86: =Master!BI86 -> 0 | D86: =Master!CG86 -> 0 | E86: =Master!DK86 -> 0 | F86: =Master!FG86 -> 83.55398 | G86: =Master!HO86 -> 10.937298 | H86: =Master!IM86 -> 0 | I86: =Master!JK86 -> 0 | J86: =SUM(B86:I86) -> 94.491278
A87: =Master!A87 -> 0
A88: =Master!A88 -> Total Other= | B88: =Master!Y88 -> 3153.9433 | C88: =Master!BI88 -> 27228.125 | D88: =Master!CG88 -> 154864.79 | E88: =Master!DK88 -> 4764.0366 | F88: =Master!FG88 -> 8151.5469 | G88: =Master!HO88 -> 95341.085 | H88: =Master!IM88 -> 46559.513 | I88: =Master!JK88 -> 10287.158 | J88: =SUM(B88:I88) -> 350350.2
A89: =Master!A89 -> 0
A90: =Master!A90 -> Total Region = | B90: =Master!Y90 -> 23801.526 | C90: =Master!BI90 -> 126633.23 | D90: =Master!CG90 -> 661814.96 | E90: =Master!DK90 -> 745915.12 | F90: =Master!FG90 -> 147293.09 | G90: =Master!HO90 -> 1723846.7 | H90: =Master!IM90 -> 3975143.1 | I90: =Master!JK90 -> 3790442.4 | J90: =Master!$JR$90 -> 11194890

Sheet Master
A1: 2010 Aerial Overview Summary for British Columbia by TSA's
A2: Regions | B2: South Coast Region | Z2: West Coast | BJ2: CARIBOO FOREST REGION | CH2: Thompson Okanagan | DL2: Kootenay/Boundary | FH2: SKEENA FOREST REGION
A3: TSA's | B3: Fraser | H3: Soo | N3: Sunshine Coast | T3: SOUTH COAST REGION TOTAL | Z3: Arrowsmith | AF3: Kingcome | AL3: Mid Coast | AR3: Queen Charlotte | AX3: Strathcona | BD3: WEST COAST FOREST REGION TOTAL | BJ3: 100 Mile House | BP3: Quesnel | BV3: Williams Lake | CB3: CARIBOO FOREST REGION TOTAL | CH3: Kamloops | CN3: Lillooet | CT3: Merritt | CZ3: Okanagan | DF3: THOMPSON/OKANAGAN FOREST REGION TOTAL | DL3: Arrow | DR3: Boundary | DX3: Cranbrook | ED3: Golden | EJ3: Invermere | EP3: Kootenay Lake | EV3: Revelstoke | FB3: KOOTENAY/BOUNDRY REGION | FH3: Bulkley | FN3: Cassiar | FT3: Cranberry | FZ3: Kalum | GF3: Kispiox | GL3: Lakes | GR3: Morice | GX3: Nass | HD3: North Coast | HJ3: SKEENA REGION | HP3: Robson Valley | HV3: MacKenzie | IB3: Prince George | IH3: OMINECA REGION | IN3: Dawson Creek | IT3: Fort Nelson | IZ3: Fort St. John | JF3: NORTHEAST REGION | JM3: GRAND TOTAL
B4: Trace | C4: Light | D4: Moderate | E4: Severe | F4: Very Sev | G4: Total | H4: Trace | I4: Light | J4: Moderate | K4: Severe | L4: Very Sev | M4: Total | N4: Trace | O4: Light | P4: Moderate | Q4: Severe | R4: Very Sev | S4: Total | T4: Trace | U4: Light | V4: Moderate | W4: Severe | X4: Ver Sev | Y4: Total | Z4: Trace | AA4: Light | AB4: Moderate | AC4: Severe | AD4: Very Sev | AE4: Total | AF4: Trace | AG4: Light | AH4: Moderate | AI4: Severe | AJ4: Very Sev | AK4: Total | AL4: Trace | AM4: Light | AN4: Moderate | AO4: Severe | AP4: Very Sev | AQ4: Total | AR4: Trace | AS4: Light | AT4: Moderate | AU4: Severe | AV4: Very Sev | AW4: Total | AX4: Trace | AY4: Light | AZ4: Moderate | BA4: Severe | BB4: Very Sev | BC4: Total | BD4: Trace | BE4: Light | BF4: Moderate | BG4: Severe | BH4: Ver Sev | BI4: Total | BJ4: Trace | BK4: Light | BL4: Moderate | BM4: Severe | BN4: Very Sev | BO4: Total | BP4: Trace | BQ4: Light | BR4: Moderate | BS4: Severe | BT4: Very Sev | BU4: Total | BV4: Trace | BW4: Light | BX4: Moderate | BY4: Severe | BZ4: Very Sev | CA4: Total | CB4: Trace | CC4: Light | CD4: Moderate | CE4: Severe | CF4: Ver Sev | CG4: Total | CH4: Trace | CI4: Light | CJ4: Moderate | CK4: Severe | CL4: Very Sev | CM4: Total | CN4: Trace | CO4: Light | CP4: Moderate | CQ4: Severe | CR4: Very Sev | CS4: Total | CT4: Trace | CU4: Light | CV4: Moderate | CW4: Severe | CX4: Very Sev | CY4: Total | CZ4: Trace | DA4: Light | DB4: Moderate | DC4: Severe | DD4: Very Sev | DE4: Total | DF4: Trace | DG4: Light | DH4: Moderate | DI4: Severe | DJ4: Ver Sev | DK4: Total | DL4: Trace | DM4: Light | DN4: Moderate | DO4: Severe | DP4: Very Sev | DQ4: Total | DR4: Trace | DS4: Light | DT4: Moderate | DU4: Severe | DV4: Very Sev | DW4: Total | DX4: Trace | DY4: Light | DZ4: Moderate | EA4: Severe | EB4: Very Sev | EC4: Total | ED4: Trace | EE4: Light | EF4: Moderate | EG4: Severe | EH4: Very Sev | EI4: Total | EJ4: Trace | EK4: Light | EL4: Moderate | EM4: Severe | EN4: Very Sev | EO4: Total | EP4: Trace | EQ4: Light | ER4: Moderate | ES4: Severe | ET4: Very Sev | EU4: Total | EV4: Trace | EW4: Light | EX4: Moderate | EY4: Severe | EZ4: Very Sev | FA4: Total | FB4: Trace | FC4: Light | FD4: Moderate | FE4: Severe | FF4: Very Sev | FG4: TOTAL | FH4: Trace | FI4: Light | FJ4: Moderate | FK4: Severe | FL4: Very Sev | FM4: Total | FN4: Trace | FO4: Light | FP4: Moderate | FQ4: Severe | FR4: Very Sev | FS4: Total | FT4: Trace | FU4: Light | FV4: Moderate | FW4: Severe | FX4: Very Sev | FY4: Total | FZ4: Trace | GA4: Light | GB4: Moderate | GC4: Severe | GD4: Very Sev | GE4: Total | GF4: Trace | GG4: Light | GH4: Moderate | GI4: Severe | GJ4: Very Sev | GK4: Total | GL4: Trace | GM4: Light | GN4: Moderate | GO4: Severe | GP4: Very Sev | GQ4: Total | GR4: Trace | GS4: Light | GT4: Moderate | GU4: Severe | GV4: Very Sev | GW4: Total | GX4: Trace | GY4: Light | GZ4: Moderate | HA4: Severe | HB4: Very Sev | HC4: Total | HD4: Trace | HE4: Light | HF4: Moderate | HG4: Severe | HH4: Very Sev | HI4: Total | HJ4: Trace | HK4: Light | HL4: Moderate | HM4: Severe | HN4: Very Sev | HO4: TOTAL | HP4: Trace | HQ4: Light | HR4: Moderate | HS4: Severe | HT4: Very Sev | HU4: Total | HV4: Trace | HW4: Light | HX4: Moderate | HY4: Severe | HZ4: Very Sev | IA4: Total | IB4: Trace | IC4: Light | ID4: Moderate | IE4: Severe | IF4: Very Sev | IG4: Total | IH4: Trace | II4: Light | IJ4: Moderate | IK4: Severe | IL4: Very Sev | IM4: TOTAL | IN4: Trace | IO4: Light | IP4: Moderate | IQ4: Severe | IR4: Very Sev | IS4: Total | IT4: Trace | IU4: Light | IV4: Moderate | IW4: Severe | IX4: Very Sev | IY4: Total | IZ4: Trace | JA4: Light | JB4: Moderate | JC4: Severe | JD4: Very Sev | JE4: Total | JF4: Trace | JG4: Light | JH4: Moderate | JI4: Severe | JJ4: Very Sev | JK4: TOTAL | JM4: Trace | JN4: Light | JO4: Moderate | JP4: Severe | JQ4: Very Sev | JR4: TOTAL
A5: Bark Beetles
A6: IBM=Mountain Pine Beetle | B6: 186.4427 | C6: 8412.5629 | D6: 1261.6891 | E6: 330.60115 | G6: =SUM(B6:F6) -> 10191.296 | H6: 79.443188 | I6: 4249.3577 | J6: 240.72682 | K6: 41.052736 | M6: =SUM(H6:L6) -> 4610.5805 | P6: 1.2882007 | Q6: 3.25 | S6: =SUM(N6:R6) -> 4.5382007 | T6: =SUM(B6,H6,N6) -> 265.88589 | U6: =SUM(C6,I6,O6) -> 12661.921 | V6: =SUM(D6,J6,P6) -> 1503.7042 | W6: =SUM(E6,K6,Q6) -> 374.90389 | X6: =SUM(F6,L6,R6) -> 0 | Y6: =SUM(T6:X6) -> 14806.415 | AC6: 0.25 | AE6: =SUM(Z6:AD6) -> 0.25 | AF6: 37.619069 | AI6: 0.75 | AK6: =SUM(AF6:AJ6) -> 38.369069 | AL6: 6222.8975 | AM6: 633.43915 | AO6: 7.75 | AQ6: =SUM(AL6:AP6) -> 6864.0867 | AW6: =SUM(AR6:AV6) -> 0 | BC6: =SUM(AX6:BB6) -> 0 | BD6: =SUM(Z6,AF6,AL6,AR6,AX6) -> 6260.5166 | BE6: =SUM(AA6,AG6,AM6,AS6,AY6) -> 633.43915 | BF6: =SUM(AB6,AH6,AN6,AT6,AZ6) -> 0 | BG6: =SUM(AC6,AI6,AO6,AU6,BA6) -> 8.75 | BH6: =SUM(AD6,AJ6,AP6,AV6,BB6) -> 0 | BI6: =SUM(BD6:BH6) -> 6902.7058 | BJ6: 5476.1409 | BK6: 3570.7468 | BL6: 311.35469 | BM6: 2 | BO6: =SUM(BJ6:BN6) -> 9360.2423 | BP6: 6683.4311 | BQ6: 2432.1297 | BR6: 145.42097 | BS6: 5.5 | BU6: =SUM(BP6:BT6) -> 9266.4818 | BV6: 87206.111 | BW6: 30701.347 | BX6: 2020.6563 | BY6: 134.5401 | BZ6: 539.00544 | CA6: =SUM(BV6:BZ6) -> 120601.66 | CB6: =SUM(BJ6,BP6,BV6) -> 99365.683 | CC6: =SUM(BK6,BQ6,BW6) -> 36704.223 | CD6: =SUM(BL6,BR6,BX6) -> 2477.4319 | CE6: =SUM(BM6,BS6,BY6) -> 142.0401 | CF6: =SUM(BN6,BT6,BZ6) -> 539.00544 | CG6: =SUM(CB6:CF6) -> 139228.38 | CH6: 4652.6048 | CI6: 5468.3926 | CJ6: 1405.6367 | CK6: 312.94912 | CL6: 0.73001317 | CM6: =SUM(CH6:CL6) -> 11840.313 | CN6: 5087.9919 | CO6: 25405.422 | CP6: 7749.0188 | CQ6: 976.44718 | CR6: 43.910976 | CS6: =SUM(CN6:CR6) -> 39262.791 | CT6: 26776.812 | CU6: 58231.873 | CV6: 11366.038 | CW6: 1779.9073 | CX6: 336.20584 | CY6: =SUM(CT6:CX6) -> 98490.836 | CZ6: 14142.82 | DA6: 55611.982 | DB6: 11293.553 | DC6: 1513.5522 | DD6: 205.65951 | DE6: =SUM(CZ6:DD6) -> 82767.567 | DF6: =SUM(CH6,CN6,CT6,CZ6) -> 50660.229 | DG6: =SUM(CI6,CO6,CU6,DA6) -> 144717.67 | DH6: =SUM(CJ6,CP6,CV6,DB6) -> 31814.247 | DI6: =SUM(CK6,CQ6,CW6,DC6) -> 4582.8558 | DJ6: =SUM(CL6,CR6,CX6,DD6) -> 586.50633 | DK6: =SUM(DF6:DJ6) -> 232361.51 | DL6: 4100.665 | DM6: 5713.3757 | DN6: 1980.9671 | DO6: 262.69576 | DQ6: =SUM(DL6:DP6) -> 12057.704 | DR6: 1361.9918 | DS6: 2768.5613 | DT6: 2745.9133 | DU6: 143.5 | DW6: =SUM(DR6:DV6) -> 7019.9664 | DX6: 2356.5055 | DY6: 8965.862 | DZ6: 8162.1466 | EA6: 2478.1826 | EC6: =SUM(DX6:EB6) -> 21962.697 | ED6: 2060.7426 | EE6: 6706.2796 | EF6: 3124.2264 | EG6: 708.41471 | EI6: =SUM(ED6:EH6) -> 12599.663 | EJ6: 2699.7045 | EK6: 12601.017 | EL6: 11648.097 | EM6: 3149.7151 | EO6: =SUM(EJ6:EN6) -> 30098.534 | EP6: 4334.1209 | EQ6: 9132.6142 | ER6: 7581.6089 | ES6: 1217.6222 | ET6: 22.37348 | EU6: =SUM(EP6:ET6) -> 22288.34 | EV6: 1.3199109 | EW6: 74.083053 | EX6: 28.301141 | EY6: 15.75 | FA6: =SUM(EV6:EZ6) -> 119.45411 | FB6: =SUM(DL6,DR6,DX6,ED6,EJ6,EP6,EV6) -> 16915.05 | FC6: =SUM(DM6,DS6,DY6,EE6,EK6,EQ6,EW6) -> 45961.793 | FD6: =SUM(DN6,DT6,DZ6,EF6,EL6,ER6,EX6) -> 35271.261 | FE6: =SUM(DO6,DU6,EA6,EG6,EM6,ES6,EY6) -> 7975.8803 | FF6: =SUM(DP6,DV6,EB6,EH6,EN6,ET6,EZ6) -> 22.37348 | FG6: =SUM(FB6:FF6) -> 106146.36 | FH6: 19725.134 | FI6: 78205.954 | FJ6: 11365.353 | FK6: 4450.9348 | FL6: 1212.6783 | FM6: =SUM(FH6:FL6) -> 114960.05 | FQ6: 2.5 | FS6: =SUM(FN6:FR6) -> 2.5 | FU6: 87.936955 | FW6: 0.25 | FY6: =SUM(FT6:FX6) -> 88.186955 | FZ6: 2123.2288 | GA6: 3192.6521 | GB6: 651.93789 | GC6: 76.75 | GE6: =SUM(FZ6:GD6) -> 6044.5688 | GF6: 2268.3324 | GG6: 6601.8483 | GH6: 137.59974 | GI6: 251.79613 | GK6: =SUM(GF6:GJ6) -> 9259.5766 | GL6: 297248.13 | GM6: 6839.7879 | GN6: 714.64899 | GO6: 347.8232 | GQ6: =SUM(GL6:GP6) -> 305150.39 | GR6: 344093.84 | GS6: 142623.92 | GT6: 15978.256 | GU6: 4673.7229 | GV6: 426.89347 | GW6: =SUM(GR6:GV6) -> 507796.63 | HC6: =SUM(GX6:HB6) -> 0 | HG6: 148.99195 | HI6: =SUM(HD6:HH6) -> 148.99195 | HJ6: =SUM(FH6,FN6,FT6,FZ6,GF6,GL6,GR6,GX6,HD6) -> 665458.67 | HK6: =SUM(FI6,FO6,FU6,GA6,GG6,GM6,GS6,GY6,HE6) -> 237552.1 | HL6: =SUM(FJ6,FP6,FV6,GB6,GH6,GN6,GT6,GZ6,HF6) -> 28847.796 | HM6: =SUM(FK6,FQ6,FW6,GC6,GI6,GO6,GU6,HA6,HG6) -> 9952.769 | HN6: =SUM(FL6,FR6,FX6,GD6,GJ6,GP6,GV6,HB6,HH6) -> 1639.5718 | HO6: =SUM(FM6,FS6,FY6,GE6,GK6,GQ6,GW6,HC6,HI6) -> 943450.9 | HP6: 50826.199 | HQ6: 16359.967 | HR6: 10929.772 | HS6: 2419.1253 | HT6: 1637.0976 | HU6: =SUM(HP6:HT6) -> 82172.161 | HV6: 236075.75 | HW6: 346274.81 | HX6: 701871.8 | HY6: 354713.11 | HZ6: 6639.6739 | IA6: =SUM(HV6:HZ6) -> 1645575.1 | IB6: 703630.63 | IC6: 315591.65 | ID6: 182862.32 | IE6: 2047.995 | IG6: =SUM(IB6:IF6) -> 1204132.6 | IH6: =SUM(HP6,HV6,IB6) -> 990532.58 | II6: =SUM(HQ6,HW6,IC6) -> 678226.42 | IJ6: =SUM(HR6,HX6,ID6) -> 895663.89 | IK6: =SUM(HS6,HY6,IE6) -> 359180.23 | IL6: =SUM(HT6,HZ6,IF6) -> 8276.7715 | IM6: =SUM(HU6,IA6,IG6) -> 2931879.9 | IN6: 438985.89 | IO6: 399329.5 | IP6: 307923.47 | IQ6: 107000.5 | IR6: 6250.4246 | IS6: =SUM(IN6:IR6) -> 1259489.8 | IT6: 788.5359 | IU6: 658.71907 | IV6: 390.82499 | IW6: 55.510577 | IY6: =SUM(IT6:IX6) -> 1893.5905 | IZ6: 116580.35 | JA6: 259158.75 | JB6: 209135.59 | JC6: 30099.123 | JD6: 453.00581 | JE6: =SUM(IZ6:JD6) -> 615426.82 | JF6: =SUM(IN6,IT6,IZ6) -> 556354.78 | JG6: =SUM(IO6,IU6,JA6) -> 659146.97 | JH6: =SUM(IP6,IV6,JB6) -> 517449.88 | JI6: =SUM(IQ6,IW6,JC6) -> 137155.13 | JJ6: =SUM(IR6,IX6,JD6) -> 6703.4304 | JK6: =SUM(JF6:JJ6) -> 1876810.2 | JM6: =SUM(T6,BD6,CB6,DF6,FB6,HJ6,IH6,JF6) -> 2385813.4 | JN6: =SUM(U6,BE6,CC6,DG6,FC6,HK6,II6,JG6) -> 1815604.5 | JO6: =SUM(V6,BF6,CD6,DH6,FD6,HL6,IJ6,JH6) -> 1513028.2 | JP6: =SUM(W6,BG6,CE6,DI6,FE6,HM6,IK6,JI6) -> 519372.56 | JQ6: =SUM(X6,BH6,CF6,DJ6,FF6,HN6,IL6,JJ6) -> 17767.659 | JR6: =SUM(JM6:JQ6) -> 6251586.4
A7: IBS=Spruce Beetle | G7: =SUM(B7:F7) -> 0 | M7: =SUM(H7:L7) -> 0 | O7: 4.0870765 | Q7: 4.9636072 | S7: =SUM(N7:R7) -> 9.0506838 | T7: =SUM(B7,H7,N7) -> 0 | U7: =SUM(C7,I7,O7) -> 4.0870765 | V7: =SUM(D7,J7,P7) -> 0 | W7: =SUM(E7,K7,Q7) -> 4.9636072 | X7: =SUM(F7,L7,R7) -> 0 | Y7: =SUM(T7:X7) -> 9.0506838 | AE7: =SUM(Z7:AD7) -> 0 | AF7: 18.752111 | AG7: 13.407878 | AI7: 3.75 | AK7: =SUM(AF7:AJ7) -> 35.909989 | AO7: 0.75 | AQ7: =SUM(AL7:AP7) -> 0.75 | AW7: =SUM(AR7:AV7) -> 0 | BA7: 0.75 | BC7: =SUM(AX7:BB7) -> 0.75 | BD7: =SUM(Z7,AF7,AL7,AR7,AX7) -> 18.752111 | BE7: =SUM(AA7,AG7,AM7,AS7,AY7) -> 13.407878 | BF7: =SUM(AB7,AH7,AN7,AT7,AZ7) -> 0 | BG7: =SUM(AC7,AI7,AO7,AU7,BA7) -> 5.25 | BH7: =SUM(AD7,AJ7,AP7,AV7,BB7) -> 0 | BI7: =SUM(BD7:BH7) -> 37.409989 | BJ7: 637.96896 | BK7: 3165.256 | BL7: 4817.5289 | BM7: 539.36436 | BN7: 38.231208 | BO7: =SUM(BJ7:BN7) -> 9198.3495 | BP7: 6.5968096 | BQ7: 84.122256 | BS7: 3 | BU7: =SUM(BP7:BT7) -> 93.719065 | BV7: 4151.2161 | BW7: 6822.668 | BX7: 4514.3372 | BY7: 1061.1488 | CA7: =SUM(BV7:BZ7) -> 16549.37 | CB7: =SUM(BJ7,BP7,BV7) -> 4795.7819 | CC7: =SUM(BK7,BQ7,BW7) -> 10072.046 | CD7: =SUM(BL7,BR7,BX7) -> 9331.8661 | CE7: =SUM(BM7,BS7,BY7) -> 1603.5132 | CF7: =SUM(BN7,BT7,BZ7) -> 38.231208 | CG7: =SUM(CB7:CF7) -> 25841.439 | CH7: 448.94906 | CI7: 927.45676 | CJ7: 706.79287 | CK7: 166.29098 | CL7: 50.958845 | CM7: =SUM(CH7:CL7) -> 2300.4485 | CO7: 32.284309 | CP7: 268.85917 | CQ7: 38.42093 | CS7: =SUM(CN7:CR7) -> 339.56441 | CU7: 12.858037 | CV7: 226.99849 | CW7: 23.464293 | CY7: =SUM(CT7:CX7) -> 263.32082 | DA7: 34.2046 | DB7: 83.254289 | DC7: 12.503719 | DE7: =SUM(CZ7:DD7) -> 129.96261 | DF7: =SUM(CH7,CN7,CT7,CZ7) -> 448.94906 | DG7: =SUM(CI7,CO7,CU7,DA7) -> 1006.8037 | DH7: =SUM(CJ7,CP7,CV7,DB7) -> 1285.9048 | DI7: =SUM(CK7,CQ7,CW7,DC7) -> 240.67992 | DJ7: =SUM(CL7,CR7,CX7,DD7) -> 50.958845 | DK7: =SUM(DF7:DJ7) -> 3033.2963 | DO7: 0.25 | DQ7: =SUM(DL7:DP7) -> 0.25 | DW7: =SUM(DR7:DV7) -> 0 | EC7: =SUM(DX7:EB7) -> 0 | EI7: =SUM(ED7:EH7) -> 0 | EJ7: 50.663063 | EK7: 208.43321 | EL7: 207.32436 | EM7: 52.020893 | EO7: =SUM(EJ7:EN7) -> 518.44153 | EU7: =SUM(EP7:ET7) -> 0 | EY7: 0.75 | FA7: =SUM(EV7:EZ7) -> 0.75 | FB7: =SUM(DL7,DR7,DX7,ED7,EJ7,EP7,EV7) -> 50.663063 | FC7: =SUM(DM7,DS7,DY7,EE7,EK7,EQ7,EW7) -> 208.43321 | FD7: =SUM(DN7,DT7,DZ7,EF7,EL7,ER7,EX7) -> 207.32436 | FE7: =SUM(DO7,DU7,EA7,EG7,EM7,ES7,EY7) -> 53.020893 | FF7: =SUM(DP7,DV7,EB7,EH7,EN7,ET7,EZ7) -> 0 | FG7: =SUM(FB7:FF7) -> 519.44153 | FM7: =SUM(FH7:FL7) -> 0 | FS7: =SUM(FN7:FR7) -> 0 | FW7: 0.25 | FY7: =SUM(FT7:FX7) -> 0.25 | GC7: 0.25 | GE7: =SUM(FZ7:GD7) -> 0.25 | GH7: 62.559032 | GI7: 19.713241 | GK7: =SUM(GF7:GJ7) -> 82.272274 | GO7: 2.25 | GQ7: =SUM(GL7:GP7) -> 2.25 | GW7: =SUM(GR7:GV7) -> 0 | HC7: =SUM(GX7:HB7) -> 0 | HI7: =SUM(HD7:HH7) -> 0 | HJ7: =SUM(FH7,FN7,FT7,FZ7,GF7,GL7,GR7,GX7,HD7) -> 0 | HK7: =SUM(FI7,FO7,FU7,GA7,GG7,GM7,GS7,GY7,HE7) -> 0 | HL7: =SUM(FJ7,FP7,FV7,GB7,GH7,GN7,GT7,GZ7,HF7) -> 62.559032 | HM7: =SUM(FK7,FQ7,FW7,GC7,GI7,GO7,GU7,HA7,HG7) -> 22.463241 | HN7: =SUM(FL7,FR7,FX7,GD7,GJ7,GP7,GV7,HB7,HH7) -> 0 | HO7: =SUM(FM7,FS7,FY7,GE7,GK7,GQ7,GW7,HC7,HI7) -> 85.022274 | HP7: 146.97666 | HQ7: 106.54812 | HR7: 291.61295 | HS7: 3.25 | HU7: =SUM(HP7:HT7) -> 548.38772 | IA7: =SUM(HV7:HZ7) -> 0 | IC7: 13.045481 | IE7: 8.5 | IG7: =SUM(IB7:IF7) -> 21.545481 | IH7: =SUM(HP7,HV7,IB7) -> 146.97666 | II7: =SUM(HQ7,HW7,IC7) -> 119.5936 | IJ7: =SUM(HR7,HX7,ID7) -> 291.61295 | IK7: =SUM(HS7,HY7,IE7) -> 11.75 | IL7: =SUM(HT7,HZ7,IF7) -> 0 | IM7: =SUM(HU7,IA7,IG7) -> 569.93321 | IS7: =SUM(IN7:IR7) -> 0 | IY7: =SUM(IT7:IX7) -> 0 | JE7: =SUM(IZ7:JD7) -> 0 | JF7: =SUM(IN7,IT7,IZ7) -> 0 | JG7: =SUM(IO7,IU7,JA7) -> 0 | JH7: =SUM(IP7,IV7,JB7) -> 0 | JI7: =SUM(IQ7,IW7,JC7) -> 0 | JJ7: =SUM(IR7,IX7,JD7) -> 0 | JK7: =SUM(JF7:JJ7) -> 0 | JM7: =SUM(T7,BD7,CB7,DF7,FB7,HJ7,IH7,JF7) -> 5461.1228 | JN7: =SUM(U7,BE7,CC7,DG7,FC7,HK7,II7,JG7) -> 11424.372 | JO7: =SUM(V7,BF7,CD7,DH7,FD7,HL7,IJ7,JH7) -> 11179.267 | JP7: =SUM(W7,BG7,CE7,DI7,FE7,HM7,IK7,JI7) -> 1941.6408 | JQ7: =SUM(X7,BH7,CF7,DJ7,FF7,HN7,IL7,JJ7) -> 89.190053 | JR7: =SUM(HO7,FG7,BI7) -> 641.8738
A8: IBB=Western Balsam Bark Beetle | B8: 60.809581 | C8: 601.50764 | D8: 4.0637188 | E8: 14.75 | G8: =SUM(B8:F8) -> 681.13094 | H8: 608.06265 | I8: 1461.8279 | J8: 19.576086 | K8: 5 | M8: =SUM(H8:L8) -> 2094.4667 | O8: 60.648541 | P8: 10.739643 | Q8: 1.25 | S8: =SUM(N8:R8) -> 72.638185 | T8: =SUM(B8,H8,N8) -> 668.87223 | U8: =SUM(C8,I8,O8) -> 2123.9841 | V8: =SUM(D8,J8,P8) -> 34.379448 | W8: =SUM(E8,K8,Q8) -> 21 | X8: =SUM(F8,L8,R8) -> 0 | Y8: =SUM(T8:X8) -> 2848.2358 | AE8: =SUM(Z8:AD8) -> 0 | AF8: 113.48031 | AI8: 2.5 | AK8: =SUM(AF8:AJ8) -> 115.98031 | AL8: 1457.7917 | AM8: 26.084352 | AO8: 7.25 | AQ8: =SUM(AL8:AP8) -> 1491.126 | AW8: =SUM(AR8:AV8) -> 0 | AY8: 11.304372 | BA8: 0.75 | BC8: =SUM(AX8:BB8) -> 12.054372 | BD8: =SUM(Z8,AF8,AL8,AR8,AX8) -> 1571.272 | BE8: =SUM(AA8,AG8,AM8,AS8,AY8) -> 37.388725 | BF8: =SUM(AB8,AH8,AN8,AT8,AZ8) -> 0 | BG8: =SUM(AC8,AI8,AO8,AU8,BA8) -> 10.5 | BH8: =SUM(AD8,AJ8,AP8,AV8,BB8) -> 0 | BI8: =SUM(BD8:BH8) -> 1619.1607 | BJ8: 2448.0347 | BK8: 1108.7864 | BM8: 3 | BO8: =SUM(BJ8:BN8) -> 3559.8211 | BP8: 16885.685 | BQ8: 392.57577 | BS8: 1 | BU8: =SUM(BP8:BT8) -> 17279.261 | BV8: 14872.891 | BW8: 1855.3018 | BX8: 7.7450924 | BY8: 10.25 | CA8: =SUM(BV8:BZ8) -> 16746.188 | CB8: =SUM(BJ8,BP8,BV8) -> 34206.61 | CC8: =SUM(BK8,BQ8,BW8) -> 3356.664 | CD8: =SUM(BL8,BR8,BX8) -> 7.7450924 | CE8: =SUM(BM8,BS8,BY8) -> 14.25 | CF8: =SUM(BN8,BT8,BZ8) -> 0 | CG8: =SUM(CB8:CF8) -> 37585.269 | CH8: 56720.301 | CI8: 3035.8502 | CJ8: 23.676804 | CM8: =SUM(CH8:CL8) -> 59779.828 | CN8: 1615.5069 | CO8: 7.9115772 | CS8: =SUM(CN8:CR8) -> 1623.4185 | CT8: 2896.8835 | CV8: 4.4526936 | CY8: =SUM(CT8:CX8) -> 2901.3362 | CZ8: 55495.414 | DA8: 1908.9104 | DB8: 10.0403 | DC8: 4.7394623 | DE8: =SUM(CZ8:DD8) -> 57419.104 | DF8: =SUM(CH8,CN8,CT8,CZ8) -> 116728.11 | DG8: =SUM(CI8,CO8,CU8,DA8) -> 4952.6721 | DH8: =SUM(CJ8,CP8,CV8,DB8) -> 38.169798 | DI8: =SUM(CK8,CQ8,CW8,DC8) -> 4.7394623 | DJ8: =SUM(CL8,CR8,CX8,DD8) -> 0 | DK8: =SUM(DF8:DJ8) -> 121723.69 | DL8: 1625.565 | DM8: 523.8107 | DO8: 18.75 | DQ8: =SUM(DL8:DP8) -> 2168.1257 | DR8: 464.64296 | DS8: 62.963843 | DU8: 3 | DW8: =SUM(DR8:DV8) -> 530.60681 | DX8: 891.13837 | DY8: 614.72598 | DZ8: 62.773398 | EA8: 17.25 | EC8: =SUM(DX8:EB8) -> 1585.8877 | ED8: 840.45927 | EE8: 623.12277 | EF8: 39.602232 | EG8: 39.853468 | EI8: =SUM(ED8:EH8) -> 1543.0377 | EJ8: 1438.0801 | EK8: 950.95506 | EL8: 45.59363 | EM8: 14.75 | EO8: =SUM(EJ8:EN8) -> 2449.3787 | EP8: 1113.4023 | EQ8: 438.70231 | ES8: 17 | EU8: =SUM(EP8:ET8) -> 1569.1046 | EV8: 634.69494 | EW8: 9.7443057 | EY8: 13.5 | FA8: =SUM(EV8:EZ8) -> 657.93925 | FB8: =SUM(DL8,DR8,DX8,ED8,EJ8,EP8,EV8) -> 7007.9829 | FC8: =SUM(DM8,DS8,DY8,EE8,EK8,EQ8,EW8) -> 3224.025 | FD8: =SUM(DN8,DT8,DZ8,EF8,EL8,ER8,EX8) -> 147.96926 | FE8: =SUM(DO8,DU8,EA8,EG8,EM8,ES8,EY8) -> 124.10347 | FF8: =SUM(DP8,DV8,EB8,EH8,EN8,ET8,EZ8) -> 0 | FG8: =SUM(FB8:FF8) -> 10504.081 | FH8: 153481.92 | FI8: 1895.7318 | FJ8: 40.719536 | FK8: 19.75 | FM8: =SUM(FH8:FL8) -> 155438.12 | FQ8: 1.75 | FS8: =SUM(FN8:FR8) -> 1.75 | FT8: 7766.7232 | FU8: 96.32499 | FW8: 3 | FY8: =SUM(FT8:FX8) -> 7866.0482 | FZ8: 7725.8709 | GA8: 671.02622 | GC8: 15 | GE8: =SUM(FZ8:GD8) -> 8411.8971 | GF8: 143933.95 | GG8: 2131.0227 | GI8: 62.033979 | GK8: =SUM(GF8:GJ8) -> 146127.01 | GL8: 41249.773 | GM8: 79.995349 | GO8: 26.5 | GQ8: =SUM(GL8:GP8) -> 41356.268 | GR8: 160807.6 | GS8: 2306.6326 | GU8: 16 | GW8: =SUM(GR8:GV8) -> 163130.23 | GX8: 14886.63 | GY8: 123.52667 | HA8: 24 | HC8: =SUM(GX8:HB8) -> 15034.157 | HI8: =SUM(HD8:HH8) -> 0 | HJ8: =SUM(FH8,FN8,FT8,FZ8,GF8,GL8,GR8,GX8,HD8) -> 529852.47 | HK8: =SUM(FI8,FO8,FU8,GA8,GG8,GM8,GS8,GY8,HE8) -> 7304.2604 | HL8: =SUM(FJ8,FP8,FV8,GB8,GH8,GN8,GT8,GZ8,HF8) -> 40.719536 | HM8: =SUM(FK8,FQ8,FW8,GC8,GI8,GO8,GU8,HA8,HG8) -> 168.03398 | HN8: =SUM(FL8,FR8,FX8,GD8,GJ8,GP8,GV8,HB8,HH8) -> 0 | HO8: =SUM(FM8,FS8,FY8,GE8,GK8,GQ8,GW8,HC8,HI8) -> 537365.49 | HP8: 13234.812 | HQ8: 247.28723 | HS8: 0.5 | HU8: =SUM(HP8:HT8) -> 13482.599 | HV8: 332240.91 | HW8: 1958.5098 | HY8: 46 | IA8: =SUM(HV8:HZ8) -> 334245.42 | IB8: 460789.68 | IC8: 34575.203 | IE8: 201.75 | IG8: =SUM(IB8:IF8) -> 495566.63 | IH8: =SUM(HP8,HV8,IB8) -> 806265.4 | II8: =SUM(HQ8,HW8,IC8) -> 36781 | IJ8: =SUM(HR8,HX8,ID8) -> 0 | IK8: =SUM(HS8,HY8,IE8) -> 248.25 | IL8: =SUM(HT8,HZ8,IF8) -> 0 | IM8: =SUM(HU8,IA8,IG8) -> 843294.65 | IN8: 206697.99 | IO8: 715.32125 | IQ8: 43.75 | IS8: =SUM(IN8:IR8) -> 207457.06 | IT8: 3506.4613 | IU8: 5322.1857 | IW8: 6.25 | IY8: =SUM(IT8:IX8) -> 8834.897 | IZ8: 1112.6853 | JA8: 45.934176 | JC8: 3.75 | JE8: =SUM(IZ8:JD8) -> 1162.3695 | JF8: =SUM(IN8,IT8,IZ8) -> 211317.14 | JG8: =SUM(IO8,IU8,JA8) -> 6083.4411 | JH8: =SUM(IP8,IV8,JB8) -> 0 | JI8: =SUM(IQ8,IW8,JC8) -> 53.75 | JJ8: =SUM(IR8,IX8,JD8) -> 0 | JK8: =SUM(JF8:JJ8) -> 217454.33 | JM8: =SUM(T8,BD8,CB8,DF8,FB8,HJ8,IH8,JF8) -> 1707617.8 | JN8: =SUM(U8,BE8,CC8,DG8,FC8,HK8,II8,JG8) -> 63863.435 | JO8: =SUM(V8,BF8,CD8,DH8,FD8,HL8,IJ8,JH8) -> 268.98313 | JP8: =SUM(W8,BG8,CE8,DI8,FE8,HM8,IK8,JI8) -> 644.62691 | JQ8: =SUM(X8,BH8,CF8,DJ8,FF8,HN8,IL8,JJ8) -> 0 | JR8: =SUM(HO8,FG8,BI8) -> 549488.73
A9: IBD=Douglas-fir Beetle | B9: 16.537979 | C9: 998.60614 | D9: 50.986285 | E9: 50.650773 | G9: =SUM(B9:F9) -> 1116.7812 | I9: 15.796623 | J9: 42.754949 | K9: 16.5 | M9: =SUM(H9:L9) -> 75.051572 | O9: 67.676073 | P9: 470.42658 | Q9: 197.87099 | S9: =SUM(N9:R9) -> 735.97365 | T9: =SUM(B9,H9,N9) -> 16.537979 | U9: =SUM(C9,I9,O9) -> 1082.0788 | V9: =SUM(D9,J9,P9) -> 564.16782 | W9: =SUM(E9,K9,Q9) -> 265.02177 | X9: =SUM(F9,L9,R9) -> 0 | Y9: =SUM(T9:X9) -> 1927.8064 | AA9: 1411.93 | AC9: 23.180824 | AE9: =SUM(Z9:AD9) -> 1435.1109 | AG9: 12.843604 | AI9: 7.5 | AK9: =SUM(AF9:AJ9) -> 20.343604 | AM9: 138.94647 | AN9: 10.449857 | AO9: 9.5 | AQ9: =SUM(AL9:AP9) -> 158.89633 | AW9: =SUM(AR9:AV9) -> 0 | AY9: 4.0956374 | BA9: 10.5 | BC9: =SUM(AX9:BB9) -> 14.595637 | BD9: =SUM(Z9,AF9,AL9,AR9,AX9) -> 0 | BE9: =SUM(AA9,AG9,AM9,AS9,AY9) -> 1567.8157 | BF9: =SUM(AB9,AH9,AN9,AT9,AZ9) -> 10.449857 | BG9: =SUM(AC9,AI9,AO9,AU9,BA9) -> 50.680824 | BH9: =SUM(AD9,AJ9,AP9,AV9,BB9) -> 0 | BI9: =SUM(BD9:BH9) -> 1628.9464 | BJ9: 2473.9613 | BK9: 330.43902 | BM9: 66.75 | BO9: =SUM(BJ9:BN9) -> 2871.1503 | BP9: 132.59984 | BQ9: 353.26113 | BR9: 142.30064 | BS9: 25.75 | BU9: =SUM(BP9:BT9) -> 653.91161 | BV9: 2288.833 | BW9: 1208.816 | BY9: 157.75 | CA9: =SUM(BV9:BZ9) -> 3655.399 | CB9: =SUM(BJ9,BP9,BV9) -> 4895.3942 | CC9: =SUM(BK9,BQ9,BW9) -> 1892.5162 | CD9: =SUM(BL9,BR9,BX9) -> 142.30064 | CE9: =SUM(BM9,BS9,BY9) -> 250.25 | CF9: =SUM(BN9,BT9,BZ9) -> 0 | CG9: =SUM(CB9:CF9) -> 7180.461 | CI9: 282.99674 | CJ9: 416.55311 | CK9: 210.07008 | CL9: 7.3602327 | CM9: =SUM(CH9:CL9) -> 916.98016 | CN9: 3.9068127 | CO9: 185.86132 | CP9: 134.18765 | CQ9: 49.073745 | CS9: =SUM(CN9:CR9) -> 373.02953 | CU9: 22.745087 | CV9: 15.501703 | CW9: 7.25 | CY9: =SUM(CT9:CX9) -> 45.49679 | DA9: 185.4163 | DB9: 256.66977 | DC9: 134.705 | DD9: 15.606702 | DE9: =SUM(CZ9:DD9) -> 592.39778 | DF9: =SUM(CH9,CN9,CT9,CZ9) -> 3.9068127 | DG9: =SUM(CI9,CO9,CU9,DA9) -> 677.01945 | DH9: =SUM(CJ9,CP9,CV9,DB9) -> 822.91224 | DI9: =SUM(CK9,CQ9,CW9,DC9) -> 401.09883 | DJ9: =SUM(CL9,CR9,CX9,DD9) -> 22.966935 | DK9: =SUM(DF9:DJ9) -> 1927.9043 | DM9: 50.567059 | DN9: 12.507827 | DO9: 11.75 | DQ9: =SUM(DL9:DP9) -> 74.824885 | DS9: 37.66787 | DU9: 6.25 | DW9: =SUM(DR9:DV9) -> 43.91787 | DX9: 18.690338 | DY9: 84.923444 | DZ9: 72.751082 | EA9: 12.75 | EC9: =SUM(DX9:EB9) -> 189.11486 | ED9: 29.742923 | EE9: 249.25437 | EF9: 60.914444 | EG9: 7.25 | EI9: =SUM(ED9:EH9) -> 347.16174 | EJ9: 47.722144 | EK9: 513.02499 | EL9: 530.8839 | EM9: 6.25 | EO9: =SUM(EJ9:EN9) -> 1097.881 | EQ9: 260.98248 | ER9: 48.154815 | ES9: 11 | EU9: =SUM(EP9:ET9) -> 320.1373 | EV9: 43.578392 | EW9: 137.16272 | EX9: 22.395006 | EY9: 3 | FA9: =SUM(EV9:EZ9) -> 206.13612 | FB9: =SUM(DL9,DR9,DX9,ED9,EJ9,EP9,EV9) -> 139.7338 | FC9: =SUM(DM9,DS9,DY9,EE9,EK9,EQ9,EW9) -> 1333.5829 | FD9: =SUM(DN9,DT9,DZ9,EF9,EL9,ER9,EX9) -> 747.60708 | FE9: =SUM(DO9,DU9,EA9,EG9,EM9,ES9,EY9) -> 58.25 | FF9: =SUM(DP9,DV9,EB9,EH9,EN9,ET9,EZ9) -> 0 | FG9: =SUM(FB9:FF9) -> 2279.1738 | FM9: =SUM(FH9:FL9) -> 0 | FS9: =SUM(FN9:FR9) -> 0 | FY9: =SUM(FT9:FX9) -> 0 | GE9: =SUM(FZ9:GD9) -> 0 | GK9: =SUM(GF9:GJ9) -> 0 | GQ9: =SUM(GL9:GP9) -> 0 | GW9: =SUM(GR9:GV9) -> 0 | HC9: =SUM(GX9:HB9) -> 0 | HI9: =SUM(HD9:HH9) -> 0 | HJ9: =SUM(FH9,FN9,FT9,FZ9,GF9,GL9,GR9,GX9,HD9) -> 0 | HK9: =SUM(FI9,FO9,FU9,GA9,GG9,GM9,GS9,GY9,HE9) -> 0 | HL9: =SUM(FJ9,FP9,FV9,GB9,GH9,GN9,GT9,GZ9,HF9) -> 0 | HM9: =SUM(FK9,FQ9,FW9,GC9,GI9,GO9,GU9,HA9,HG9) -> 0 | HN9: =SUM(FL9,FR9,FX9,GD9,GJ9,GP9,GV9,HB9,HH9) -> 0 | HO9: =SUM(FM9,FS9,FY9,GE9,GK9,GQ9,GW9,HC9,HI9) -> 0 | HS9: 1 | HU9: =SUM(HP9:HT9) -> 1 | IA9: =SUM(HV9:HZ9) -> 0 | IB9: 569.99975 | IC9: 232.56096 | IE9: 40.75 | IG9: =SUM(IB9:IF9) -> 843.31071 | IH9: =SUM(HP9,HV9,IB9) -> 569.99975 | II9: =SUM(HQ9,HW9,IC9) -> 232.56096 | IJ9: =SUM(HR9,HX9,ID9) -> 0 | IK9: =SUM(HS9,HY9,IE9) -> 41.75 | IL9: =SUM(HT9,HZ9,IF9) -> 0 | IM9: =SUM(HU9,IA9,IG9) -> 844.31071 | IS9: =SUM(IN9:IR9) -> 0 | IY9: =SUM(IT9:IX9) -> 0 | JE9: =SUM(IZ9:JD9) -> 0 | JF9: =SUM(IN9,IT9,IZ9) -> 0 | JG9: =SUM(IO9,IU9,JA9) -> 0 | JH9: =SUM(IP9,IV9,JB9) -> 0 | JI9: =SUM(IQ9,IW9,JC9) -> 0 | JJ9: =SUM(IR9,IX9,JD9) -> 0 | JK9: =SUM(JF9:JJ9) -> 0 | JM9: =SUM(T9,BD9,CB9,DF9,FB9,HJ9,IH9,JF9) -> 5625.5725 | JN9: =SUM(U9,BE9,CC9,DG9,FC9,HK9,II9,JG9) -> 6785.5741 | JO9: =SUM(V9,BF9,CD9,DH9,FD9,HL9,IJ9,JH9) -> 2287.4376 | JP9: =SUM(W9,BG9,CE9,DI9,FE9,HM9,IK9,JI9) -> 1067.0514 | JQ9: =SUM(X9,BH9,CF9,DJ9,FF9,HN9,IL9,JJ9) -> 22.966935 | JR9: =SUM(HO9,FG9,BI9) -> 3908.1202
A10: IBF = Fir engraver Beetle | G10: =SUM(B10:F10) -> 0 | M10: =SUM(H10:L10) -> 0 | S10: =SUM(N10:R10) -> 0 | T10: =SUM(B10,H10,N10) -> 0 | U10: =SUM(C10,I10,O10) -> 0 | V10: =SUM(D10,J10,P10) -> 0 | W10: =SUM(E10,K10,Q10) -> 0 | X10: =SUM(F10,L10,R10) -> 0 | Y10: =SUM(T10:X10) -> 0 | AE10: =SUM(Z10:AD10) -> 0 | AK10: =SUM(AF10:AJ10) -> 0 | AQ10: =SUM(AL10:AP10) -> 0 | AW10: =SUM(AR10:AV10) -> 0 | BC10: =SUM(AX10:BB10) -> 0 | BD10: =SUM(Z10,AF10,AL10,AR10,AX10) -> 0 | BE10: =SUM(AA10,AG10,AM10,AS10,AY10) -> 0 | BF10: =SUM(AB10,AH10,AN10,AT10,AZ10) -> 0 | BG10: =SUM(AC10,AI10,AO10,AU10,BA10) -> 0 | BH10: =SUM(AD10,AJ10,AP10,AV10,BB10) -> 0 | BI10: =SUM(BD10:BH10) -> 0 | BO10: =SUM(BJ10:BN10) -> 0 | BU10: =SUM(BP10:BT10) -> 0 | CA10: =SUM(BV10:BZ10) -> 0 | CB10: =SUM(BJ10,BP10,BV10) -> 0 | CC10: =SUM(BK10,BQ10,BW10) -> 0 | CD10: =SUM(BL10,BR10,BX10) -> 0 | CE10: =SUM(BM10,BS10,BY10) -> 0 | CF10: =SUM(BN10,BT10,BZ10) -> 0 | CG10: =SUM(CB10:CF10) -> 0 | CM10: =SUM(CH10:CL10) -> 0 | CS10: =SUM(CN10:CR10) -> 0 | CY10: =SUM(CT10:CX10) -> 0 | DE10: =SUM(CZ10:DD10) -> 0 | DF10: =SUM(CH10,CN10,CT10,CZ10) -> 0 | DG10: =SUM(CI10,CO10,CU10,DA10) -> 0 | DH10: =SUM(CJ10,CP10,CV10,DB10) -> 0 | DI10: =SUM(CK10,CQ10,CW10,DC10) -> 0 | DJ10: =SUM(CL10,CR10,CX10,DD10) -> 0 | DK10: =SUM(DF10:DJ10) -> 0 | DQ10: =SUM(DL10:DP10) -> 0 | DW10: =SUM(DR10:DV10) -> 0 | EC10: =SUM(DX10:EB10) -> 0 | EI10: =SUM(ED10:EH10) -> 0 | EO10: =SUM(EJ10:EN10) -> 0 | EU10: =SUM(EP10:ET10) -> 0 | FA10: =SUM(EV10:EZ10) -> 0 | FB10: =SUM(DL10,DR10,DX10,ED10,EJ10,EP10,EV10) -> 0 | FC10: =SUM(DM10,DS10,DY10,EE10,EK10,EQ10,EW10) -> 0 | FD10: =SUM(DN10,DT10,DZ10,EF10,EL10,ER10,EX10) -> 0 | FE10: =SUM(DO10,DU10,EA10,EG10,EM10,ES10,EY10) -> 0 | FF10: =SUM(DP10,DV10,EB10,EH10,EN10,ET10,EZ10) -> 0 | FG10: =SUM(FB10:FF10) -> 0 | FM10: =SUM(FH10:FL10) -> 0 | FS10: =SUM(FN10:FR10) -> 0 | FY10: =SUM(FT10:FX10) -> 0 | GE10: =SUM(FZ10:GD10) -> 0 | GK10: =SUM(GF10:GJ10) -> 0 | GQ10: =SUM(GL10:GP10) -> 0 | GW10: =SUM(GR10:GV10) -> 0 | HC10: =SUM(GX10:HB10) -> 0 | HI10: =SUM(HD10:HH10) -> 0 | HJ10: =SUM(FH10,FN10,FT10,FZ10,GF10,GL10,GR10,GX10,HD10) -> 0 | HK10: =SUM(FI10,FO10,FU10,GA10,GG10,GM10,GS10,GY10,HE10) -> 0 | HL10: =SUM(FJ10,FP10,FV10,GB10,GH10,GN10,GT10,GZ10,HF10) -> 0 | HM10: =SUM(FK10,FQ10,FW10,GC10,GI10,GO10,GU10,HA10,HG10) -> 0 | HN10: =SUM(FL10,FR10,FX10,GD10,GJ10,GP10,GV10,HB10,HH10) -> 0 | HO10: =SUM(FM10,FS10,FY10,GE10,GK10,GQ10,GW10,HC10,HI10) -> 0 | HU10: =SUM(HP10:HT10) -> 0 | IA10: =SUM(HV10:HZ10) -> 0 | IG10: =SUM(IB10:IF10) -> 0 | IH10: =SUM(HP10,HV10,IB10) -> 0 | II10: =SUM(HQ10,HW10,IC10) -> 0 | IJ10: =SUM(HR10,HX10,ID10) -> 0 | IK10: =SUM(HS10,HY10,IE10) -> 0 | IL10: =SUM(HT10,HZ10,IF10) -> 0 | IM10: =SUM(HU10,IA10,IG10) -> 0 | IS10: =SUM(IN10:IR10) -> 0 | IY10: =SUM(IT10:IX10) -> 0 | JE10: =SUM(IZ10:JD10) -> 0 | JF10: =SUM(IN10,IT10,IZ10) -> 0 | JG10: =SUM(IO10,IU10,JA10) -> 0 | JH10: =SUM(IP10,IV10,JB10) -> 0 | JI10: =SUM(IQ10,IW10,JC10) -> 0 | JJ10: =SUM(IR10,IX10,JD10) -> 0 | JK10: =SUM(JF10:JJ10) -> 0 | JM10: =SUM(T10,BD10,CB10,DF10,FB10,HJ10,IH10,JF10) -> 0 | JN10: =SUM(U10,BE10,CC10,DG10,FC10,HK10,II10,JG10) -> 0 | JO10: =SUM(V10,BF10,CD10,DH10,FD10,HL10,IJ10,JH10) -> 0 | JP10: =SUM(W10,BG10,CE10,DI10,FE10,HM10,IK10,JI10) -> 0 | JQ10: =SUM(X10,BH10,CF10,DJ10,FF10,HN10,IL10,JJ10) -> 0 | JR10: =SUM(HO10,FG10,BI10) -> 0
A11: IBP = Twig Beetle | G11: =SUM(B11:F11) -> 0 | M11: =SUM(H11:L11) -> 0 | S11: =SUM(N11:R11) -> 0 | T11: =SUM(B11,H11,N11) -> 0 | U11: =SUM(C11,I11,O11) -> 0 | V11: =SUM(D11,J11,P11) -> 0 | W11: =SUM(E11,K11,Q11) -> 0 | X11: =SUM(F11,L11,R11) -> 0 | Y11: =SUM(T11:X11) -> 0 | AE11: =SUM(Z11:AD11) -> 0 | AK11: =SUM(AF11:AJ11) -> 0 | AQ11: =SUM(AL11:AP11) -> 0 | AW11: =SUM(AR11:AV11) -> 0 | BC11: =SUM(AX11:BB11) -> 0 | BD11: =SUM(Z11,AF11,AL11,AR11,AX11) -> 0 | BE11: =SUM(AA11,AG11,AM11,AS11,AY11) -> 0 | BF11: =SUM(AB11,AH11,AN11,AT11,AZ11) -> 0 | BG11: =SUM(AC11,AI11,AO11,AU11,BA11) -> 0 | BH11: =SUM(AD11,AJ11,AP11,AV11,BB11) -> 0 | BI11: =SUM(BD11:BH11) -> 0 | BO11: =SUM(BJ11:BN11) -> 0 | BU11: =SUM(BP11:BT11) -> 0 | CA11: =SUM(BV11:BZ11) -> 0 | CB11: =SUM(BJ11,BP11,BV11) -> 0 | CC11: =SUM(BK11,BQ11,BW11) -> 0 | CD11: =SUM(BL11,BR11,BX11) -> 0 | CE11: =SUM(BM11,BS11,BY11) -> 0 | CF11: =SUM(BN11,BT11,BZ11) -> 0 | CG11: =SUM(CB11:CF11) -> 0 | CM11: =SUM(CH11:CL11) -> 0 | CS11: =SUM(CN11:CR11) -> 0 | CY11: =SUM(CT11:CX11) -> 0 | DE11: =SUM(CZ11:DD11) -> 0 | DF11: =SUM(CH11,CN11,CT11,CZ11) -> 0 | DG11: =SUM(CI11,CO11,CU11,DA11) -> 0 | DH11: =SUM(CJ11,CP11,CV11,DB11) -> 0 | DI11: =SUM(CK11,CQ11,CW11,DC11) -> 0 | DJ11: =SUM(CL11,CR11,CX11,DD11) -> 0 | DK11: =SUM(DF11:DJ11) -> 0 | DQ11: =SUM(DL11:DP11) -> 0 | DW11: =SUM(DR11:DV11) -> 0 | EC11: =SUM(DX11:EB11) -> 0 | EI11: =SUM(ED11:EH11) -> 0 | EO11: =SUM(EJ11:EN11) -> 0 | EU11: =SUM(EP11:ET11) -> 0 | FA11: =SUM(EV11:EZ11) -> 0 | FB11: =SUM(DL11,DR11,DX11,ED11,EJ11,EP11,EV11) -> 0 | FC11: =SUM(DM11,DS11,DY11,EE11,EK11,EQ11,EW11) -> 0 | FD11: =SUM(DN11,DT11,DZ11,EF11,EL11,ER11,EX11) -> 0 | FE11: =SUM(DO11,DU11,EA11,EG11,EM11,ES11,EY11) -> 0 | FF11: =SUM(DP11,DV11,EB11,EH11,EN11,ET11,EZ11) -> 0 | FG11: =SUM(FB11:FF11) -> 0 | FM11: =SUM(FH11:FL11) -> 0 | FS11: =SUM(FN11:FR11) -> 0 | FY11: =SUM(FT11:FX11) -> 0 | GE11: =SUM(FZ11:GD11) -> 0 | GK11: =SUM(GF11:GJ11) -> 0 | GQ11: =SUM(GL11:GP11) -> 0 | GW11: =SUM(GR11:GV11) -> 0 | HC11: =SUM(GX11:HB11) -> 0 | HI11: =SUM(HD11:HH11) -> 0 | HJ11: =SUM(FH11,FN11,FT11,FZ11,GF11,GL11,GR11,GX11,HD11) -> 0 | HK11: =SUM(FI11,FO11,FU11,GA11,GG11,GM11,GS11,GY11,HE11) -> 0 | HL11: =SUM(FJ11,FP11,FV11,GB11,GH11,GN11,GT11,GZ11,HF11) -> 0 | HM11: =SUM(FK11,FQ11,FW11,GC11,GI11,GO11,GU11,HA11,HG11) -> 0 | HN11: =SUM(FL11,FR11,FX11,GD11,GJ11,GP11,GV11,HB11,HH11) -> 0 | HO11: =SUM(FM11,FS11,FY11,GE11,GK11,GQ11,GW11,HC11,HI11) -> 0 | HU11: =SUM(HP11:HT11) -> 0 | IA11: =SUM(HV11:HZ11) -> 0 | IG11: =SUM(IB11:IF11) -> 0 | IH11: =SUM(HP11,HV11,IB11) -> 0 | II11: =SUM(HQ11,HW11,IC11) -> 0 | IJ11: =SUM(HR11,HX11,ID11) -> 0 | IK11: =SUM(HS11,HY11,IE11) -> 0 | IL11: =SUM(HT11,HZ11,IF11) -> 0 | IM11: =SUM(HU11,IA11,IG11) -> 0 | IS11: =SUM(IN11:IR11) -> 0 | IY11: =SUM(IT11:IX11) -> 0 | JE11: =SUM(IZ11:JD11) -> 0 | JF11: =SUM(IN11,IT11,IZ11) -> 0 | JG11: =SUM(IO11,IU11,JA11) -> 0 | JH11: =SUM(IP11,IV11,JB11) -> 0 | JI11: =SUM(IQ11,IW11,JC11) -> 0 | JJ11: =SUM(IR11,IX11,JD11) -> 0 | JK11: =SUM(JF11:JJ11) -> 0 | JM11: =SUM(T11,BD11,CB11,DF11,FB11,HJ11,IH11,JF11) -> 0 | JN11: =SUM(U11,BE11,CC11,DG11,FC11,HK11,II11,JG11) -> 0 | JO11: =SUM(V11,BF11,CD11,DH11,FD11,HL11,IJ11,JH11) -> 0 | JP11: =SUM(W11,BG11,CE11,DI11,FE11,HM11,IK11,JI11) -> 0 | JQ11: =SUM(X11,BH11,CF11,DJ11,FF11,HN11,IL11,JJ11) -> 0 | JR11: =SUM(HO11,FG11,BI11) -> 0
A12: IBI=Engraver Beetle (Ips species) | G12: =SUM(B12:F12) -> 0 | M12: =SUM(H12:L12) -> 0 | S12: =SUM(N12:R12) -> 0 | T12: =SUM(B12,H12,N12) -> 0 | U12: =SUM(C12,I12,O12) -> 0 | V12: =SUM(D12,J12,P12) -> 0 | W12: =SUM(E12,K12,Q12) -> 0 | X12: =SUM(F12,L12,R12) -> 0 | Y12: =SUM(T12:X12) -> 0 | AE12: =SUM(Z12:AD12) -> 0 | AK12: =SUM(AF12:AJ12) -> 0 | AQ12: =SUM(AL12:AP12) -> 0 | AW12: =SUM(AR12:AV12) -> 0 | BC12: =SUM(AX12:BB12) -> 0 | BD12: =SUM(Z12,AF12,AL12,AR12,AX12) -> 0 | BE12: =SUM(AA12,AG12,AM12,AS12,AY12) -> 0 | BF12: =SUM(AB12,AH12,AN12,AT12,AZ12) -> 0 | BG12: =SUM(AC12,AI12,AO12,AU12,BA12) -> 0 | BH12: =SUM(AD12,AJ12,AP12,AV12,BB12) -> 0 | BI12: =SUM(BD12:BH12) -> 0 | BO12: =SUM(BJ12:BN12) -> 0 | BU12: =SUM(BP12:BT12) -> 0 | CA12: =SUM(BV12:BZ12) -> 0 | CB12: =SUM(BJ12,BP12,BV12) -> 0 | CC12: =SUM(BK12,BQ12,BW12) -> 0 | CD12: =SUM(BL12,BR12,BX12) -> 0 | CE12: =SUM(BM12,BS12,BY12) -> 0 | CF12: =SUM(BN12,BT12,BZ12) -> 0 | CG12: =SUM(CB12:CF12) -> 0 | CM12: =SUM(CH12:CL12) -> 0 | CS12: =SUM(CN12:CR12) -> 0 | CY12: =SUM(CT12:CX12) -> 0 | DE12: =SUM(CZ12:DD12) -> 0 | DF12: =SUM(CH12,CN12,CT12,CZ12) -> 0 | DG12: =SUM(CI12,CO12,CU12,DA12) -> 0 | DH12: =SUM(CJ12,CP12,CV12,DB12) -> 0 | DI12: =SUM(CK12,CQ12,CW12,DC12) -> 0 | DJ12: =SUM(CL12,CR12,CX12,DD12) -> 0 | DK12: =SUM(DF12:DJ12) -> 0 | DQ12: =SUM(DL12:DP12) -> 0 | DW12: =SUM(DR12:DV12) -> 0 | EC12: =SUM(DX12:EB12) -> 0 | EI12: =SUM(ED12:EH12) -> 0 | EO12: =SUM(EJ12:EN12) -> 0 | EU12: =SUM(EP12:ET12) -> 0 | FA12: =SUM(EV12:EZ12) -> 0 | FB12: =SUM(DL12,DR12,DX12,ED12,EJ12,EP12,EV12) -> 0 | FC12: =SUM(DM12,DS12,DY12,EE12,EK12,EQ12,EW12) -> 0 | FD12: =SUM(DN12,DT12,DZ12,EF12,EL12,ER12,EX12) -> 0 | FE12: =SUM(DO12,DU12,EA12,EG12,EM12,ES12,EY12) -> 0 | FF12: =SUM(DP12,DV12,EB12,EH12,EN12,ET12,EZ12) -> 0 | FG12: =SUM(FB12:FF12) -> 0 | FM12: =SUM(FH12:FL12) -> 0 | FS12: =SUM(FN12:FR12) -> 0 | FY12: =SUM(FT12:FX12) -> 0 | GE12: =SUM(FZ12:GD12) -> 0 | GK12: =SUM(GF12:GJ12) -> 0 | GQ12: =SUM(GL12:GP12) -> 0 | GW12: =SUM(GR12:GV12) -> 0 | HC12: =SUM(GX12:HB12) -> 0 | HI12: =SUM(HD12:HH12) -> 0 | HJ12: =SUM(FH12,FN12,FT12,FZ12,GF12,GL12,GR12,GX12,HD12) -> 0 | HK12: =SUM(FI12,FO12,FU12,GA12,GG12,GM12,GS12,GY12,HE12) -> 0 | HL12: =SUM(FJ12,FP12,FV12,GB12,GH12,GN12,GT12,GZ12,HF12) -> 0 | HM12: =SUM(FK12,FQ12,FW12,GC12,GI12,GO12,GU12,HA12,HG12) -> 0 | HN12: =SUM(FL12,FR12,FX12,GD12,GJ12,GP12,GV12,HB12,HH12) -> 0 | HO12: =SUM(FM12,FS12,FY12,GE12,GK12,GQ12,GW12,HC12,HI12) -> 0 | HU12: =SUM(HP12:HT12) -> 0 | IA12: =SUM(HV12:HZ12) -> 0 | IG12: =SUM(IB12:IF12) -> 0 | IH12: =SUM(HP12,HV12,IB12) -> 0 | II12: =SUM(HQ12,HW12,IC12) -> 0 | IJ12: =SUM(HR12,HX12,ID12) -> 0 | IK12: =SUM(HS12,HY12,IE12) -> 0 | IL12: =SUM(HT12,HZ12,IF12) -> 0 | IM12: =SUM(HU12,IA12,IG12) -> 0 | IS12: =SUM(IN12:IR12) -> 0 | IY12: =SUM(IT12:IX12) -> 0 | JE12: =SUM(IZ12:JD12) -> 0 | JF12: =SUM(IN12,IT12,IZ12) -> 0 | JG12: =SUM(IO12,IU12,JA12) -> 0 | JH12: =SUM(IP12,IV12,JB12) -> 0 | JI12: =SUM(IQ12,IW12,JC12) -> 0 | JJ12: =SUM(IR12,IX12,JD12) -> 0 | JK12: =SUM(JF12:JJ12) -> 0 | JM12: =SUM(T12,BD12,CB12,DF12,FB12,HJ12,IH12,JF12) -> 0 | JN12: =SUM(U12,BE12,CC12,DG12,FC12,HK12,II12,JG12) -> 0 | JO12: =SUM(V12,BF12,CD12,DH12,FD12,HL12,IJ12,JH12) -> 0 | JP12: =SUM(W12,BG12,CE12,DI12,FE12,HM12,IK12,JI12) -> 0 | JQ12: =SUM(X12,BH12,CF12,DJ12,FF12,HN12,IL12,JJ12) -> 0 | JR12: =SUM(HO12,FG12,BI12) -> 0
A13: IBW=Western Pine Beetle | G13: =SUM(B13:F13) -> 0 | M13: =SUM(H13:L13) -> 0 | S13: =SUM(N13:R13) -> 0 | T13: =SUM(B13,H13,N13) -> 0 | U13: =SUM(C13,I13,O13) -> 0 | V13: =SUM(D13,J13,P13) -> 0 | W13: =SUM(E13,K13,Q13) -> 0 | X13: =SUM(F13,L13,R13) -> 0 | Y13: =SUM(T13:X13) -> 0 | AE13: =SUM(Z13:AD13) -> 0 | AK13: =SUM(AF13:AJ13) -> 0 | AQ13: =SUM(AL13:AP13) -> 0 | AW13: =SUM(AR13:AV13) -> 0 | BC13: =SUM(AX13:BB13) -> 0 | BD13: =SUM(Z13,AF13,AL13,AR13,AX13) -> 0 | BE13: =SUM(AA13,AG13,AM13,AS13,AY13) -> 0 | BF13: =SUM(AB13,AH13,AN13,AT13,AZ13) -> 0 | BG13: =SUM(AC13,AI13,AO13,AU13,BA13) -> 0 | BH13: =SUM(AD13,AJ13,AP13,AV13,BB13) -> 0 | BI13: =SUM(BD13:BH13) -> 0 | BO13: =SUM(BJ13:BN13) -> 0 | BU13: =SUM(BP13:BT13) -> 0 | CA13: =SUM(BV13:BZ13) -> 0 | CB13: =SUM(BJ13,BP13,BV13) -> 0 | CC13: =SUM(BK13,BQ13,BW13) -> 0 | CD13: =SUM(BL13,BR13,BX13) -> 0 | CE13: =SUM(BM13,BS13,BY13) -> 0 | CF13: =SUM(BN13,BT13,BZ13) -> 0 | CG13: =SUM(CB13:CF13) -> 0 | CM13: =SUM(CH13:CL13) -> 0 | CS13: =SUM(CN13:CR13) -> 0 | CY13: =SUM(CT13:CX13) -> 0 | DE13: =SUM(CZ13:DD13) -> 0 | DF13: =SUM(CH13,CN13,CT13,CZ13) -> 0 | DG13: =SUM(CI13,CO13,CU13,DA13) -> 0 | DH13: =SUM(CJ13,CP13,CV13,DB13) -> 0 | DI13: =SUM(CK13,CQ13,CW13,DC13) -> 0 | DJ13: =SUM(CL13,CR13,CX13,DD13) -> 0 | DK13: =SUM(DF13:DJ13) -> 0 | DQ13: =SUM(DL13:DP13) -> 0 | DW13: =SUM(DR13:DV13) -> 0 | EC13: =SUM(DX13:EB13) -> 0 | EI13: =SUM(ED13:EH13) -> 0 | EO13: =SUM(EJ13:EN13) -> 0 | EU13: =SUM(EP13:ET13) -> 0 | FA13: =SUM(EV13:EZ13) -> 0 | FB13: =SUM(DL13,DR13,DX13,ED13,EJ13,EP13,EV13) -> 0 | FC13: =SUM(DM13,DS13,DY13,EE13,EK13,EQ13,EW13) -> 0 | FD13: =SUM(DN13,DT13,DZ13,EF13,EL13,ER13,EX13) -> 0 | FE13: =SUM(DO13,DU13,EA13,EG13,EM13,ES13,EY13) -> 0 | FF13: =SUM(DP13,DV13,EB13,EH13,EN13,ET13,EZ13) -> 0 | FG13: =SUM(FB13:FF13) -> 0 | FM13: =SUM(FH13:FL13) -> 0 | FS13: =SUM(FN13:FR13) -> 0 | FY13: =SUM(FT13:FX13) -> 0 | GE13: =SUM(FZ13:GD13) -> 0 | GK13: =SUM(GF13:GJ13) -> 0 | GQ13: =SUM(GL13:GP13) -> 0 | GW13: =SUM(GR13:GV13) -> 0 | HC13: =SUM(GX13:HB13) -> 0 | HI13: =SUM(HD13:HH13) -> 0 | HJ13: =SUM(FH13,FN13,FT13,FZ13,GF13,GL13,GR13,GX13,HD13) -> 0 | HK13: =SUM(FI13,FO13,FU13,GA13,GG13,GM13,GS13,GY13,HE13) -> 0 | HL13: =SUM(FJ13,FP13,FV13,GB13,GH13,GN13,GT13,GZ13,HF13) -> 0 | HM13: =SUM(FK13,FQ13,FW13,GC13,GI13,GO13,GU13,HA13,HG13) -> 0 | HN13: =SUM(FL13,FR13,FX13,GD13,GJ13,GP13,GV13,HB13,HH13) -> 0 | HO13: =SUM(FM13,FS13,FY13,GE13,GK13,GQ13,GW13,HC13,HI13) -> 0 | HU13: =SUM(HP13:HT13) -> 0 | IA13: =SUM(HV13:HZ13) -> 0 | IG13: =SUM(IB13:IF13) -> 0 | IH13: =SUM(HP13,HV13,IB13) -> 0 | II13: =SUM(HQ13,HW13,IC13) -> 0 | IJ13: =SUM(HR13,HX13,ID13) -> 0 | IK13: =SUM(HS13,HY13,IE13) -> 0 | IL13: =SUM(HT13,HZ13,IF13) -> 0 | IM13: =SUM(HU13,IA13,IG13) -> 0 | IS13: =SUM(IN13:IR13) -> 0 | IY13: =SUM(IT13:IX13) -> 0 | JE13: =SUM(IZ13:JD13) -> 0 | JF13: =SUM(IN13,IT13,IZ13) -> 0 | JG13: =SUM(IO13,IU13,JA13) -> 0 | JH13: =SUM(IP13,IV13,JB13) -> 0 | JI13: =SUM(IQ13,IW13,JC13) -> 0 | JJ13: =SUM(IR13,IX13,JD13) -> 0 | JK13: =SUM(JF13:JJ13) -> 0 | JM13: =SUM(T13,BD13,CB13,DF13,FB13,HJ13,IH13,JF13) -> 0 | JN13: =SUM(U13,BE13,CC13,DG13,FC13,HK13,II13,JG13) -> 0 | JO13: =SUM(V13,BF13,CD13,DH13,FD13,HL13,IJ13,JH13) -> 0 | JP13: =SUM(W13,BG13,CE13,DI13,FE13,HM13,IK13,JI13) -> 0 | JQ13: =SUM(X13,BH13,CF13,DJ13,FF13,HN13,IL13,JJ13) -> 0 | JR13: =SUM(HO13,FG13,BI13) -> 0
A14: IBL=Lodgepole Pine Beetle | G14: =SUM(B14:F14) -> 0 | M14: =SUM(H14:L14) -> 0 | S14: =SUM(N14:R14) -> 0 | T14: =SUM(B14,H14,N14) -> 0 | U14: =SUM(C14,I14,O14) -> 0 | V14: =SUM(D14,J14,P14) -> 0 | W14: =SUM(E14,K14,Q14) -> 0 | X14: =SUM(F14,L14,R14) -> 0 | Y14: =SUM(T14:X14) -> 0 | AE14: =SUM(Z14:AD14) -> 0 | AK14: =SUM(AF14:AJ14) -> 0 | AQ14: =SUM(AL14:AP14) -> 0 | AW14: =SUM(AR14:AV14) -> 0 | BC14: =SUM(AX14:BB14) -> 0 | BD14: =SUM(Z14,AF14,AL14,AR14,AX14) -> 0 | BE14: =SUM(AA14,AG14,AM14,AS14,AY14) -> 0 | BF14: =SUM(AB14,AH14,AN14,AT14,AZ14) -> 0 | BG14: =SUM(AC14,AI14,AO14,AU14,BA14) -> 0 | BH14: =SUM(AD14,AJ14,AP14,AV14,BB14) -> 0 | BI14: =SUM(BD14:BH14) -> 0 | BO14: =SUM(BJ14:BN14) -> 0 | BU14: =SUM(BP14:BT14) -> 0 | CA14: =SUM(BV14:BZ14) -> 0 | CB14: =SUM(BJ14,BP14,BV14) -> 0 | CC14: =SUM(BK14,BQ14,BW14) -> 0 | CD14: =SUM(BL14,BR14,BX14) -> 0 | CE14: =SUM(BM14,BS14,BY14) -> 0 | CF14: =SUM(BN14,BT14,BZ14) -> 0 | CG14: =SUM(CB14:CF14) -> 0 | CM14: =SUM(CH14:CL14) -> 0 | CS14: =SUM(CN14:CR14) -> 0 | CY14: =SUM(CT14:CX14) -> 0 | DE14: =SUM(CZ14:DD14) -> 0 | DF14: =SUM(CH14,CN14,CT14,CZ14) -> 0 | DG14: =SUM(CI14,CO14,CU14,DA14) -> 0 | DH14: =SUM(CJ14,CP14,CV14,DB14) -> 0 | DI14: =SUM(CK14,CQ14,CW14,DC14) -> 0 | DJ14: =SUM(CL14,CR14,CX14,DD14) -> 0 | DK14: =SUM(DF14:DJ14) -> 0 | DQ14: =SUM(DL14:DP14) -> 0 | DW14: =SUM(DR14:DV14) -> 0 | EC14: =SUM(DX14:EB14) -> 0 | EI14: =SUM(ED14:EH14) -> 0 | EO14: =SUM(EJ14:EN14) -> 0 | EU14: =SUM(EP14:ET14) -> 0 | FA14: =SUM(EV14:EZ14) -> 0 | FB14: =SUM(DL14,DR14,DX14,ED14,EJ14,EP14,EV14) -> 0 | FC14: =SUM(DM14,DS14,DY14,EE14,EK14,EQ14,EW14) -> 0 | FD14: =SUM(DN14,DT14,DZ14,EF14,EL14,ER14,EX14) -> 0 | FE14: =SUM(DO14,DU14,EA14,EG14,EM14,ES14,EY14) -> 0 | FF14: =SUM(DP14,DV14,EB14,EH14,EN14,ET14,EZ14) -> 0 | FG14: =SUM(FB14:FF14) -> 0 | FM14: =SUM(FH14:FL14) -> 0 | FS14: =SUM(FN14:FR14) -> 0 | FY14: =SUM(FT14:FX14) -> 0 | GE14: =SUM(FZ14:GD14) -> 0 | GK14: =SUM(GF14:GJ14) -> 0 | GQ14: =SUM(GL14:GP14) -> 0 | GW14: =SUM(GR14:GV14) -> 0 | HC14: =SUM(GX14:HB14) -> 0 | HI14: =SUM(HD14:HH14) -> 0 | HJ14: =SUM(FH14,FN14,FT14,FZ14,GF14,GL14,GR14,GX14,HD14) -> 0 | HK14: =SUM(FI14,FO14,FU14,GA14,GG14,GM14,GS14,GY14,HE14) -> 0 | HL14: =SUM(FJ14,FP14,FV14,GB14,GH14,GN14,GT14,GZ14,HF14) -> 0 | HM14: =SUM(FK14,FQ14,FW14,GC14,GI14,GO14,GU14,HA14,HG14) -> 0 | HN14: =SUM(FL14,FR14,FX14,GD14,GJ14,GP14,GV14,HB14,HH14) -> 0 | HO14: =SUM(FM14,FS14,FY14,GE14,GK14,GQ14,GW14,HC14,HI14) -> 0 | HU14: =SUM(HP14:HT14) -> 0 | IA14: =SUM(HV14:HZ14) -> 0 | IG14: =SUM(IB14:IF14) -> 0 | IH14: =SUM(HP14,HV14,IB14) -> 0 | II14: =SUM(HQ14,HW14,IC14) -> 0 | IJ14: =SUM(HR14,HX14,ID14) -> 0 | IK14: =SUM(HS14,HY14,IE14) -> 0 | IL14: =SUM(HT14,HZ14,IF14) -> 0 | IM14: =SUM(HU14,IA14,IG14) -> 0 | IS14: =SUM(IN14:IR14) -> 0 | IY14: =SUM(IT14:IX14) -> 0 | JE14: =SUM(IZ14:JD14) -> 0 | JF14: =SUM(IN14,IT14,IZ14) -> 0 | JG14: =SUM(IO14,IU14,JA14) -> 0 | JH14: =SUM(IP14,IV14,JB14) -> 0 | JI14: =SUM(IQ14,IW14,JC14) -> 0 | JJ14: =SUM(IR14,IX14,JD14) -> 0 | JK14: =SUM(JF14:JJ14) -> 0 | JM14: =SUM(T14,BD14,CB14,DF14,FB14,HJ14,IH14,JF14) -> 0 | JN14: =SUM(U14,BE14,CC14,DG14,FC14,HK14,II14,JG14) -> 0 | JO14: =SUM(V14,BF14,CD14,DH14,FD14,HL14,IJ14,JH14) -> 0 | JP14: =SUM(W14,BG14,CE14,DI14,FE14,HM14,IK14,JI14) -> 0 | JQ14: =SUM(X14,BH14,CF14,DJ14,FF14,HN14,IL14,JJ14) -> 0 | JR14: =SUM(HO14,FG14,BI14) -> 0
A15: IBT=Red Turpentine Beetle | G15: =SUM(B15:F15) -> 0 | M15: =SUM(H15:L15) -> 0 | S15: =SUM(N15:R15) -> 0 | T15: =SUM(B15,H15,N15) -> 0 | U15: =SUM(C15,I15,O15) -> 0 | V15: =SUM(D15,J15,P15) -> 0 | W15: =SUM(E15,K15,Q15) -> 0 | X15: =SUM(F15,L15,R15) -> 0 | Y15: =SUM(T15:X15) -> 0 | AE15: =SUM(Z15:AD15) -> 0 | AK15: =SUM(AF15:AJ15) -> 0 | AQ15: =SUM(AL15:AP15) -> 0 | AW15: =SUM(AR15:AV15) -> 0 | BC15: =SUM(AX15:BB15) -> 0 | BD15: =SUM(Z15,AF15,AL15,AR15,AX15) -> 0 | BE15: =SUM(AA15,AG15,AM15,AS15,AY15) -> 0 | BF15: =SUM(AB15,AH15,AN15,AT15,AZ15) -> 0 | BG15: =SUM(AC15,AI15,AO15,AU15,BA15) -> 0 | BH15: =SUM(AD15,AJ15,AP15,AV15,BB15) -> 0 | BI15: =SUM(BD15:BH15) -> 0 | BO15: =SUM(BJ15:BN15) -> 0 | BU15: =SUM(BP15:BT15) -> 0 | CA15: =SUM(BV15:BZ15) -> 0 | CB15: =SUM(BJ15,BP15,BV15) -> 0 | CC15: =SUM(BK15,BQ15,BW15) -> 0 | CD15: =SUM(BL15,BR15,BX15) -> 0 | CE15: =SUM(BM15,BS15,BY15) -> 0 | CF15: =SUM(BN15,BT15,BZ15) -> 0 | CG15: =SUM(CB15:CF15) -> 0 | CM15: =SUM(CH15:CL15) -> 0 | CS15: =SUM(CN15:CR15) -> 0 | CY15: =SUM(CT15:CX15) -> 0 | DE15: =SUM(CZ15:DD15) -> 0 | DF15: =SUM(CH15,CN15,CT15,CZ15) -> 0 | DG15: =SUM(CI15,CO15,CU15,DA15) -> 0 | DH15: =SUM(CJ15,CP15,CV15,DB15) -> 0 | DI15: =SUM(CK15,CQ15,CW15,DC15) -> 0 | DJ15: =SUM(CL15,CR15,CX15,DD15) -> 0 | DK15: =SUM(DF15:DJ15) -> 0 | DQ15: =SUM(DL15:DP15) -> 0 | DW15: =SUM(DR15:DV15) -> 0 | EC15: =SUM(DX15:EB15) -> 0 | EI15: =SUM(ED15:EH15) -> 0 | EO15: =SUM(EJ15:EN15) -> 0 | EU15: =SUM(EP15:ET15) -> 0 | FA15: =SUM(EV15:EZ15) -> 0 | FB15: =SUM(DL15,DR15,DX15,ED15,EJ15,EP15,EV15) -> 0 | FC15: =SUM(DM15,DS15,DY15,EE15,EK15,EQ15,EW15) -> 0 | FD15: =SUM(DN15,DT15,DZ15,EF15,EL15,ER15,EX15) -> 0 | FE15: =SUM(DO15,DU15,EA15,EG15,EM15,ES15,EY15) -> 0 | FF15: =SUM(DP15,DV15,EB15,EH15,EN15,ET15,EZ15) -> 0 | FG15: =SUM(FB15:FF15) -> 0 | FM15: =SUM(FH15:FL15) -> 0 | FS15: =SUM(FN15:FR15) -> 0 | FY15: =SUM(FT15:FX15) -> 0 | GE15: =SUM(FZ15:GD15) -> 0 | GK15: =SUM(GF15:GJ15) -> 0 | GQ15: =SUM(GL15:GP15) -> 0 | GW15: =SUM(GR15:GV15) -> 0 | HC15: =SUM(GX15:HB15) -> 0 | HI15: =SUM(HD15:HH15) -> 0 | HJ15: =SUM(FH15,FN15,FT15,FZ15,GF15,GL15,GR15,GX15,HD15) -> 0 | HK15: =SUM(FI15,FO15,FU15,GA15,GG15,GM15,GS15,GY15,HE15) -> 0 | HL15: =SUM(FJ15,FP15,FV15,GB15,GH15,GN15,GT15,GZ15,HF15) -> 0 | HM15: =SUM(FK15,FQ15,FW15,GC15,GI15,GO15,GU15,HA15,HG15) -> 0 | HN15: =SUM(FL15,FR15,FX15,GD15,GJ15,GP15,GV15,HB15,HH15) -> 0 | HO15: =SUM(FM15,FS15,FY15,GE15,GK15,GQ15,GW15,HC15,HI15) -> 0 | HU15: =SUM(HP15:HT15) -> 0 | IA15: =SUM(HV15:HZ15) -> 0 | IG15: =SUM(IB15:IF15) -> 0 | IH15: =SUM(HP15,HV15,IB15) -> 0 | II15: =SUM(HQ15,HW15,IC15) -> 0 | IJ15: =SUM(HR15,HX15,ID15) -> 0 | IK15: =SUM(HS15,HY15,IE15) -> 0 | IL15: =SUM(HT15,HZ15,IF15) -> 0 | IM15: =SUM(HU15,IA15,IG15) -> 0 | IS15: =SUM(IN15:IR15) -> 0 | IY15: =SUM(IT15:IX15) -> 0 | JE15: =SUM(IZ15:JD15) -> 0 | JF15: =SUM(IN15,IT15,IZ15) -> 0 | JG15: =SUM(IO15,IU15,JA15) -> 0 | JH15: =SUM(IP15,IV15,JB15) -> 0 | JI15: =SUM(IQ15,IW15,JC15) -> 0 | JJ15: =SUM(IR15,IX15,JD15) -> 0 | JK15: =SUM(JF15:JJ15) -> 0 | JM15: =SUM(T15,BD15,CB15,DF15,FB15,HJ15,IH15,JF15) -> 0 | JN15: =SUM(U15,BE15,CC15,DG15,FC15,HK15,II15,JG15) -> 0 | JO15: =SUM(V15,BF15,CD15,DH15,FD15,HL15,IJ15,JH15) -> 0 | JP15: =SUM(W15,BG15,CE15,DI15,FE15,HM15,IK15,JI15) -> 0 | JQ15: =SUM(X15,BH15,CF15,DJ15,FF15,HN15,IL15,JJ15) -> 0 | JR15: =SUM(HO15,FG15,BI15) -> 0
A16: IB=Unknown Beetle | G16: =SUM(B16:F16) -> 0 | M16: =SUM(H16:L16) -> 0 | S16: =SUM(N16:R16) -> 0 | T16: =SUM(B16,H16,N16) -> 0 | U16: =SUM(C16,I16,O16) -> 0 | V16: =SUM(D16,J16,P16) -> 0 | W16: =SUM(E16,K16,Q16) -> 0 | X16: =SUM(F16,L16,R16) -> 0 | Y16: =SUM(T16:X16) -> 0 | AE16: =SUM(Z16:AD16) -> 0 | AK16: =SUM(AF16:AJ16) -> 0 | AQ16: =SUM(AL16:AP16) -> 0 | AW16: =SUM(AR16:AV16) -> 0 | BC16: =SUM(AX16:BB16) -> 0 | BD16: =SUM(Z16,AF16,AL16,AR16,AX16) -> 0 | BE16: =SUM(AA16,AG16,AM16,AS16,AY16) -> 0 | BF16: =SUM(AB16,AH16,AN16,AT16,AZ16) -> 0 | BG16: =SUM(AC16,AI16,AO16,AU16,BA16) -> 0 | BH16: =SUM(AD16,AJ16,AP16,AV16,BB16) -> 0 | BI16: =SUM(BD16:BH16) -> 0 | BO16: =SUM(BJ16:BN16) -> 0 | BU16: =SUM(BP16:BT16) -> 0 | CA16: =SUM(BV16:BZ16) -> 0 | CB16: =SUM(BJ16,BP16,BV16) -> 0 | CC16: =SUM(BK16,BQ16,BW16) -> 0 | CD16: =SUM(BL16,BR16,BX16) -> 0 | CE16: =SUM(BM16,BS16,BY16) -> 0 | CF16: =SUM(BN16,BT16,BZ16) -> 0 | CG16: =SUM(CB16:CF16) -> 0 | CM16: =SUM(CH16:CL16) -> 0 | CS16: =SUM(CN16:CR16) -> 0 | CY16: =SUM(CT16:CX16) -> 0 | DE16: =SUM(CZ16:DD16) -> 0 | DF16: =SUM(CH16,CN16,CT16,CZ16) -> 0 | DG16: =SUM(CI16,CO16,CU16,DA16) -> 0 | DH16: =SUM(CJ16,CP16,CV16,DB16) -> 0 | DI16: =SUM(CK16,CQ16,CW16,DC16) -> 0 | DJ16: =SUM(CL16,CR16,CX16,DD16) -> 0 | DK16: =SUM(DF16:DJ16) -> 0 | DQ16: =SUM(DL16:DP16) -> 0 | DW16: =SUM(DR16:DV16) -> 0 | EC16: =SUM(DX16:EB16) -> 0 | EI16: =SUM(ED16:EH16) -> 0 | EO16: =SUM(EJ16:EN16) -> 0 | EU16: =SUM(EP16:ET16) -> 0 | FA16: =SUM(EV16:EZ16) -> 0 | FB16: =SUM(DL16,DR16,DX16,ED16,EJ16,EP16,EV16) -> 0 | FC16: =SUM(DM16,DS16,DY16,EE16,EK16,EQ16,EW16) -> 0 | FD16: =SUM(DN16,DT16,DZ16,EF16,EL16,ER16,EX16) -> 0 | FE16: =SUM(DO16,DU16,EA16,EG16,EM16,ES16,EY16) -> 0 | FF16: =SUM(DP16,DV16,EB16,EH16,EN16,ET16,EZ16) -> 0 | FG16: =SUM(FB16:FF16) -> 0 | FM16: =SUM(FH16:FL16) -> 0 | FS16: =SUM(FN16:FR16) -> 0 | FY16: =SUM(FT16:FX16) -> 0 | GE16: =SUM(FZ16:GD16) -> 0 | GK16: =SUM(GF16:GJ16) -> 0 | GQ16: =SUM(GL16:GP16) -> 0 | GW16: =SUM(GR16:GV16) -> 0 | HC16: =SUM(GX16:HB16) -> 0 | HI16: =SUM(HD16:HH16) -> 0 | HJ16: =SUM(FH16,FN16,FT16,FZ16,GF16,GL16,GR16,GX16,HD16) -> 0 | HK16: =SUM(FI16,FO16,FU16,GA16,GG16,GM16,GS16,GY16,HE16) -> 0 | HL16: =SUM(FJ16,FP16,FV16,GB16,GH16,GN16,GT16,GZ16,HF16) -> 0 | HM16: =SUM(FK16,FQ16,FW16,GC16,GI16,GO16,GU16,HA16,HG16) -> 0 | HN16: =SUM(FL16,FR16,FX16,GD16,GJ16,GP16,GV16,HB16,HH16) -> 0 | HO16: =SUM(FM16,FS16,FY16,GE16,GK16,GQ16,GW16,HC16,HI16) -> 0 | HU16: =SUM(HP16:HT16) -> 0 | IA16: =SUM(HV16:HZ16) -> 0 | IG16: =SUM(IB16:IF16) -> 0 | IH16: =SUM(HP16,HV16,IB16) -> 0 | II16: =SUM(HQ16,HW16,IC16) -> 0 | IJ16: =SUM(HR16,HX16,ID16) -> 0 | IK16: =SUM(HS16,HY16,IE16) -> 0 | IL16: =SUM(HT16,HZ16,IF16) -> 0 | IM16: =SUM(HU16,IA16,IG16) -> 0 | IS16: =SUM(IN16:IR16) -> 0 | IY16: =SUM(IT16:IX16) -> 0 | JE16: =SUM(IZ16:JD16) -> 0 | JF16: =SUM(IN16,IT16,IZ16) -> 0 | JG16: =SUM(IO16,IU16,JA16) -> 0 | JH16: =SUM(IP16,IV16,JB16) -> 0 | JI16: =SUM(IQ16,IW16,JC16) -> 0 | JJ16: =SUM(IR16,IX16,JD16) -> 0 | JK16: =SUM(JF16:JJ16) -> 0 | JM16: =SUM(T16,BD16,CB16,DF16,FB16,HJ16,IH16,JF16) -> 0 | JN16: =SUM(U16,BE16,CC16,DG16,FC16,HK16,II16,JG16) -> 0 | JO16: =SUM(V16,BF16,CD16,DH16,FD16,HL16,IJ16,JH16) -> 0 | JP16: =SUM(W16,BG16,CE16,DI16,FE16,HM16,IK16,JI16) -> 0 | JQ16: =SUM(X16,BH16,CF16,DJ16,FF16,HN16,IL16,JJ16) -> 0 | JR16: =SUM(HO16,FG16,BI16) -> 0
A17: Total All BB= | B17: =SUM(B6:B16) -> 263.79026 | C17: =SUM(C6:C16) -> 10012.677 | D17: =SUM(D6:D16) -> 1316.7391 | E17: =SUM(E6:E16) -> 396.00193 | F17: =SUM(F6:F16) -> 0 | G17: =SUM(G6:G16) -> 11989.208 | H17: =SUM(H6:H16) -> 687.50584 | I17: =SUM(I6:I16) -> 5726.9823 | ... S17: =SUM(S6:S16) -> 822.20072 | T17: =SUM(B17,H17,N17) -> 951.2961 | U17: =SUM(C17,I17,O17) -> 15872.071 | V17: =SUM(D17,J17,P17) -> 2102.2514 | W17: =SUM(E17,K17,Q17) -> 665.88926 | X17: =SUM(F17,L17,R17) -> 0 | Y17: =SUM(Y6:Y16) -> 19591.507 | Z17: =SUM(Z6:Z16) -> 0 | AA17: =SUM(AA6:AA16) -> 1411.93 | AB17: =SUM(AB6:AB16) -> 0 | AC17: =SUM(AC6:AC16) -> 23.430824 | AD17: =SUM(AD6:AD16) -> 0 | AE17: =SUM(AE6:AE16) -> 1435.3609 | AF17: =SUM(AF6:AF16) -> 169.85149 | ... BC17: =SUM(BC6:BC16) -> 27.40001 | BD17: =SUM(Z17,AF17,AL17,AR17,AX17) -> 7850.5407 | BE17: =SUM(AA17,AG17,AM17,AS17,AY17) -> 2252.0515 | BF17: =SUM(AB17,AH17,AN17,AT17,AZ17) -> 10.449857 | BG17: =SUM(AC17,AI17,AO17,AU17,BA17) -> 75.180824 | BH17: =SUM(AD17,AJ17,AP17,AV17,BB17) -> 0 | BI17: =SUM(BI6:BI16) -> 10188.223 | BJ17: =SUM(BJ6:BJ16) -> 11036.106 | BK17: =SUM(BK6:BK16) -> 8175.2281 | BL17: =SUM(BL6:BL16) -> 5128.8836 | BM17: =SUM(BM6:BM16) -> 611.11436 | BN17: =SUM(BN6:BN16) -> 38.231208 | BO17: =SUM(BO6:BO16) -> 24989.563 | BP17: =SUM(BP6:BP16) -> 23708.313 | ... CA17: =SUM(CA6:CA16) -> 157552.62 | CB17: =SUM(BJ17,BP17,BV17) -> 143263.47 | CC17: =SUM(BK17,BQ17,BW17) -> 52025.449 | CD17: =SUM(BL17,BR17,BX17) -> 11959.344 | CE17: =SUM(BM17,BS17,BY17) -> 2010.0533 | CF17: =SUM(BN17,BT17,BZ17) -> 577.23665 | CG17: =SUM(CG6:CG16) -> 209835.55 | CH17: =SUM(CH6:CH16) -> 61821.855 | CI17: =SUM(CI6:CI16) -> 9714.6962 | CJ17: =SUM(CJ6:CJ16) -> 2552.6595 | CK17: =SUM(CK6:CK16) -> 689.31017 | CL17: =SUM(CL6:CL16) -> 59.049091 | CM17: =SUM(CM6:CM16) -> 74837.57 | CN17: =SUM(CN6:CN16) -> 6707.4056 | ... DE17: =SUM(DE6:DE16) -> 140909.03 | DF17: =SUM(CH17,CN17,CT17,CZ17) -> 167841.19 | DG17: =SUM(CI17,CO17,CU17,DA17) -> 151354.17 | DH17: =SUM(CJ17,CP17,CV17,DB17) -> 33961.234 | DI17: =SUM(CK17,CQ17,CW17,DC17) -> 5229.374 | DJ17: =SUM(CL17,CR17,CX17,DD17) -> 660.43211 | DK17: =SUM(DK6:DK16) -> 359046.39 | DL17: =SUM(DL6:DL16) -> 5726.23 | DM17: =SUM(DM6:DM16) -> 6287.7534 | DN17: =SUM(DN6:DN16) -> 1993.475 | DO17: =SUM(DO6:DO16) -> 293.44576 | DP17: =SUM(DP6:DP16) -> 0 | DQ17: =SUM(DQ6:DQ16) -> 14300.904 | DR17: =SUM(DR6:DR16) -> 1826.6347 | ... FA17: =SUM(FA6:FA16) -> 984.27948 | FB17: =SUM(DL17,DR17,DX17,ED17,EJ17,EP17,EV17) -> 24113.43 | FC17: =SUM(DM17,DS17,DY17,EE17,EK17,EQ17,EW17) -> 50727.834 | FD17: =SUM(DN17,DT17,DZ17,EF17,EL17,ER17,EX17) -> 36374.162 | FE17: =SUM(DO17,DU17,EA17,EG17,EM17,ES17,EY17) -> 8211.2547 | FF17: =SUM(DP17,DV17,EB17,EH17,EN17,ET17,EZ17) -> 22.37348 | FG17: =SUM(FB17:FF17) -> 119449.05 | FH17: =SUM(FH6:FH16) -> 173207.05 | FI17: =SUM(FI6:FI16) -> 80101.686 | FJ17: =SUM(FJ6:FJ16) -> 11406.072 | FK17: =SUM(FK6:FK16) -> 4470.6848 | FL17: =SUM(FL6:FL16) -> 1212.6783 | FM17: =SUM(FM6:FM16) -> 270398.18 | FN17: =SUM(FN6:FN16) -> 0 | FO17: =SUM(FO6:FO16) -> 0 | ... HI17: =SUM(HI6:HI16) -> 148.99195 | HJ17: =SUM(FH17,FN17,FT17,FZ17,GF17,GL17,GR17,GX17,HD17) -> 1195311.1 | HK17: =SUM(FI17,FO17,FU17,GA17,GG17,GM17,GS17,GY17,HE17) -> 244856.36 | HL17: =SUM(HF17,GZ17,GT17,GN17,GH17,FV17,GB17,FP17,FJ17) -> 28951.074 | HM17: =SUM(HG17,HA17,GU17,GO17,GI17,FW17,GC17,FQ17,FK17) -> 10143.266 | HN17: =SUM(HH17,HB17,GV17,GP17,GJ17,FX17,GD17,FR17,FL17) -> 1639.5718 | HO17: =SUM(HO6:HO16) -> 1480901.4 | HP17: =SUM(HP6:HP16) -> 64207.987 | HQ17: =SUM(HQ6:HQ16) -> 16713.802 | HR17: =SUM(HR6:HR16) -> 11221.385 | HS17: =SUM(HS6:HS16) -> 2423.8753 | HT17: =SUM(HT6:HT16) -> 1637.0976 | HU17: =SUM(HU6:HU16) -> 96204.148 | HV17: =SUM(HV6:HV16) -> 568316.66 | ... IG17: =SUM(IG6:IG16) -> 1700564.1 | IH17: =SUM(HP17,HV17,IB17) -> 1797515 | II17: =SUM(HQ17,HW17,IC17) -> 715359.58 | IJ17: =SUM(HR17,HX17,ID17) -> 895955.5 | IK17: =SUM(HS17,HY17,IE17) -> 359481.98 | IL17: =SUM(HT17,HZ17,IF17) -> 8276.7715 | IM17: =SUM(HU17,IA17,IG17) -> 3776588.8 | IN17: =SUM(IN6:IN16) -> 645683.88 | IO17: =SUM(IO6:IO16) -> 400044.82 | IP17: =SUM(IP6:IP16) -> 307923.47 | IQ17: =SUM(IQ6:IQ16) -> 107044.25 | IR17: =SUM(IR6:IR16) -> 6250.4246 | IS17: =SUM(IS6:IS16) -> 1466946.8 | IT17: =SUM(IT6:IT16) -> 4294.9972 | IU17: =SUM(IU6:IU16) -> 5980.9048 | ... JE17: =SUM(JE6:JE16) -> 616589.19 | JF17: =SUM(IN17,IT17,IZ17) -> 767671.91 | JG17: =SUM(IO17,IU17,JA17) -> 665230.41 | JH17: =SUM(IP17,IV17,JB17) -> 517449.88 | JI17: =SUM(IQ17,IW17,JC17) -> 137208.88 | JJ17: =SUM(IR17,IX17,JD17) -> 6703.4304 | JK17: =SUM(JK6:JK16) -> 2094264.5 | JM17: =SUM(T17,BD17,CB17,DF17,FB17,HJ17,IH17,JF17) -> 4104517.9 | JN17: =SUM(U17,BE17,CC17,DG17,FC17,HK17,II17,JG17) -> 1897677.9 | JO17: =SUM(V17,BF17,CD17,DH17,FD17,HL17,IJ17,JH17) -> 1526763.9 | JP17: =SUM(W17,BG17,CE17,DI17,FE17,HM17,IK17,JI17) -> 523025.88 | JQ17: =SUM(X17,BH17,CF17,DJ17,FF17,HN17,IL17,JJ17) -> 17879.816 | JR17: =SUM(JR6:JR16) -> 6805625.1
A19: Defoliators
A20: ID=Defoliators | D20: 25.639656 | G20: =SUM(B20:F20) -> 25.639656 | M20: =SUM(H20:L20) -> 0 | O20: 13.914301 | S20: =SUM(N20:R20) -> 13.914301 | T20: =SUM(B20,H20,N20) -> 0 | U20: =SUM(C20,I20,O20) -> 13.914301 | V20: =SUM(D20,J20,P20) -> 25.639656 | W20: =SUM(E20,K20,Q20) -> 0 | X20: =SUM(F20,L20,R20) -> 0 | Y20: =SUM(T20:X20) -> 39.553956 | AB20: 11.88563 | AC20: 0.25 | AE20: =SUM(Z20:AD20) -> 12.13563 | AK20: =SUM(AF20:AJ20) -> 0 | AO20: 36.563205 | AQ20: =SUM(AL20:AP20) -> 36.563205 | AW20: =SUM(AR20:AV20) -> 0 | BC20: =SUM(AX20:BB20) -> 0 | BD20: =SUM(Z20,AF20,AL20,AR20,AX20) -> 0 | BE20: =SUM(AA20,AG20,AM20,AS20,AY20) -> 0 | BF20: =SUM(AB20,AH20,AN20,AT20,AZ20) -> 11.88563 | BG20: =SUM(AC20,AI20,AO20,AU20,BA20) -> 36.813205 | BH20: =SUM(AD20,AJ20,AP20,AV20,BB20) -> 0 | BI20: =SUM(BD20:BH20) -> 48.698836 | BO20: =SUM(BJ20:BN20) -> 0 | BU20: =SUM(BP20:BT20) -> 0 | CA20: =SUM(BV20:BZ20) -> 0 | CB20: =SUM(BJ20,BP20,BV20) -> 0 | CC20: =SUM(BK20,BQ20,BW20) -> 0 | CD20: =SUM(BL20,BR20,BX20) -> 0 | CE20: =SUM(BM20,BS20,BY20) -> 0 | CF20: =SUM(BN20,BT20,BZ20) -> 0 | CG20: =SUM(CB20:CF20) -> 0 | CM20: =SUM(CH20:CL20) -> 0 | CS20: =SUM(CN20:CR20) -> 0 | CY20: =SUM(CT20:CX20) -> 0 | DE20: =SUM(CZ20:DD20) -> 0 | DF20: =SUM(CH20,CN20,CT20,CZ20) -> 0 | DG20: =SUM(CI20,CO20,CU20,DA20) -> 0 | DH20: =SUM(CJ20,CP20,CV20,DB20) -> 0 | DI20: =SUM(CK20,CQ20,CW20,DC20) -> 0 | DJ20: =SUM(CL20,CR20,CX20,DD20) -> 0 | DK20: =SUM(DF20:DJ20) -> 0 | DQ20: =SUM(DL20:DP20) -> 0 | DW20: =SUM(DR20:DV20) -> 0 | EC20: =SUM(DX20:EB20) -> 0 | EI20: =SUM(ED20:EH20) -> 0 | EO20: =SUM(EJ20:EN20) -> 0 | EU20: =SUM(EP20:ET20) -> 0 | EW20: 31.145551 | FA20: =SUM(EV20:EZ20) -> 31.145551 | FB20: =SUM(DL20,DR20,DX20,ED20,EJ20,EP20,EV20) -> 0 | FC20: =SUM(DM20,DS20,DY20,EE20,EK20,EQ20,EW20) -> 31.145551 | FD20: =SUM(DN20,DT20,DZ20,EF20,EL20,ER20,EX20) -> 0 | FE20: =SUM(DO20,DU20,EA20,EG20,EM20,ES20,EY20) -> 0 | FF20: =SUM(DP20,DV20,EB20,EH20,EN20,ET20,EZ20) -> 0 | FG20: =SUM(FB20:FF20) -> 31.145551 | FM20: =SUM(FH20:FL20) -> 0 | FS20: =SUM(FN20:FR20) -> 0 | FY20: =SUM(FT20:FX20) -> 0 | GA20: 6303.0659 | GB20: 2989.8029 | GC20: 4744.198 | GE20: =SUM(FZ20:GD20) -> 14037.067 | GK20: =SUM(GF20:GJ20) -> 0 | GM20: 750.20016 | GO20: 0.79614714 | GQ20: =SUM(GL20:GP20) -> 750.99631 | GW20: =SUM(GR20:GV20) -> 0 | HC20: =SUM(GX20:HB20) -> 0 | HE20: 527.20881 | HF20: 1639.0774 | HG20: 3354.7749 | HI20: =SUM(HD20:HH20) -> 5521.0612 | HJ20: =SUM(FH20,FN20,FT20,FZ20,GF20,GL20,GR20,GX20,HD20) -> 0 | HK20: =SUM(FI20,FO20,FU20,GA20,GG20,GM20,GS20,GY20,HE20) -> 7580.4749 | HL20: =SUM(FJ20,FP20,FV20,GB20,GH20,GN20,GT20,GZ20,HF20) -> 4628.8803 | HM20: =SUM(FK20,FQ20,FW20,GC20,GI20,GO20,GU20,HA20,HG20) -> 8099.7691 | HN20: =SUM(FL20,FR20,FX20,GD20,GJ20,GP20,GV20,HB20,HH20) -> 0 | HO20: =SUM(FM20,FS20,FY20,GE20,GK20,GQ20,GW20,HC20,HI20) -> 20309.124 | HU20: =SUM(HP20:HT20) -> 0 | IA20: =SUM(HV20:HZ20) -> 0 | IC20: 1245.7656 | ID20: 82.264736 | IE20: 18.317863 | IG20: =SUM(IB20:IF20) -> 1346.3482 | IH20: =SUM(HP20,HV20,IB20) -> 0 | II20: =SUM(HQ20,HW20,IC20) -> 1245.7656 | IJ20: =SUM(HR20,HX20,ID20) -> 82.264736 | IK20: =SUM(HS20,HY20,IE20) -> 18.317863 | IL20: =SUM(HT20,HZ20,IF20) -> 0 | IM20: =SUM(HU20,IA20,IG20) -> 1346.3482 | IQ20: 0.25 | IS20: =SUM(IN20:IR20) -> 0.25 | IU20: 7616.1612 | IV20: 9565.3702 | IY20: =SUM(IT20:IX20) -> 17181.531 | JE20: =SUM(IZ20:JD20) -> 0 | JF20: =SUM(IN20,IT20,IZ20) -> 0 | JG20: =SUM(IO20,IU20,JA20) -> 7616.1612 | JH20: =SUM(IP20,IV20,JB20) -> 9565.3702 | JI20: =SUM(IQ20,IW20,JC20) -> 0.25 | JJ20: =SUM(IR20,IX20,JD20) -> 0 | JK20: =SUM(JF20:JJ20) -> 17181.781 | JM20: =SUM(T20,BD20,CB20,DF20,FB20,HJ20,IH20,JF20) -> 0 | JN20: =SUM(U20,BE20,CC20,DG20,FC20,HK20,II20,JG20) -> 16487.462 | JO20: =SUM(V20,BF20,CD20,DH20,FD20,HL20,IJ20,JH20) -> 14314.041 | JP20: =SUM(W20,BG20,CE20,DI20,FE20,HM20,IK20,JI20) -> 8155.1502 | JQ20: =SUM(X20,BH20,CF20,DJ20,FF20,HN20,IL20,JJ20) -> 0 | JR20: =SUM(HO20,FG20,BI20) -> 20388.969
A21: IDB=2-Year Budworm | G21: =SUM(B21:F21) -> 0 | M21: =SUM(H21:L21) -> 0 | S21: =SUM(N21:R21) -> 0 | T21: =SUM(B21,H21,N21) -> 0 | U21: =SUM(C21,I21,O21) -> 0 | V21: =SUM(D21,J21,P21) -> 0 | W21: =SUM(E21,K21,Q21) -> 0 | X21: =SUM(F21,L21,R21) -> 0 | Y21: =SUM(T21:X21) -> 0 | AE21: =SUM(Z21:AD21) -> 0 | AK21: =SUM(AF21:AJ21) -> 0 | AQ21: =SUM(AL21:AP21) -> 0 | AW21: =SUM(AR21:AV21) -> 0 | BC21: =SUM(AX21:BB21) -> 0 | BD21: =SUM(Z21,AF21,AL21,AR21,AX21) -> 0 | BE21: =SUM(AA21,AG21,AM21,AS21,AY21) -> 0 | BF21: =SUM(AB21,AH21,AN21,AT21,AZ21) -> 0 | BG21: =SUM(AC21,AI21,AO21,AU21,BA21) -> 0 | BH21: =SUM(AD21,AJ21,AP21,AV21,BB21) -> 0 | BI21: =SUM(BD21:BH21) -> 0 | BK21: 83.65814 | BL21: 601.99165 | BO21: =SUM(BJ21:BN21) -> 685.64979 | BQ21: 26312.021 | BR21: 20533.592 | BU21: =SUM(BP21:BT21) -> 46845.613 | BW21: 8430.4676 | BX21: 159.92048 | CA21: =SUM(BV21:BZ21) -> 8590.388 | CB21: =SUM(BJ21,BP21,BV21) -> 0 | CC21: =SUM(BK21,BQ21,BW21) -> 34826.146 | CD21: =SUM(BL21,BR21,BX21) -> 21295.505 | CE21: =SUM(BM21,BS21,BY21) -> 0 | CF21: =SUM(BN21,BT21,BZ21) -> 0 | CG21: =SUM(CB21:CF21) -> 56121.651 | CI21: 7624.7117 | CJ21: 9.3004351 | CM21: =SUM(CH21:CL21) -> 7634.0121 | CO21: 4.8758865 | CP21: 4.201674 | CS21: =SUM(CN21:CR21) -> 9.0775605 | CY21: =SUM(CT21:CX21) -> 0 | DE21: =SUM(CZ21:DD21) -> 0 | DF21: =SUM(CH21,CN21,CT21,CZ21) -> 0 | DG21: =SUM(CI21,CO21,CU21,DA21) -> 7629.5876 | DH21: =SUM(CJ21,CP21,CV21,DB21) -> 13.502109 | DI21: =SUM(CK21,CQ21,CW21,DC21) -> 0 | DJ21: =SUM(CL21,CR21,CX21,DD21) -> 0 | DK21: =SUM(DF21:DJ21) -> 7643.0897 | DQ21: =SUM(DL21:DP21) -> 0 | DW21: =SUM(DR21:DV21) -> 0 | DY21: 952.02689 | DZ21: 2175.9898 | EC21: =SUM(DX21:EB21) -> 3128.0167 | EI21: =SUM(ED21:EH21) -> 0 | EO21: =SUM(EJ21:EN21) -> 0 | EU21: =SUM(EP21:ET21) -> 0 | FA21: =SUM(EV21:EZ21) -> 0 | FB21: =SUM(DL21,DR21,DX21,ED21,EJ21,EP21,EV21) -> 0 | FC21: =SUM(DM21,DS21,DY21,EE21,EK21,EQ21,EW21) -> 952.02689 | FD21: =SUM(DN21,DT21,DZ21,EF21,EL21,ER21,EX21) -> 2175.9898 | FE21: =SUM(DO21,DU21,EA21,EG21,EM21,ES21,EY21) -> 0 | FF21: =SUM(DP21,DV21,EB21,EH21,EN21,ET21,EZ21) -> 0 | FG21: =SUM(FB21:FF21) -> 3128.0167 | FJ21: 1286.4555 | FM21: =SUM(FH21:FL21) -> 1286.4555 | FS21: =SUM(FN21:FR21) -> 0 | FY21: =SUM(FT21:FX21) -> 0 | GE21: =SUM(FZ21:GD21) -> 0 | GK21: =SUM(GF21:GJ21) -> 0 | GM21: 1136.1376 | GQ21: =SUM(GL21:GP21) -> 1136.1376 | GS21: 2131.6342 | GW21: =SUM(GR21:GV21) -> 2131.6342 | HC21: =SUM(GX21:HB21) -> 0 | HI21: =SUM(HD21:HH21) -> 0 | HJ21: =SUM(FH21,FN21,FT21,FZ21,GF21,GL21,GR21,GX21,HD21) -> 0 | HK21: =SUM(FI21,FO21,FU21,GA21,GG21,GM21,GS21,GY21,HE21) -> 3267.7718 | HL21: =SUM(FJ21,FP21,FV21,GB21,GH21,GN21,GT21,GZ21,HF21) -> 1286.4555 | HM21: =SUM(FK21,FQ21,FW21,GC21,GI21,GO21,GU21,HA21,HG21) -> 0 | HN21: =SUM(FL21,FR21,FX21,GD21,GJ21,GP21,GV21,HB21,HH21) -> 0 | HO21: =SUM(FM21,FS21,FY21,GE21,GK21,GQ21,GW21,HC21,HI21) -> 4554.2274 | HQ21: 3280.8895 | HR21: 520.1073 | HU21: =SUM(HP21:HT21) -> 3800.9968 | HW21: 1162.517 | IA21: =SUM(HV21:HZ21) -> 1162.517 | IC21: 20673.299 | IG21: =SUM(IB21:IF21) -> 20673.299 | IH21: =SUM(HP21,HV21,IB21) -> 0 | II21: =SUM(HQ21,HW21,IC21) -> 25116.705 | IJ21: =SUM(HR21,HX21,ID21) -> 520.1073 | IK21: =SUM(HS21,HY21,IE21) -> 0 | IL21: =SUM(HT21,HZ21,IF21) -> 0 | IM21: =SUM(HU21,IA21,IG21) -> 25636.812 | IS21: =SUM(IN21:IR21) -> 0 | IY21: =SUM(IT21:IX21) -> 0 | JE21: =SUM(IZ21:JD21) -> 0 | JF21: =SUM(IN21,IT21,IZ21) -> 0 | JG21: =SUM(IO21,IU21,JA21) -> 0 | JH21: =SUM(IP21,IV21,JB21) -> 0 | JI21: =SUM(IQ21,IW21,JC21) -> 0 | JJ21: =SUM(IR21,IX21,JD21) -> 0 | JK21: =SUM(JF21:JJ21) -> 0 | JM21: =SUM(T21,BD21,CB21,DF21,FB21,HJ21,IH21,JF21) -> 0 | JN21: =SUM(U21,BE21,CC21,DG21,FC21,HK21,II21,JG21) -> 71792.238 | JO21: =SUM(V21,BF21,CD21,DH21,FD21,HL21,IJ21,JH21) -> 25291.559 | JP21: =SUM(W21,BG21,CE21,DI21,FE21,HM21,IK21,JI21) -> 0 | JQ21: =SUM(X21,BH21,CF21,DJ21,FF21,HN21,IL21,JJ21) -> 0 | JR21: =SUM(HO21,FG21,BI21) -> 7682.244
A22: IDC=Larch casebearer | G22: =SUM(B22:F22) -> 0 | M22: =SUM(H22:L22) -> 0 | S22: =SUM(N22:R22) -> 0 | T22: =SUM(B22,H22,N22) -> 0 | U22: =SUM(C22,I22,O22) -> 0 | V22: =SUM(D22,J22,P22) -> 0 | W22: =SUM(E22,K22,Q22) -> 0 | X22: =SUM(F22,L22,R22) -> 0 | Y22: =SUM(T22:X22) -> 0 | AE22: =SUM(Z22:AD22) -> 0 | AK22: =SUM(AF22:AJ22) -> 0 | AQ22: =SUM(AL22:AP22) -> 0 | AW22: =SUM(AR22:AV22) -> 0 | BC22: =SUM(AX22:BB22) -> 0 | BD22: =SUM(Z22,AF22,AL22,AR22,AX22) -> 0 | BE22: =SUM(AA22,AG22,AM22,AS22,AY22) -> 0 | BF22: =SUM(AB22,AH22,AN22,AT22,AZ22) -> 0 | BG22: =SUM(AC22,AI22,AO22,AU22,BA22) -> 0 | BH22: =SUM(AD22,AJ22,AP22,AV22,BB22) -> 0 | BI22: =SUM(BD22:BH22) -> 0 | BO22: =SUM(BJ22:BN22) -> 0 | BU22: =SUM(BP22:BT22) -> 0 | CA22: =SUM(BV22:BZ22) -> 0 | CB22: =SUM(BJ22,BP22,BV22) -> 0 | CC22: =SUM(BK22,BQ22,BW22) -> 0 | CD22: =SUM(BL22,BR22,BX22) -> 0 | CE22: =SUM(BM22,BS22,BY22) -> 0 | CF22: =SUM(BN22,BT22,BZ22) -> 0 | CG22: =SUM(CB22:CF22) -> 0 | CM22: =SUM(CH22:CL22) -> 0 | CS22: =SUM(CN22:CR22) -> 0 | CY22: =SUM(CT22:CX22) -> 0 | DE22: =SUM(CZ22:DD22) -> 0 | DF22: =SUM(CH22,CN22,CT22,CZ22) -> 0 | DG22: =SUM(CI22,CO22,CU22,DA22) -> 0 | DH22: =SUM(CJ22,CP22,CV22,DB22) -> 0 | DI22: =SUM(CK22,CQ22,CW22,DC22) -> 0 | DJ22: =SUM(CL22,CR22,CX22,DD22) -> 0 | DK22: =SUM(DF22:DJ22) -> 0 | DQ22: =SUM(DL22:DP22) -> 0 | DW22: =SUM(DR22:DV22) -> 0 | DY22: 5.6542756 | EC22: =SUM(DX22:EB22) -> 5.6542756 | EI22: =SUM(ED22:EH22) -> 0 | EO22: =SUM(EJ22:EN22) -> 0 | EU22: =SUM(EP22:ET22) -> 0 | FA22: =SUM(EV22:EZ22) -> 0 | FB22: =SUM(DL22,DR22,DX22,ED22,EJ22,EP22,EV22) -> 0 | FC22: =SUM(DM22,DS22,DY22,EE22,EK22,EQ22,EW22) -> 5.6542756 | FD22: =SUM(DN22,DT22,DZ22,EF22,EL22,ER22,EX22) -> 0 | FE22: =SUM(DO22,DU22,EA22,EG22,EM22,ES22,EY22) -> 0 | FF22: =SUM(DP22,DV22,EB22,EH22,EN22,ET22,EZ22) -> 0 | FG22: =SUM(FB22:FF22) -> 5.6542756 | FM22: =SUM(FH22:FL22) -> 0 | FS22: =SUM(FN22:FR22) -> 0 | FY22: =SUM(FT22:FX22) -> 0 | GE22: =SUM(FZ22:GD22) -> 0 | GK22: =SUM(GF22:GJ22) -> 0 | GQ22: =SUM(GL22:GP22) -> 0 | GW22: =SUM(GR22:GV22) -> 0 | HC22: =SUM(GX22:HB22) -> 0 | HI22: =SUM(HD22:HH22) -> 0 | HJ22: =SUM(FH22,FN22,FT22,FZ22,GF22,GL22,GR22,GX22,HD22) -> 0 | HK22: =SUM(FI22,FO22,FU22,GA22,GG22,GM22,GS22,GY22,HE22) -> 0 | HL22: =SUM(FJ22,FP22,FV22,GB22,GH22,GN22,GT22,GZ22,HF22) -> 0 | HM22: =SUM(FK22,FQ22,FW22,GC22,GI22,GO22,GU22,HA22,HG22) -> 0 | HN22: =SUM(FL22,FR22,FX22,GD22,GJ22,GP22,GV22,HB22,HH22) -> 0 | HO22: =SUM(FM22,FS22,FY22,GE22,GK22,GQ22,GW22,HC22,HI22) -> 0 | HU22: =SUM(HP22:HT22) -> 0 | IA22: =SUM(HV22:HZ22) -> 0 | IG22: =SUM(IB22:IF22) -> 0 | IH22: =SUM(HP22,HV22,IB22) -> 0 | II22: =SUM(HQ22,HW22,IC22) -> 0 | IJ22: =SUM(HR22,HX22,ID22) -> 0 | IK22: =SUM(HS22,HY22,IE22) -> 0 | IL22: =SUM(HT22,HZ22,IF22) -> 0 | IM22: =SUM(HU22,IA22,IG22) -> 0 | IS22: =SUM(IN22:IR22) -> 0 | IY22: =SUM(IT22:IX22) -> 0 | JE22: =SUM(IZ22:JD22) -> 0 | JF22: =SUM(IN22,IT22,IZ22) -> 0 | JG22: =SUM(IO22,IU22,JA22) -> 0 | JH22: =SUM(IP22,IV22,JB22) -> 0 | JI22: =SUM(IQ22,IW22,JC22) -> 0 | JJ22: =SUM(IR22,IX22,JD22) -> 0 | JK22: =SUM(JF22:JJ22) -> 0 | JM22: =SUM(T22,BD22,CB22,DF22,FB22,HJ22,IH22,JF22) -> 0 | JN22: =SUM(U22,BE22,CC22,DG22,FC22,HK22,II22,JG22) -> 5.6542756 | JO22: =SUM(V22,BF22,CD22,DH22,FD22,HL22,IJ22,JH22) -> 0 | JP22: =SUM(W22,BG22,CE22,DI22,FE22,HM22,IK22,JI22) -> 0 | JQ22: =SUM(X22,BH22,CF22,DJ22,FF22,HN22,IL22,JJ22) -> 0 | JR22: =SUM(HO22,FG22,BI22) -> 5.6542756
A23: IDE=Spruce Budworm | G23: =SUM(B23:F23) -> 0 | M23: =SUM(H23:L23) -> 0 | S23: =SUM(N23:R23) -> 0 | T23: =SUM(B23,H23,N23) -> 0 | U23: =SUM(C23,I23,O23) -> 0 | V23: =SUM(D23,J23,P23) -> 0 | W23: =SUM(E23,K23,Q23) -> 0 | X23: =SUM(F23,L23,R23) -> 0 | Y23: =SUM(T23:X23) -> 0 | AE23: =SUM(Z23:AD23) -> 0 | AK23: =SUM(AF23:AJ23) -> 0 | AQ23: =SUM(AL23:AP23) -> 0 | AW23: =SUM(AR23:AV23) -> 0 | BC23: =SUM(AX23:BB23) -> 0 | BD23: =SUM(Z23,AF23,AL23,AR23,AX23) -> 0 | BE23: =SUM(AA23,AG23,AM23,AS23,AY23) -> 0 | BF23: =SUM(AB23,AH23,AN23,AT23,AZ23) -> 0 | BG23: =SUM(AC23,AI23,AO23,AU23,BA23) -> 0 | BH23: =SUM(AD23,AJ23,AP23,AV23,BB23) -> 0 | BI23: =SUM(BD23:BH23) -> 0 | BO23: =SUM(BJ23:BN23) -> 0 | BU23: =SUM(BP23:BT23) -> 0 | CA23: =SUM(BV23:BZ23) -> 0 | CB23: =SUM(BJ23,BP23,BV23) -> 0 | CC23: =SUM(BK23,BQ23,BW23) -> 0 | CD23: =SUM(BL23,BR23,BX23) -> 0 | CE23: =SUM(BM23,BS23,BY23) -> 0 | CF23: =SUM(BN23,BT23,BZ23) -> 0 | CG23: =SUM(CB23:CF23) -> 0 | CM23: =SUM(CH23:CL23) -> 0 | CS23: =SUM(CN23:CR23) -> 0 | CY23: =SUM(CT23:CX23) -> 0 | DE23: =SUM(CZ23:DD23) -> 0 | DF23: =SUM(CH23,CN23,CT23,CZ23) -> 0 | DG23: =SUM(CI23,CO23,CU23,DA23) -> 0 | DH23: =SUM(CJ23,CP23,CV23,DB23) -> 0 | DI23: =SUM(CK23,CQ23,CW23,DC23) -> 0 | DJ23: =SUM(CL23,CR23,CX23,DD23) -> 0 | DK23: =SUM(DF23:DJ23) -> 0 | DQ23: =SUM(DL23:DP23) -> 0 | DW23: =SUM(DR23:DV23) -> 0 | EC23: =SUM(DX23:EB23) -> 0 | EI23: =SUM(ED23:EH23) -> 0 | EO23: =SUM(EJ23:EN23) -> 0 | EU23: =SUM(EP23:ET23) -> 0 | FA23: =SUM(EV23:EZ23) -> 0 | FB23: =SUM(DL23,DR23,DX23,ED23,EJ23,EP23,EV23) -> 0 | FC23: =SUM(DM23,DS23,DY23,EE23,EK23,EQ23,EW23) -> 0 | FD23: =SUM(DN23,DT23,DZ23,EF23,EL23,ER23,EX23) -> 0 | FE23: =SUM(DO23,DU23,EA23,EG23,EM23,ES23,EY23) -> 0 | FF23: =SUM(DP23,DV23,EB23,EH23,EN23,ET23,EZ23) -> 0 | FG23: =SUM(FB23:FF23) -> 0 | FM23: =SUM(FH23:FL23) -> 0 | FS23: =SUM(FN23:FR23) -> 0 | FY23: =SUM(FT23:FX23) -> 0 | GE23: =SUM(FZ23:GD23) -> 0 | GK23: =SUM(GF23:GJ23) -> 0 | GQ23: =SUM(GL23:GP23) -> 0 | GW23: =SUM(GR23:GV23) -> 0 | HC23: =SUM(GX23:HB23) -> 0 | HI23: =SUM(HD23:HH23) -> 0 | HJ23: =SUM(FH23,FN23,FT23,FZ23,GF23,GL23,GR23,GX23,HD23) -> 0 | HK23: =SUM(FI23,FO23,FU23,GA23,GG23,GM23,GS23,GY23,HE23) -> 0 | HL23: =SUM(FJ23,FP23,FV23,GB23,GH23,GN23,GT23,GZ23,HF23) -> 0 | HM23: =SUM(FK23,FQ23,FW23,GC23,GI23,GO23,GU23,HA23,HG23) -> 0 | HN23: =SUM(FL23,FR23,FX23,GD23,GJ23,GP23,GV23,HB23,HH23) -> 0 | HO23: =SUM(FM23,FS23,FY23,GE23,GK23,GQ23,GW23,HC23,HI23) -> 0 | HU23: =SUM(HP23:HT23) -> 0 | IA23: =SUM(HV23:HZ23) -> 0 | IG23: =SUM(IB23:IF23) -> 0 | IH23: =SUM(HP23,HV23,IB23) -> 0 | II23: =SUM(HQ23,HW23,IC23) -> 0 | IJ23: =SUM(HR23,HX23,ID23) -> 0 | IK23: =SUM(HS23,HY23,IE23) -> 0 | IL23: =SUM(HT23,HZ23,IF23) -> 0 | IM23: =SUM(HU23,IA23,IG23) -> 0 | IS23: =SUM(IN23:IR23) -> 0 | IY23: =SUM(IT23:IX23) -> 0 | JE23: =SUM(IZ23:JD23) -> 0 | JF23: =SUM(IN23,IT23,IZ23) -> 0 | JG23: =SUM(IO23,IU23,JA23) -> 0 | JH23: =SUM(IP23,IV23,JB23) -> 0 | JI23: =SUM(IQ23,IW23,JC23) -> 0 | JJ23: =SUM(IR23,IX23,JD23) -> 0 | JK23: =SUM(JF23:JJ23) -> 0 | JM23: =SUM(T23,BD23,CB23,DF23,FB23,HJ23,IH23,JF23) -> 0 | JN23: =SUM(U23,BE23,CC23,DG23,FC23,HK23,II23,JG23) -> 0 | JO23: =SUM(V23,BF23,CD23,DH23,FD23,HL23,IJ23,JH23) -> 0 | JP23: =SUM(W23,BG23,CE23,DI23,FE23,HM23,IK23,JI23) -> 0 | JQ23: =SUM(X23,BH23,CF23,DJ23,FF23,HN23,IL23,JJ23) -> 0 | JR23: =SUM(HO23,FG23,BI23) -> 0
A24: IDF=Forest Tent Caterpillar | G24: =SUM(B24:F24) -> 0 | M24: =SUM(H24:L24) -> 0 | S24: =SUM(N24:R24) -> 0 | T24: =SUM(B24,H24,N24) -> 0 | U24: =SUM(C24,I24,O24) -> 0 | V24: =SUM(D24,J24,P24) -> 0 | W24: =SUM(E24,K24,Q24) -> 0 | X24: =SUM(F24,L24,R24) -> 0 | Y24: =SUM(T24:X24) -> 0 | AE24: =SUM(Z24:AD24) -> 0 | AK24: =SUM(AF24:AJ24) -> 0 | AQ24: =SUM(AL24:AP24) -> 0 | AW24: =SUM(AR24:AV24) -> 0 | BC24: =SUM(AX24:BB24) -> 0 | BD24: =SUM(Z24,AF24,AL24,AR24,AX24) -> 0 | BE24: =SUM(AA24,AG24,AM24,AS24,AY24) -> 0 | BF24: =SUM(AB24,AH24,AN24,AT24,AZ24) -> 0 | BG24: =SUM(AC24,AI24,AO24,AU24,BA24) -> 0 | BH24: =SUM(AD24,AJ24,AP24,AV24,BB24) -> 0 | BI24: =SUM(BD24:BH24) -> 0 | BO24: =SUM(BJ24:BN24) -> 0 | BQ24: 19833.189 | BR24: 14206.017 | BS24: 823.40643 | BU24: =SUM(BP24:BT24) -> 34862.612 | BW24: 167.3103 | CA24: =SUM(BV24:BZ24) -> 167.3103 | CB24: =SUM(BJ24,BP24,BV24) -> 0 | CC24: =SUM(BK24,BQ24,BW24) -> 20000.5 | CD24: =SUM(BL24,BR24,BX24) -> 14206.017 | CE24: =SUM(BM24,BS24,BY24) -> 823.40643 | CF24: =SUM(BN24,BT24,BZ24) -> 0 | CG24: =SUM(CB24:CF24) -> 35029.923 | CJ24: 224.68798 | CM24: =SUM(CH24:CL24) -> 224.68798 | CS24: =SUM(CN24:CR24) -> 0 | CY24: =SUM(CT24:CX24) -> 0 | DA24: 52.150388 | DB24: 1795.686 | DC24: 352.47741 | DE24: =SUM(CZ24:DD24) -> 2200.3138 | DF24: =SUM(CH24,CN24,CT24,CZ24) -> 0 | DG24: =SUM(CI24,CO24,CU24,DA24) -> 52.150388 | DH24: =SUM(CJ24,CP24,CV24,DB24) -> 2020.374 | DI24: =SUM(CK24,CQ24,CW24,DC24) -> 352.47741 | DJ24: =SUM(CL24,CR24,CX24,DD24) -> 0 | DK24: =SUM(DF24:DJ24) -> 2425.0018 | DQ24: =SUM(DL24:DP24) -> 0 | DW24: =SUM(DR24:DV24) -> 0 | EC24: =SUM(DX24:EB24) -> 0 | EI24: =SUM(ED24:EH24) -> 0 | EO24: =SUM(EJ24:EN24) -> 0 | EU24: =SUM(EP24:ET24) -> 0 | FA24: =SUM(EV24:EZ24) -> 0 | FB24: =SUM(DL24,DR24,DX24,ED24,EJ24,EP24,EV24) -> 0 | FC24: =SUM(DM24,DS24,DY24,EE24,EK24,EQ24,EW24) -> 0 | FD24: =SUM(DN24,DT24,DZ24,EF24,EL24,ER24,EX24) -> 0 | FE24: =SUM(DO24,DU24,EA24,EG24,EM24,ES24,EY24) -> 0 | FF24: =SUM(DP24,DV24,EB24,EH24,EN24,ET24,EZ24) -> 0 | FG24: =SUM(FB24:FF24) -> 0 | FI24: 1000.7268 | FM24: =SUM(FH24:FL24) -> 1000.7268 | FS24: =SUM(FN24:FR24) -> 0 | FY24: =SUM(FT24:FX24) -> 0 | GA24: 504.03646 | GB24: 548.18495 | GC24: 3150.0947 | GE24: =SUM(FZ24:GD24) -> 4202.3161 | GK24: =SUM(GF24:GJ24) -> 0 | GM24: 33.578126 | GN24: 42.465094 | GQ24: =SUM(GL24:GP24) -> 76.043221 | GS24: 5.814907 | GW24: =SUM(GR24:GV24) -> 5.814907 | GY24: 790.87209 | HC24: =SUM(GX24:HB24) -> 790.87209 | HG24: 16.017692 | HI24: =SUM(HD24:HH24) -> 16.017692 | HJ24: =SUM(FH24,FN24,FT24,FZ24,GF24,GL24,GR24,GX24,HD24) -> 0 | HK24: =SUM(FI24,FO24,FU24,GA24,GG24,GM24,GS24,GY24,HE24) -> 2335.0284 | HL24: =SUM(FJ24,FP24,FV24,GB24,GH24,GN24,GT24,GZ24,HF24) -> 590.65005 | HM24: =SUM(FK24,FQ24,FW24,GC24,GI24,GO24,GU24,HA24,HG24) -> 3166.1124 | HN24: =SUM(FL24,FR24,FX24,GD24,GJ24,GP24,GV24,HB24,HH24) -> 0 | HO24: =SUM(FM24,FS24,FY24,GE24,GK24,GQ24,GW24,HC24,HI24) -> 6091.7908 | HQ24: 320.28594 | HR24: 68.509921 | HU24: =SUM(HP24:HT24) -> 388.79586 | HW24: 13741.632 | HX24: 8514.3102 | HY24: 110.27747 | IA24: =SUM(HV24:HZ24) -> 22366.22 | IC24: 35495.148 | ID24: 28634.679 | IE24: 1291.0522 | IG24: =SUM(IB24:IF24) -> 65420.88 | IH24: =SUM(HP24,HV24,IB24) -> 0 | II24: =SUM(HQ24,HW24,IC24) -> 49557.066 | IJ24: =SUM(HR24,HX24,ID24) -> 37217.5 | IK24: =SUM(HS24,HY24,IE24) -> 1401.3297 | IL24: =SUM(HT24,HZ24,IF24) -> 0 | IM24: =SUM(HU24,IA24,IG24) -> 88175.895 | IO24: 903.00287 | IS24: =SUM(IN24:IR24) -> 903.00287 | IY24: =SUM(IT24:IX24) -> 0 | JE24: =SUM(IZ24:JD24) -> 0 | JF24: =SUM(IN24,IT24,IZ24) -> 0 | JG24: =SUM(IO24,IU24,JA24) -> 903.00287 | JH24: =SUM(IP24,IV24,JB24) -> 0 | JI24: =SUM(IQ24,IW24,JC24) -> 0 | JJ24: =SUM(IR24,IX24,JD24) -> 0 | JK24: =SUM(JF24:JJ24) -> 903.00287 | JM24: =SUM(T24,BD24,CB24,DF24,FB24,HJ24,IH24,JF24) -> 0 | JN24: =SUM(U24,BE24,CC24,DG24,FC24,HK24,II24,JG24) -> 72847.748 | JO24: =SUM(V24,BF24,CD24,DH24,FD24,HL24,IJ24,JH24) -> 54034.54 | JP24: =SUM(W24,BG24,CE24,DI24,FE24,HM24,IK24,JI24) -> 5743.3259 | JQ24: =SUM(X24,BH24,CF24,DJ24,FF24,HN24,IL24,JJ24) -> 0 | JR24: =SUM(HO24,FG24,BI24) -> 6091.7908
A25: IDH=Western Blackheaded Budworm | G25: =SUM(B25:F25) -> 0 | M25: =SUM(H25:L25) -> 0 | S25: =SUM(N25:R25) -> 0 | T25: =SUM(B25,H25,N25) -> 0 | U25: =SUM(C25,I25,O25) -> 0 | V25: =SUM(D25,J25,P25) -> 0 | W25: =SUM(E25,K25,Q25) -> 0 | X25: =SUM(F25,L25,R25) -> 0 | Y25: =SUM(T25:X25) -> 0 | AE25: =SUM(Z25:AD25) -> 0 | AK25: =SUM(AF25:AJ25) -> 0 | AQ25: =SUM(AL25:AP25) -> 0 | AS25: 43515.252 | AT25: 20303.871 | AU25: 23677.62 | AW25: =SUM(AR25:AV25) -> 87496.743 | BC25: =SUM(AX25:BB25) -> 0 | BD25: =SUM(Z25,AF25,AL25,AR25,AX25) -> 0 | BE25: =SUM(AA25,AG25,AM25,AS25,AY25) -> 43515.252 | BF25: =SUM(AB25,AH25,AN25,AT25,AZ25) -> 20303.871 | BG25: =SUM(AC25,AI25,AO25,AU25,BA25) -> 23677.62 | BH25: =SUM(AD25,AJ25,AP25,AV25,BB25) -> 0 | BI25: =SUM(BD25:BH25) -> 87496.743 | BO25: =SUM(BJ25:BN25) -> 0 | BU25: =SUM(BP25:BT25) -> 0 | CA25: =SUM(BV25:BZ25) -> 0 | CB25: =SUM(BJ25,BP25,BV25) -> 0 | CC25: =SUM(BK25,BQ25,BW25) -> 0 | CD25: =SUM(BL25,BR25,BX25) -> 0 | CE25: =SUM(BM25,BS25,BY25) -> 0 | CF25: =SUM(BN25,BT25,BZ25) -> 0 | CG25: =SUM(CB25:CF25) -> 0 | CM25: =SUM(CH25:CL25) -> 0 | CS25: =SUM(CN25:CR25) -> 0 | CY25: =SUM(CT25:CX25) -> 0 | DE25: =SUM(CZ25:DD25) -> 0 | DF25: =SUM(CH25,CN25,CT25,CZ25) -> 0 | DG25: =SUM(CI25,CO25,CU25,DA25) -> 0 | DH25: =SUM(CJ25,CP25,CV25,DB25) -> 0 | DI25: =SUM(CK25,CQ25,CW25,DC25) -> 0 | DJ25: =SUM(CL25,CR25,CX25,DD25) -> 0 | DK25: =SUM(DF25:DJ25) -> 0 | DQ25: =SUM(DL25:DP25) -> 0 | DW25: =SUM(DR25:DV25) -> 0 | EC25: =SUM(DX25:EB25) -> 0 | EI25: =SUM(ED25:EH25) -> 0 | EO25: =SUM(EJ25:EN25) -> 0 | EQ25: 154.99048 | EU25: =SUM(EP25:ET25) -> 154.99048 | FA25: =SUM(EV25:EZ25) -> 0 | FB25: =SUM(DL25,DR25,DX25,ED25,EJ25,EP25,EV25) -> 0 | FC25: =SUM(DM25,DS25,DY25,EE25,EK25,EQ25,EW25) -> 154.99048 | FD25: =SUM(DN25,DT25,DZ25,EF25,EL25,ER25,EX25) -> 0 | FE25: =SUM(DO25,DU25,EA25,EG25,EM25,ES25,EY25) -> 0 | FF25: =SUM(DP25,DV25,EB25,EH25,EN25,ET25,EZ25) -> 0 | FG25: =SUM(FB25:FF25) -> 154.99048 | FM25: =SUM(FH25:FL25) -> 0 | FS25: =SUM(FN25:FR25) -> 0 | FY25: =SUM(FT25:FX25) -> 0 | GA25: 3172.0715 | GB25: 2403.9844 | GC25: 12.89835 | GE25: =SUM(FZ25:GD25) -> 5588.9543 | GK25: =SUM(GF25:GJ25) -> 0 | GQ25: =SUM(GL25:GP25) -> 0 | GW25: =SUM(GR25:GV25) -> 0 | HC25: =SUM(GX25:HB25) -> 0 | HI25: =SUM(HD25:HH25) -> 0 | HJ25: =SUM(FH25,FN25,FT25,FZ25,GF25,GL25,GR25,GX25,HD25) -> 0 | HK25: =SUM(FI25,FO25,FU25,GA25,GG25,GM25,GS25,GY25,HE25) -> 3172.0715 | HL25: =SUM(FJ25,FP25,FV25,GB25,GH25,GN25,GT25,GZ25,HF25) -> 2403.9844 | HM25: =SUM(FK25,FQ25,FW25,GC25,GI25,GO25,GU25,HA25,HG25) -> 12.89835 | HN25: =SUM(FL25,FR25,FX25,GD25,GJ25,GP25,GV25,HB25,HH25) -> 0 | HO25: =SUM(FM25,FS25,FY25,GE25,GK25,GQ25,GW25,HC25,HI25) -> 5588.9543 | HU25: =SUM(HP25:HT25) -> 0 | IA25: =SUM(HV25:HZ25) -> 0 | IG25: =SUM(IB25:IF25) -> 0 | IH25: =SUM(HP25,HV25,IB25) -> 0 | II25: =SUM(HQ25,HW25,IC25) -> 0 | IJ25: =SUM(HR25,HX25,ID25) -> 0 | IK25: =SUM(HS25,HY25,IE25) -> 0 | IL25: =SUM(HT25,HZ25,IF25) -> 0 | IM25: =SUM(HU25,IA25,IG25) -> 0 | IS25: =SUM(IN25:IR25) -> 0 | IY25: =SUM(IT25:IX25) -> 0 | JE25: =SUM(IZ25:JD25) -> 0 | JF25: =SUM(IN25,IT25,IZ25) -> 0 | JG25: =SUM(IO25,IU25,JA25) -> 0 | JH25: =SUM(IP25,IV25,JB25) -> 0 | JI25: =SUM(IQ25,IW25,JC25) -> 0 | JJ25: =SUM(IR25,IX25,JD25) -> 0 | JK25: =SUM(JF25:JJ25) -> 0 | JM25: =SUM(T25,BD25,CB25,DF25,FB25,HJ25,IH25,JF25) -> 0 | JN25: =SUM(U25,BE25,CC25,DG25,FC25,HK25,II25,JG25) -> 46842.314 | JO25: =SUM(V25,BF25,CD25,DH25,FD25,HL25,IJ25,JH25) -> 22707.856 | JP25: =SUM(W25,BG25,CE25,DI25,FE25,HM25,IK25,JI25) -> 23690.519 | JQ25: =SUM(X25,BH25,CF25,DJ25,FF25,HN25,IL25,JJ25) -> 0 | JR25: =SUM(HO25,FG25,BI25) -> 93240.688
A26: IDI=Pine needle sheathminer | G26: =SUM(B26:F26) -> 0 | M26: =SUM(H26:L26) -> 0 | S26: =SUM(N26:R26) -> 0 | T26: =SUM(B26,H26,N26) -> 0 | U26: =SUM(C26,I26,O26) -> 0 | V26: =SUM(D26,J26,P26) -> 0 | W26: =SUM(E26,K26,Q26) -> 0 | X26: =SUM(F26,L26,R26) -> 0 | Y26: =SUM(T26:X26) -> 0 | AE26: =SUM(Z26:AD26) -> 0 | AK26: =SUM(AF26:AJ26) -> 0 | AQ26: =SUM(AL26:AP26) -> 0 | AW26: =SUM(AR26:AV26) -> 0 | BC26: =SUM(AX26:BB26) -> 0 | BD26: =SUM(Z26,AF26,AL26,AR26,AX26) -> 0 | BE26: =SUM(AA26,AG26,AM26,AS26,AY26) -> 0 | BF26: =SUM(AB26,AH26,AN26,AT26,AZ26) -> 0 | BG26: =SUM(AC26,AI26,AO26,AU26,BA26) -> 0 | BH26: =SUM(AD26,AJ26,AP26,AV26,BB26) -> 0 | BI26: =SUM(BD26:BH26) -> 0 | BO26: =SUM(BJ26:BN26) -> 0 | BU26: =SUM(BP26:BT26) -> 0 | CA26: =SUM(BV26:BZ26) -> 0 | CB26: =SUM(BJ26,BP26,BV26) -> 0 | CC26: =SUM(BK26,BQ26,BW26) -> 0 | CD26: =SUM(BL26,BR26,BX26) -> 0 | CE26: =SUM(BM26,BS26,BY26) -> 0 | CF26: =SUM(BN26,BT26,BZ26) -> 0 | CG26: =SUM(CB26:CF26) -> 0 | CM26: =SUM(CH26:CL26) -> 0 | CS26: =SUM(CN26:CR26) -> 0 | CY26: =SUM(CT26:CX26) -> 0 | DE26: =SUM(CZ26:DD26) -> 0 | DF26: =SUM(CH26,CN26,CT26,CZ26) -> 0 | DG26: =SUM(CI26,CO26,CU26,DA26) -> 0 | DH26: =SUM(CJ26,CP26,CV26,DB26) -> 0 | DI26: =SUM(CK26,CQ26,CW26,DC26) -> 0 | DJ26: =SUM(CL26,CR26,CX26,DD26) -> 0 | DK26: =SUM(DF26:DJ26) -> 0 | DQ26: =SUM(DL26:DP26) -> 0 | DW26: =SUM(DR26:DV26) -> 0 | EC26: =SUM(DX26:EB26) -> 0 | EI26: =SUM(ED26:EH26) -> 0 | EO26: =SUM(EJ26:EN26) -> 0 | EU26: =SUM(EP26:ET26) -> 0 | FA26: =SUM(EV26:EZ26) -> 0 | FB26: =SUM(DL26,DR26,DX26,ED26,EJ26,EP26,EV26) -> 0 | FC26: =SUM(DM26,DS26,DY26,EE26,EK26,EQ26,EW26) -> 0 | FD26: =SUM(DN26,DT26,DZ26,EF26,EL26,ER26,EX26) -> 0 | FE26: =SUM(DO26,DU26,EA26,EG26,EM26,ES26,EY26) -> 0 | FF26: =SUM(DP26,DV26,EB26,EH26,EN26,ET26,EZ26) -> 0 | FG26: =SUM(FB26:FF26) -> 0 | FM26: =SUM(FH26:FL26) -> 0 | FS26: =SUM(FN26:FR26) -> 0 | FY26: =SUM(FT26:FX26) -> 0 | GE26: =SUM(FZ26:GD26) -> 0 | GK26: =SUM(GF26:GJ26) -> 0 | GQ26: =SUM(GL26:GP26) -> 0 | GW26: =SUM(GR26:GV26) -> 0 | HC26: =SUM(GX26:HB26) -> 0 | HI26: =SUM(HD26:HH26) -> 0 | HJ26: =SUM(FH26,FN26,FT26,FZ26,GF26,GL26,GR26,GX26,HD26) -> 0 | HK26: =SUM(FI26,FO26,FU26,GA26,GG26,GM26,GS26,GY26,HE26) -> 0 | HL26: =SUM(FJ26,FP26,FV26,GB26,GH26,GN26,GT26,GZ26,HF26) -> 0 | HM26: =SUM(FK26,FQ26,FW26,GC26,GI26,GO26,GU26,HA26,HG26) -> 0 | HN26: =SUM(FL26,FR26,FX26,GD26,GJ26,GP26,GV26,HB26,HH26) -> 0 | HO26: =SUM(FM26,FS26,FY26,GE26,GK26,GQ26,GW26,HC26,HI26) -> 0 | HU26: =SUM(HP26:HT26) -> 0 | IA26: =SUM(HV26:HZ26) -> 0 | IG26: =SUM(IB26:IF26) -> 0 | IH26: =SUM(HP26,HV26,IB26) -> 0 | II26: =SUM(HQ26,HW26,IC26) -> 0 | IJ26: =SUM(HR26,HX26,ID26) -> 0 | IK26: =SUM(HS26,HY26,IE26) -> 0 | IL26: =SUM(HT26,HZ26,IF26) -> 0 | IM26: =SUM(HU26,IA26,IG26) -> 0 | IS26: =SUM(IN26:IR26) -> 0 | IY26: =SUM(IT26:IX26) -> 0 | JE26: =SUM(IZ26:JD26) -> 0 | JF26: =SUM(IN26,IT26,IZ26) -> 0 | JG26: =SUM(IO26,IU26,JA26) -> 0 | JH26: =SUM(IP26,IV26,JB26) -> 0 | JI26: =SUM(IQ26,IW26,JC26) -> 0 | JJ26: =SUM(IR26,IX26,JD26) -> 0 | JK26: =SUM(JF26:JJ26) -> 0 | JM26: =SUM(T26,BD26,CB26,DF26,FB26,HJ26,IH26,JF26) -> 0 | JN26: =SUM(U26,BE26,CC26,DG26,FC26,HK26,II26,JG26) -> 0 | JO26: =SUM(V26,BF26,CD26,DH26,FD26,HL26,IJ26,JH26) -> 0 | JP26: =SUM(W26,BG26,CE26,DI26,FE26,HM26,IK26,JI26) -> 0 | JQ26: =SUM(X26,BH26,CF26,DJ26,FF26,HN26,IL26,JJ26) -> 0 | JR26: =SUM(HO26,FG26,BI26) -> 0
A27: IDK=Northern Tent Caterpillar | G27: =SUM(B27:F27) -> 0 | M27: =SUM(H27:L27) -> 0 | S27: =SUM(N27:R27) -> 0 | T27: =SUM(B27,H27,N27) -> 0 | U27: =SUM(C27,I27,O27) -> 0 | V27: =SUM(D27,J27,P27) -> 0 | W27: =SUM(E27,K27,Q27) -> 0 | X27: =SUM(F27,L27,R27) -> 0 | Y27: =SUM(T27:X27) -> 0 | AE27: =SUM(Z27:AD27) -> 0 | AK27: =SUM(AF27:AJ27) -> 0 | AQ27: =SUM(AL27:AP27) -> 0 | AW27: =SUM(AR27:AV27) -> 0 | BC27: =SUM(AX27:BB27) -> 0 | BD27: =SUM(Z27,AF27,AL27,AR27,AX27) -> 0 | BE27: =SUM(AA27,AG27,AM27,AS27,AY27) -> 0 | BF27: =SUM(AB27,AH27,AN27,AT27,AZ27) -> 0 | BG27: =SUM(AC27,AI27,AO27,AU27,BA27) -> 0 | BH27: =SUM(AD27,AJ27,AP27,AV27,BB27) -> 0 | BI27: =SUM(BD27:BH27) -> 0 | BO27: =SUM(BJ27:BN27) -> 0 | BU27: =SUM(BP27:BT27) -> 0 | CA27: =SUM(BV27:BZ27) -> 0 | CB27: =SUM(BJ27,BP27,BV27) -> 0 | CC27: =SUM(BK27,BQ27,BW27) -> 0 | CD27: =SUM(BL27,BR27,BX27) -> 0 | CE27: =SUM(BM27,BS27,BY27) -> 0 | CF27: =SUM(BN27,BT27,BZ27) -> 0 | CG27: =SUM(CB27:CF27) -> 0 | CM27: =SUM(CH27:CL27) -> 0 | CS27: =SUM(CN27:CR27) -> 0 | CY27: =SUM(CT27:CX27) -> 0 | DE27: =SUM(CZ27:DD27) -> 0 | DF27: =SUM(CH27,CN27,CT27,CZ27) -> 0 | DG27: =SUM(CI27,CO27,CU27,DA27) -> 0 | DH27: =SUM(CJ27,CP27,CV27,DB27) -> 0 | DI27: =SUM(CK27,CQ27,CW27,DC27) -> 0 | DJ27: =SUM(CL27,CR27,CX27,DD27) -> 0 | DK27: =SUM(DF27:DJ27) -> 0 | DQ27: =SUM(DL27:DP27) -> 0 | DW27: =SUM(DR27:DV27) -> 0 | EC27: =SUM(DX27:EB27) -> 0 | EI27: =SUM(ED27:EH27) -> 0 | EO27: =SUM(EJ27:EN27) -> 0 | EU27: =SUM(EP27:ET27) -> 0 | FA27: =SUM(EV27:EZ27) -> 0 | FB27: =SUM(DL27,DR27,DX27,ED27,EJ27,EP27,EV27) -> 0 | FC27: =SUM(DM27,DS27,DY27,EE27,EK27,EQ27,EW27) -> 0 | FD27: =SUM(DN27,DT27,DZ27,EF27,EL27,ER27,EX27) -> 0 | FE27: =SUM(DO27,DU27,EA27,EG27,EM27,ES27,EY27) -> 0 | FF27: =SUM(DP27,DV27,EB27,EH27,EN27,ET27,EZ27) -> 0 | FG27: =SUM(FB27:FF27) -> 0 | FM27: =SUM(FH27:FL27) -> 0 | FS27: =SUM(FN27:FR27) -> 0 | FY27: =SUM(FT27:FX27) -> 0 | GE27: =SUM(FZ27:GD27) -> 0 | GK27: =SUM(GF27:GJ27) -> 0 | GQ27: =SUM(GL27:GP27) -> 0 | GW27: =SUM(GR27:GV27) -> 0 | HC27: =SUM(GX27:HB27) -> 0 | HI27: =SUM(HD27:HH27) -> 0 | HJ27: =SUM(FH27,FN27,FT27,FZ27,GF27,GL27,GR27,GX27,HD27) -> 0 | HK27: =SUM(FI27,FO27,FU27,GA27,GG27,GM27,GS27,GY27,HE27) -> 0 | HL27: =SUM(FJ27,FP27,FV27,GB27,GH27,GN27,GT27,GZ27,HF27) -> 0 | HM27: =SUM(FK27,FQ27,FW27,GC27,GI27,GO27,GU27,HA27,HG27) -> 0 | HN27: =SUM(FL27,FR27,FX27,GD27,GJ27,GP27,GV27,HB27,HH27) -> 0 | HO27: =SUM(FM27,FS27,FY27,GE27,GK27,GQ27,GW27,HC27,HI27) -> 0 | HU27: =SUM(HP27:HT27) -> 0 | IA27: =SUM(HV27:HZ27) -> 0 | IG27: =SUM(IB27:IF27) -> 0 | IH27: =SUM(HP27,HV27,IB27) -> 0 | II27: =SUM(HQ27,HW27,IC27) -> 0 | IJ27: =SUM(HR27,HX27,ID27) -> 0 | IK27: =SUM(HS27,HY27,IE27) -> 0 | IL27: =SUM(HT27,HZ27,IF27) -> 0 | IM27: =SUM(HU27,IA27,IG27) -> 0 | IS27: =SUM(IN27:IR27) -> 0 | IY27: =SUM(IT27:IX27) -> 0 | JE27: =SUM(IZ27:JD27) -> 0 | JF27: =SUM(IN27,IT27,IZ27) -> 0 | JG27: =SUM(IO27,IU27,JA27) -> 0 | JH27: =SUM(IP27,IV27,JB27) -> 0 | JI27: =SUM(IQ27,IW27,JC27) -> 0 | JJ27: =SUM(IR27,IX27,JD27) -> 0 | JK27: =SUM(JF27:JJ27) -> 0 | JM27: =SUM(T27,BD27,CB27,DF27,FB27,HJ27,IH27,JF27) -> 0 | JN27: =SUM(U27,BE27,CC27,DG27,FC27,HK27,II27,JG27) -> 0 | JO27: =SUM(V27,BF27,CD27,DH27,FD27,HL27,IJ27,JH27) -> 0 | JP27: =SUM(W27,BG27,CE27,DI27,FE27,HM27,IK27,JI27) -> 0 | JQ27: =SUM(X27,BH27,CF27,DJ27,FF27,HN27,IL27,JJ27) -> 0 | JR27: =SUM(HO27,FG27,BI27) -> 0
A28: IDL=Western Hemlock Looper | G28: =SUM(B28:F28) -> 0 | M28: =SUM(H28:L28) -> 0 | S28: =SUM(N28:R28) -> 0 | T28: =SUM(B28,H28,N28) -> 0 | U28: =SUM(C28,I28,O28) -> 0 | V28: =SUM(D28,J28,P28) -> 0 | W28: =SUM(E28,K28,Q28) -> 0 | X28: =SUM(F28,L28,R28) -> 0 | Y28: =SUM(T28:X28) -> 0 | AE28: =SUM(Z28:AD28) -> 0 | AK28: =SUM(AF28:AJ28) -> 0 | AM28: 275.47261 | AN28: 6.5963038 | AQ28: =SUM(AL28:AP28) -> 282.06892 | AW28: =SUM(AR28:AV28) -> 0 | BC28: =SUM(AX28:BB28) -> 0 | BD28: =SUM(Z28,AF28,AL28,AR28,AX28) -> 0 | BE28: =SUM(AA28,AG28,AM28,AS28,AY28) -> 275.47261 | BF28: =SUM(AB28,AH28,AN28,AT28,AZ28) -> 6.5963038 | BG28: =SUM(AC28,AI28,AO28,AU28,BA28) -> 0 | BH28: =SUM(AD28,AJ28,AP28,AV28,BB28) -> 0 | BI28: =SUM(BD28:BH28) -> 282.06892 | BO28: =SUM(BJ28:BN28) -> 0 | BU28: =SUM(BP28:BT28) -> 0 | CA28: =SUM(BV28:BZ28) -> 0 | CB28: =SUM(BJ28,BP28,BV28) -> 0 | CC28: =SUM(BK28,BQ28,BW28) -> 0 | CD28: =SUM(BL28,BR28,BX28) -> 0 | CE28: =SUM(BM28,BS28,BY28) -> 0 | CF28: =SUM(BN28,BT28,BZ28) -> 0 | CG28: =SUM(CB28:CF28) -> 0 | CI28: 2630.5331 | CJ28: 6.7549164 | CM28: =SUM(CH28:CL28) -> 2637.288 | CS28: =SUM(CN28:CR28) -> 0 | CY28: =SUM(CT28:CX28) -> 0 | DA28: 35.013586 | DE28: =SUM(CZ28:DD28) -> 35.013586 | DF28: =SUM(CH28,CN28,CT28,CZ28) -> 0 | DG28: =SUM(CI28,CO28,CU28,DA28) -> 2665.5466 | DH28: =SUM(CJ28,CP28,CV28,DB28) -> 6.7549164 | DI28: =SUM(CK28,CQ28,CW28,DC28) -> 0 | DJ28: =SUM(CL28,CR28,CX28,DD28) -> 0 | DK28: =SUM(DF28:DJ28) -> 2672.3016 | DQ28: =SUM(DL28:DP28) -> 0 | DW28: =SUM(DR28:DV28) -> 0 | EC28: =SUM(DX28:EB28) -> 0 | EI28: =SUM(ED28:EH28) -> 0 | EO28: =SUM(EJ28:EN28) -> 0 | EQ28: 4.8503863 | EU28: =SUM(EP28:ET28) -> 4.8503863 | EW28: 339.85612 | EX28: 18.507835 | FA28: =SUM(EV28:EZ28) -> 358.36396 | FB28: =SUM(DL28,DR28,DX28,ED28,EJ28,EP28,EV28) -> 0 | FC28: =SUM(DM28,DS28,DY28,EE28,EK28,EQ28,EW28) -> 344.70651 | FD28: =SUM(DN28,DT28,DZ28,EF28,EL28,ER28,EX28) -> 18.507835 | FE28: =SUM(DO28,DU28,EA28,EG28,EM28,ES28,EY28) -> 0 | FF28: =SUM(DP28,DV28,EB28,EH28,EN28,ET28,EZ28) -> 0 | FG28: =SUM(FB28:FF28) -> 363.21434 | FM28: =SUM(FH28:FL28) -> 0 | FS28: =SUM(FN28:FR28) -> 0 | FY28: =SUM(FT28:FX28) -> 0 | GE28: =SUM(FZ28:GD28) -> 0 | GK28: =SUM(GF28:GJ28) -> 0 | GQ28: =SUM(GL28:GP28) -> 0 | GW28: =SUM(GR28:GV28) -> 0 | HC28: =SUM(GX28:HB28) -> 0 | HI28: =SUM(HD28:HH28) -> 0 | HJ28: =SUM(FH28,FN28,FT28,FZ28,GF28,GL28,GR28,GX28,HD28) -> 0 | HK28: =SUM(FI28,FO28,FU28,GA28,GG28,GM28,GS28,GY28,HE28) -> 0 | HL28: =SUM(FJ28,FP28,FV28,GB28,GH28,GN28,GT28,GZ28,HF28) -> 0 | HM28: =SUM(FK28,FQ28,FW28,GC28,GI28,GO28,GU28,HA28,HG28) -> 0 | HN28: =SUM(FL28,FR28,FX28,GD28,GJ28,GP28,GV28,HB28,HH28) -> 0 | HO28: =SUM(FM28,FS28,FY28,GE28,GK28,GQ28,GW28,HC28,HI28) -> 0 | HU28: =SUM(HP28:HT28) -> 0 | IA28: =SUM(HV28:HZ28) -> 0 | IG28: =SUM(IB28:IF28) -> 0 | IH28: =SUM(HP28,HV28,IB28) -> 0 | II28: =SUM(HQ28,HW28,IC28) -> 0 | IJ28: =SUM(HR28,HX28,ID28) -> 0 | IK28: =SUM(HS28,HY28,IE28) -> 0 | IL28: =SUM(HT28,HZ28,IF28) -> 0 | IM28: =SUM(HU28,IA28,IG28) -> 0 | IS28: =SUM(IN28:IR28) -> 0 | IY28: =SUM(IT28:IX28) -> 0 | JE28: =SUM(IZ28:JD28) -> 0 | JF28: =SUM(IN28,IT28,IZ28) -> 0 | JG28: =SUM(IO28,IU28,JA28) -> 0 | JH28: =SUM(IP28,IV28,JB28) -> 0 | JI28: =SUM(IQ28,IW28,JC28) -> 0 | JJ28: =SUM(IR28,IX28,JD28) -> 0 | JK28: =SUM(JF28:JJ28) -> 0 | JM28: =SUM(T28,BD28,CB28,DF28,FB28,HJ28,IH28,JF28) -> 0 | JN28: =SUM(U28,BE28,CC28,DG28,FC28,HK28,II28,JG28) -> 3285.7258 | JO28: =SUM(V28,BF28,CD28,DH28,FD28,HL28,IJ28,JH28) -> 31.859056 | JP28: =SUM(W28,BG28,CE28,DI28,FE28,HM28,IK28,JI28) -> 0 | JQ28: =SUM(X28,BH28,CF28,DJ28,FF28,HN28,IL28,JJ28) -> 0 | JR28: =SUM(HO28,FG28,BI28) -> 645.28326
A29: IDN=Birch Leaf Miner | G29: =SUM(B29:F29) -> 0 | M29: =SUM(H29:L29) -> 0 | S29: =SUM(N29:R29) -> 0 | T29: =SUM(B29,H29,N29) -> 0 | U29: =SUM(C29,I29,O29) -> 0 | V29: =SUM(D29,J29,P29) -> 0 | W29: =SUM(E29,K29,Q29) -> 0 | X29: =SUM(F29,L29,R29) -> 0 | Y29: =SUM(T29:X29) -> 0 | AE29: =SUM(Z29:AD29) -> 0 | AK29: =SUM(AF29:AJ29) -> 0 | AQ29: =SUM(AL29:AP29) -> 0 | AW29: =SUM(AR29:AV29) -> 0 | BC29: =SUM(AX29:BB29) -> 0 | BD29: =SUM(Z29,AF29,AL29,AR29,AX29) -> 0 | BE29: =SUM(AA29,AG29,AM29,AS29,AY29) -> 0 | BF29: =SUM(AB29,AH29,AN29,AT29,AZ29) -> 0 | BG29: =SUM(AC29,AI29,AO29,AU29,BA29) -> 0 | BH29: =SUM(AD29,AJ29,AP29,AV29,BB29) -> 0 | BI29: =SUM(BD29:BH29) -> 0 | BO29: =SUM(BJ29:BN29) -> 0 | BU29: =SUM(BP29:BT29) -> 0 | CA29: =SUM(BV29:BZ29) -> 0 | CB29: =SUM(BJ29,BP29,BV29) -> 0 | CC29: =SUM(BK29,BQ29,BW29) -> 0 | CD29: =SUM(BL29,BR29,BX29) -> 0 | CE29: =SUM(BM29,BS29,BY29) -> 0 | CF29: =SUM(BN29,BT29,BZ29) -> 0 | CG29: =SUM(CB29:CF29) -> 0 | CI29: 268.59312 | CJ29: 667.05253 | CM29: =SUM(CH29:CL29) -> 935.64564 | CS29: =SUM(CN29:CR29) -> 0 | CY29: =SUM(CT29:CX29) -> 0 | DA29: 452.95112 | DB29: 1606.4959 | DC29: 33.37311 | DE29: =SUM(CZ29:DD29) -> 2092.8201 | DF29: =SUM(CH29,CN29,CT29,CZ29) -> 0 | DG29: =SUM(CI29,CO29,CU29,DA29) -> 721.54423 | DH29: =SUM(CJ29,CP29,CV29,DB29) -> 2273.5484 | DI29: =SUM(CK29,CQ29,CW29,DC29) -> 33.37311 | DJ29: =SUM(CL29,CR29,CX29,DD29) -> 0 | DK29: =SUM(DF29:DJ29) -> 3028.4658 | DM29: 947.64506 | DN29: 1800.4057 | DQ29: =SUM(DL29:DP29) -> 2748.0508 | DW29: =SUM(DR29:DV29) -> 0 | DY29: 5.9088325 | EC29: =SUM(DX29:EB29) -> 5.9088325 | EE29: 10.022362 | EI29: =SUM(ED29:EH29) -> 10.022362 | EO29: =SUM(EJ29:EN29) -> 0 | EQ29: 953.63932 | ER29: 843.23295 | EU29: =SUM(EP29:ET29) -> 1796.8723 | EW29: 432.72833 | EX29: 396.06027 | FA29: =SUM(EV29:EZ29) -> 828.7886 | FB29: =SUM(DL29,DR29,DX29,ED29,EJ29,EP29,EV29) -> 0 | FC29: =SUM(DM29,DS29,DY29,EE29,EK29,EQ29,EW29) -> 2349.9439 | FD29: =SUM(DN29,DT29,DZ29,EF29,EL29,ER29,EX29) -> 3039.699 | FE29: =SUM(DO29,DU29,EA29,EG29,EM29,ES29,EY29) -> 0 | FF29: =SUM(DP29,DV29,EB29,EH29,EN29,ET29,EZ29) -> 0 | FG29: =SUM(FB29:FF29) -> 5389.6429 | FM29: =SUM(FH29:FL29) -> 0 | FS29: =SUM(FN29:FR29) -> 0 | FY29: =SUM(FT29:FX29) -> 0 | GE29: =SUM(FZ29:GD29) -> 0 | GK29: =SUM(GF29:GJ29) -> 0 | GQ29: =SUM(GL29:GP29) -> 0 | GW29: =SUM(GR29:GV29) -> 0 | HC29: =SUM(GX29:HB29) -> 0 | HI29: =SUM(HD29:HH29) -> 0 | HJ29: =SUM(FH29,FN29,FT29,FZ29,GF29,GL29,GR29,GX29,HD29) -> 0 | HK29: =SUM(FI29,FO29,FU29,GA29,GG29,GM29,GS29,GY29,HE29) -> 0 | HL29: =SUM(FJ29,FP29,FV29,GB29,GH29,GN29,GT29,GZ29,HF29) -> 0 | HM29: =SUM(FK29,FQ29,FW29,GC29,GI29,GO29,GU29,HA29,HG29) -> 0 | HN29: =SUM(FL29,FR29,FX29,GD29,GJ29,GP29,GV29,HB29,HH29) -> 0 | HO29: =SUM(FM29,FS29,FY29,GE29,GK29,GQ29,GW29,HC29,HI29) -> 0 | HU29: =SUM(HP29:HT29) -> 0 | IA29: =SUM(HV29:HZ29) -> 0 | IG29: =SUM(IB29:IF29) -> 0 | IH29: =SUM(HP29,HV29,IB29) -> 0 | II29: =SUM(HQ29,HW29,IC29) -> 0 | IJ29: =SUM(HR29,HX29,ID29) -> 0 | IK29: =SUM(HS29,HY29,IE29) -> 0 | IL29: =SUM(HT29,HZ29,IF29) -> 0 | IM29: =SUM(HU29,IA29,IG29) -> 0 | IS29: =SUM(IN29:IR29) -> 0 | IY29: =SUM(IT29:IX29) -> 0 | JE29: =SUM(IZ29:JD29) -> 0 | JF29: =SUM(IN29,IT29,IZ29) -> 0 | JG29: =SUM(IO29,IU29,JA29) -> 0 | JH29: =SUM(IP29,IV29,JB29) -> 0 | JI29: =SUM(IQ29,IW29,JC29) -> 0 | JJ29: =SUM(IR29,IX29,JD29) -> 0 | JK29: =SUM(JF29:JJ29) -> 0 | JM29: =SUM(T29,BD29,CB29,DF29,FB29,HJ29,IH29,JF29) -> 0 | JN29: =SUM(U29,BE29,CC29,DG29,FC29,HK29,II29,JG29) -> 3071.4881 | JO29: =SUM(V29,BF29,CD29,DH29,FD29,HL29,IJ29,JH29) -> 5313.2474 | JP29: =SUM(W29,BG29,CE29,DI29,FE29,HM29,IK29,JI29) -> 33.37311 | JQ29: =SUM(X29,BH29,CF29,DJ29,FF29,HN29,IL29,JJ29) -> 0 | JR29: =SUM(HO29,FG29,BI29) -> 5389.6429
A30: IDP=Larch Sawfly | G30: =SUM(B30:F30) -> 0 | M30: =SUM(H30:L30) -> 0 | S30: =SUM(N30:R30) -> 0 | T30: =SUM(B30,H30,N30) -> 0 | U30: =SUM(C30,I30,O30) -> 0 | V30: =SUM(D30,J30,P30) -> 0 | W30: =SUM(E30,K30,Q30) -> 0 | X30: =SUM(F30,L30,R30) -> 0 | Y30: =SUM(T30:X30) -> 0 | AE30: =SUM(Z30:AD30) -> 0 | AK30: =SUM(AF30:AJ30) -> 0 | AQ30: =SUM(AL30:AP30) -> 0 | AW30: =SUM(AR30:AV30) -> 0 | BC30: =SUM(AX30:BB30) -> 0 | BD30: =SUM(Z30,AF30,AL30,AR30,AX30) -> 0 | BE30: =SUM(AA30,AG30,AM30,AS30,AY30) -> 0 | BF30: =SUM(AB30,AH30,AN30,AT30,AZ30) -> 0 | BG30: =SUM(AC30,AI30,AO30,AU30,BA30) -> 0 | BH30: =SUM(AD30,AJ30,AP30,AV30,BB30) -> 0 | BI30: =SUM(BD30:BH30) -> 0 | BO30: =SUM(BJ30:BN30) -> 0 | BU30: =SUM(BP30:BT30) -> 0 | CA30: =SUM(BV30:BZ30) -> 0 | CB30: =SUM(BJ30,BP30,BV30) -> 0 | CC30: =SUM(BK30,BQ30,BW30) -> 0 | CD30: =SUM(BL30,BR30,BX30) -> 0 | CE30: =SUM(BM30,BS30,BY30) -> 0 | CF30: =SUM(BN30,BT30,BZ30) -> 0 | CG30: =SUM(CB30:CF30) -> 0 | CM30: =SUM(CH30:CL30) -> 0 | CS30: =SUM(CN30:CR30) -> 0 | CY30: =SUM(CT30:CX30) -> 0 | DE30: =SUM(CZ30:DD30) -> 0 | DF30: =SUM(CH30,CN30,CT30,CZ30) -> 0 | DG30: =SUM(CI30,CO30,CU30,DA30) -> 0 | DH30: =SUM(CJ30,CP30,CV30,DB30) -> 0 | DI30: =SUM(CK30,CQ30,CW30,DC30) -> 0 | DJ30: =SUM(CL30,CR30,CX30,DD30) -> 0 | DK30: =SUM(DF30:DJ30) -> 0 | DQ30: =SUM(DL30:DP30) -> 0 | DW30: =SUM(DR30:DV30) -> 0 | EC30: =SUM(DX30:EB30) -> 0 | EI30: =SUM(ED30:EH30) -> 0 | EO30: =SUM(EJ30:EN30) -> 0 | EU30: =SUM(EP30:ET30) -> 0 | FA30: =SUM(EV30:EZ30) -> 0 | FB30: =SUM(DL30,DR30,DX30,ED30,EJ30,EP30,EV30) -> 0 | FC30: =SUM(DM30,DS30,DY30,EE30,EK30,EQ30,EW30) -> 0 | FD30: =SUM(DN30,DT30,DZ30,EF30,EL30,ER30,EX30) -> 0 | FE30: =SUM(DO30,DU30,EA30,EG30,EM30,ES30,EY30) -> 0 | FF30: =SUM(DP30,DV30,EB30,EH30,EN30,ET30,EZ30) -> 0 | FG30: =SUM(FB30:FF30) -> 0 | FM30: =SUM(FH30:FL30) -> 0 | FS30: =SUM(FN30:FR30) -> 0 | FY30: =SUM(FT30:FX30) -> 0 | GE30: =SUM(FZ30:GD30) -> 0 | GK30: =SUM(GF30:GJ30) -> 0 | GQ30: =SUM(GL30:GP30) -> 0 | GW30: =SUM(GR30:GV30) -> 0 | HC30: =SUM(GX30:HB30) -> 0 | HI30: =SUM(HD30:HH30) -> 0 | HJ30: =SUM(FH30,FN30,FT30,FZ30,GF30,GL30,GR30,GX30,HD30) -> 0 | HK30: =SUM(FI30,FO30,FU30,GA30,GG30,GM30,GS30,GY30,HE30) -> 0 | HL30: =SUM(FJ30,FP30,FV30,GB30,GH30,GN30,GT30,GZ30,HF30) -> 0 | HM30: =SUM(FK30,FQ30,FW30,GC30,GI30,GO30,GU30,HA30,HG30) -> 0 | HN30: =SUM(FL30,FR30,FX30,GD30,GJ30,GP30,GV30,HB30,HH30) -> 0 | HO30: =SUM(FM30,FS30,FY30,GE30,GK30,GQ30,GW30,HC30,HI30) -> 0 | HU30: =SUM(HP30:HT30) -> 0 | IA30: =SUM(HV30:HZ30) -> 0 | IG30: =SUM(IB30:IF30) -> 0 | IH30: =SUM(HP30,HV30,IB30) -> 0 | II30: =SUM(HQ30,HW30,IC30) -> 0 | IJ30: =SUM(HR30,HX30,ID30) -> 0 | IK30: =SUM(HS30,HY30,IE30) -> 0 | IL30: =SUM(HT30,HZ30,IF30) -> 0 | IM30: =SUM(HU30,IA30,IG30) -> 0 | IS30: =SUM(IN30:IR30) -> 0 | IY30: =SUM(IT30:IX30) -> 0 | JE30: =SUM(IZ30:JD30) -> 0 | JF30: =SUM(IN30,IT30,IZ30) -> 0 | JG30: =SUM(IO30,IU30,JA30) -> 0 | JH30: =SUM(IP30,IV30,JB30) -> 0 | JI30: =SUM(IQ30,IW30,JC30) -> 0 | JJ30: =SUM(IR30,IX30,JD30) -> 0 | JK30: =SUM(JF30:JJ30) -> 0 | JM30: =SUM(T30,BD30,CB30,DF30,FB30,HJ30,IH30,JF30) -> 0 | JN30: =SUM(U30,BE30,CC30,DG30,FC30,HK30,II30,JG30) -> 0 | JO30: =SUM(V30,BF30,CD30,DH30,FD30,HL30,IJ30,JH30) -> 0 | JP30: =SUM(W30,BG30,CE30,DI30,FE30,HM30,IK30,JI30) -> 0 | JQ30: =SUM(X30,BH30,CF30,DJ30,FF30,HN30,IL30,JJ30) -> 0 | JR30: =SUM(HO30,FG30,BI30) -> 0
A31: IDR=Alder Sawfly | G31: =SUM(B31:F31) -> 0 | M31: =SUM(H31:L31) -> 0 | S31: =SUM(N31:R31) -> 0 | T31: =SUM(B31,H31,N31) -> 0 | U31: =SUM(C31,I31,O31) -> 0 | V31: =SUM(D31,J31,P31) -> 0 | W31: =SUM(E31,K31,Q31) -> 0 | X31: =SUM(F31,L31,R31) -> 0 | Y31: =SUM(T31:X31) -> 0 | AE31: =SUM(Z31:AD31) -> 0 | AK31: =SUM(AF31:AJ31) -> 0 | AQ31: =SUM(AL31:AP31) -> 0 | AW31: =SUM(AR31:AV31) -> 0 | BC31: =SUM(AX31:BB31) -> 0 | BD31: =SUM(Z31,AF31,AL31,AR31,AX31) -> 0 | BE31: =SUM(AA31,AG31,AM31,AS31,AY31) -> 0 | BF31: =SUM(AB31,AH31,AN31,AT31,AZ31) -> 0 | BG31: =SUM(AC31,AI31,AO31,AU31,BA31) -> 0 | BH31: =SUM(AD31,AJ31,AP31,AV31,BB31) -> 0 | BI31: =SUM(BD31:BH31) -> 0 | BO31: =SUM(BJ31:BN31) -> 0 | BU31: =SUM(BP31:BT31) -> 0 | CA31: =SUM(BV31:BZ31) -> 0 | CB31: =SUM(BJ31,BP31,BV31) -> 0 | CC31: =SUM(BK31,BQ31,BW31) -> 0 | CD31: =SUM(BL31,BR31,BX31) -> 0 | CE31: =SUM(BM31,BS31,BY31) -> 0 | CF31: =SUM(BN31,BT31,BZ31) -> 0 | CG31: =SUM(CB31:CF31) -> 0 | CM31: =SUM(CH31:CL31) -> 0 | CS31: =SUM(CN31:CR31) -> 0 | CY31: =SUM(CT31:CX31) -> 0 | DE31: =SUM(CZ31:DD31) -> 0 | DF31: =SUM(CH31,CN31,CT31,CZ31) -> 0 | DG31: =SUM(CI31,CO31,CU31,DA31) -> 0 | DH31: =SUM(CJ31,CP31,CV31,DB31) -> 0 | DI31: =SUM(CK31,CQ31,CW31,DC31) -> 0 | DJ31: =SUM(CL31,CR31,CX31,DD31) -> 0 | DK31: =SUM(DF31:DJ31) -> 0 | DQ31: =SUM(DL31:DP31) -> 0 | DW31: =SUM(DR31:DV31) -> 0 | EC31: =SUM(DX31:EB31) -> 0 | EI31: =SUM(ED31:EH31) -> 0 | EO31: =SUM(EJ31:EN31) -> 0 | EU31: =SUM(EP31:ET31) -> 0 | FA31: =SUM(EV31:EZ31) -> 0 | FB31: =SUM(DL31,DR31,DX31,ED31,EJ31,EP31,EV31) -> 0 | FC31: =SUM(DM31,DS31,DY31,EE31,EK31,EQ31,EW31) -> 0 | FD31: =SUM(DN31,DT31,DZ31,EF31,EL31,ER31,EX31) -> 0 | FE31: =SUM(DO31,DU31,EA31,EG31,EM31,ES31,EY31) -> 0 | FF31: =SUM(DP31,DV31,EB31,EH31,EN31,ET31,EZ31) -> 0 | FG31: =SUM(FB31:FF31) -> 0 | FM31: =SUM(FH31:FL31) -> 0 | FS31: =SUM(FN31:FR31) -> 0 | FY31: =SUM(FT31:FX31) -> 0 | GE31: =SUM(FZ31:GD31) -> 0 | GK31: =SUM(GF31:GJ31) -> 0 | GQ31: =SUM(GL31:GP31) -> 0 | GW31: =SUM(GR31:GV31) -> 0 | HC31: =SUM(GX31:HB31) -> 0 | HI31: =SUM(HD31:HH31) -> 0 | HJ31: =SUM(FH31,FN31,FT31,FZ31,GF31,GL31,GR31,GX31,HD31) -> 0 | HK31: =SUM(FI31,FO31,FU31,GA31,GG31,GM31,GS31,GY31,HE31) -> 0 | HL31: =SUM(FJ31,FP31,FV31,GB31,GH31,GN31,GT31,GZ31,HF31) -> 0 | HM31: =SUM(FK31,FQ31,FW31,GC31,GI31,GO31,GU31,HA31,HG31) -> 0 | HN31: =SUM(FL31,FR31,FX31,GD31,GJ31,GP31,GV31,HB31,HH31) -> 0 | HO31: =SUM(FM31,FS31,FY31,GE31,GK31,GQ31,GW31,HC31,HI31) -> 0 | HU31: =SUM(HP31:HT31) -> 0 | IA31: =SUM(HV31:HZ31) -> 0 | IG31: =SUM(IB31:IF31) -> 0 | IH31: =SUM(HP31,HV31,IB31) -> 0 | II31: =SUM(HQ31,HW31,IC31) -> 0 | IJ31: =SUM(HR31,HX31,ID31) -> 0 | IK31: =SUM(HS31,HY31,IE31) -> 0 | IL31: =SUM(HT31,HZ31,IF31) -> 0 | IM31: =SUM(HU31,IA31,IG31) -> 0 | IS31: =SUM(IN31:IR31) -> 0 | IY31: =SUM(IT31:IX31) -> 0 | JE31: =SUM(IZ31:JD31) -> 0 | JF31: =SUM(IN31,IT31,IZ31) -> 0 | JG31: =SUM(IO31,IU31,JA31) -> 0 | JH31: =SUM(IP31,IV31,JB31) -> 0 | JI31: =SUM(IQ31,IW31,JC31) -> 0 | JJ31: =SUM(IR31,IX31,JD31) -> 0 | JK31: =SUM(JF31:JJ31) -> 0 | JM31: =SUM(T31,BD31,CB31,DF31,FB31,HJ31,IH31,JF31) -> 0 | JN31: =SUM(U31,BE31,CC31,DG31,FC31,HK31,II31,JG31) -> 0 | JO31: =SUM(V31,BF31,CD31,DH31,FD31,HL31,IJ31,JH31) -> 0 | JP31: =SUM(W31,BG31,CE31,DI31,FE31,HM31,IK31,JI31) -> 0 | JQ31: =SUM(X31,BH31,CF31,DJ31,FF31,HN31,IL31,JJ31) -> 0 | JR31: =SUM(HO31,FG31,BI31) -> 0
A32: IDS=Conifer Sawflies | G32: =SUM(B32:F32) -> 0 | M32: =SUM(H32:L32) -> 0 | S32: =SUM(N32:R32) -> 0 | T32: =SUM(B32,H32,N32) -> 0 | U32: =SUM(C32,I32,O32) -> 0 | V32: =SUM(D32,J32,P32) -> 0 | W32: =SUM(E32,K32,Q32) -> 0 | X32: =SUM(F32,L32,R32) -> 0 | Y32: =SUM(T32:X32) -> 0 | AE32: =SUM(Z32:AD32) -> 0 | AK32: =SUM(AF32:AJ32) -> 0 | AQ32: =SUM(AL32:AP32) -> 0 | AW32: =SUM(AR32:AV32) -> 0 | BC32: =SUM(AX32:BB32) -> 0 | BD32: =SUM(Z32,AF32,AL32,AR32,AX32) -> 0 | BE32: =SUM(AA32,AG32,AM32,AS32,AY32) -> 0 | BF32: =SUM(AB32,AH32,AN32,AT32,AZ32) -> 0 | BG32: =SUM(AC32,AI32,AO32,AU32,BA32) -> 0 | BH32: =SUM(AD32,AJ32,AP32,AV32,BB32) -> 0 | BI32: =SUM(BD32:BH32) -> 0 | BO32: =SUM(BJ32:BN32) -> 0 | BU32: =SUM(BP32:BT32) -> 0 | CA32: =SUM(BV32:BZ32) -> 0 | CB32: =SUM(BJ32,BP32,BV32) -> 0 | CC32: =SUM(BK32,BQ32,BW32) -> 0 | CD32: =SUM(BL32,BR32,BX32) -> 0 | CE32: =SUM(BM32,BS32,BY32) -> 0 | CF32: =SUM(BN32,BT32,BZ32) -> 0 | CG32: =SUM(CB32:CF32) -> 0 | CM32: =SUM(CH32:CL32) -> 0 | CS32: =SUM(CN32:CR32) -> 0 | CY32: =SUM(CT32:CX32) -> 0 | DE32: =SUM(CZ32:DD32) -> 0 | DF32: =SUM(CH32,CN32,CT32,CZ32) -> 0 | DG32: =SUM(CI32,CO32,CU32,DA32) -> 0 | DH32: =SUM(CJ32,CP32,CV32,DB32) -> 0 | DI32: =SUM(CK32,CQ32,CW32,DC32) -> 0 | DJ32: =SUM(CL32,CR32,CX32,DD32) -> 0 | DK32: =SUM(DF32:DJ32) -> 0 | DQ32: =SUM(DL32:DP32) -> 0 | DW32: =SUM(DR32:DV32) -> 0 | EC32: =SUM(DX32:EB32) -> 0 | EI32: =SUM(ED32:EH32) -> 0 | EO32: =SUM(EJ32:EN32) -> 0 | EU32: =SUM(EP32:ET32) -> 0 | FA32: =SUM(EV32:EZ32) -> 0 | FB32: =SUM(DL32,DR32,DX32,ED32,EJ32,EP32,EV32) -> 0 | FC32: =SUM(DM32,DS32,DY32,EE32,EK32,EQ32,EW32) -> 0 | FD32: =SUM(DN32,DT32,DZ32,EF32,EL32,ER32,EX32) -> 0 | FE32: =SUM(DO32,DU32,EA32,EG32,EM32,ES32,EY32) -> 0 | FF32: =SUM(DP32,DV32,EB32,EH32,EN32,ET32,EZ32) -> 0 | FG32: =SUM(FB32:FF32) -> 0 | FM32: =SUM(FH32:FL32) -> 0 | FS32: =SUM(FN32:FR32) -> 0 | FY32: =SUM(FT32:FX32) -> 0 | GE32: =SUM(FZ32:GD32) -> 0 | GK32: =SUM(GF32:GJ32) -> 0 | GQ32: =SUM(GL32:GP32) -> 0 | GW32: =SUM(GR32:GV32) -> 0 | HC32: =SUM(GX32:HB32) -> 0 | HI32: =SUM(HD32:HH32) -> 0 | HJ32: =SUM(FH32,FN32,FT32,FZ32,GF32,GL32,GR32,GX32,HD32) -> 0 | HK32: =SUM(FI32,FO32,FU32,GA32,GG32,GM32,GS32,GY32,HE32) -> 0 | HL32: =SUM(FJ32,FP32,FV32,GB32,GH32,GN32,GT32,GZ32,HF32) -> 0 | HM32: =SUM(FK32,FQ32,FW32,GC32,GI32,GO32,GU32,HA32,HG32) -> 0 | HN32: =SUM(FL32,FR32,FX32,GD32,GJ32,GP32,GV32,HB32,HH32) -> 0 | HO32: =SUM(FM32,FS32,FY32,GE32,GK32,GQ32,GW32,HC32,HI32) -> 0 | HU32: =SUM(HP32:HT32) -> 0 | IA32: =SUM(HV32:HZ32) -> 0 | IG32: =SUM(IB32:IF32) -> 0 | IH32: =SUM(HP32,HV32,IB32) -> 0 | II32: =SUM(HQ32,HW32,IC32) -> 0 | IJ32: =SUM(HR32,HX32,ID32) -> 0 | IK32: =SUM(HS32,HY32,IE32) -> 0 | IL32: =SUM(HT32,HZ32,IF32) -> 0 | IM32: =SUM(HU32,IA32,IG32) -> 0 | IS32: =SUM(IN32:IR32) -> 0 | IY32: =SUM(IT32:IX32) -> 0 | JE32: =SUM(IZ32:JD32) -> 0 | JF32: =SUM(IN32,IT32,IZ32) -> 0 | JG32: =SUM(IO32,IU32,JA32) -> 0 | JH32: =SUM(IP32,IV32,JB32) -> 0 | JI32: =SUM(IQ32,IW32,JC32) -> 0 | JJ32: =SUM(IR32,IX32,JD32) -> 0 | JK32: =SUM(JF32:JJ32) -> 0 | JM32: =SUM(T32,BD32,CB32,DF32,FB32,HJ32,IH32,JF32) -> 0 | JN32: =SUM(U32,BE32,CC32,DG32,FC32,HK32,II32,JG32) -> 0 | JO32: =SUM(V32,BF32,CD32,DH32,FD32,HL32,IJ32,JH32) -> 0 | JP32: =SUM(W32,BG32,CE32,DI32,FE32,HM32,IK32,JI32) -> 0 | JQ32: =SUM(X32,BH32,CF32,DJ32,FF32,HN32,IL32,JJ32) -> 0 | JR32: =SUM(HO32,FG32,BI32) -> 0
A33: IDT=Douglas-fir Tussock Moth | G33: =SUM(B33:F33) -> 0 | M33: =SUM(H33:L33) -> 0 | S33: =SUM(N33:R33) -> 0 | T33: =SUM(B33,H33,N33) -> 0 | U33: =SUM(C33,I33,O33) -> 0 | V33: =SUM(D33,J33,P33) -> 0 | W33: =SUM(E33,K33,Q33) -> 0 | X33: =SUM(F33,L33,R33) -> 0 | Y33: =SUM(T33:X33) -> 0 | AE33: =SUM(Z33:AD33) -> 0 | AK33: =SUM(AF33:AJ33) -> 0 | AQ33: =SUM(AL33:AP33) -> 0 | AW33: =SUM(AR33:AV33) -> 0 | BC33: =SUM(AX33:BB33) -> 0 | BD33: =SUM(Z33,AF33,AL33,AR33,AX33) -> 0 | BE33: =SUM(AA33,AG33,AM33,AS33,AY33) -> 0 | BF33: =SUM(AB33,AH33,AN33,AT33,AZ33) -> 0 | BG33: =SUM(AC33,AI33,AO33,AU33,BA33) -> 0 | BH33: =SUM(AD33,AJ33,AP33,AV33,BB33) -> 0 | BI33: =SUM(BD33:BH33) -> 0 | BO33: =SUM(BJ33:BN33) -> 0 | BU33: =SUM(BP33:BT33) -> 0 | CA33: =SUM(BV33:BZ33) -> 0 | CB33: =SUM(BJ33,BP33,BV33) -> 0 | CC33: =SUM(BK33,BQ33,BW33) -> 0 | CD33: =SUM(BL33,BR33,BX33) -> 0 | CE33: =SUM(BM33,BS33,BY33) -> 0 | CF33: =SUM(BN33,BT33,BZ33) -> 0 | CG33: =SUM(CB33:CF33) -> 0 | CI33: 958.16479 | CJ33: 3764.2821 | CK33: 9299.9869 | CM33: =SUM(CH33:CL33) -> 14022.434 | CO33: 32.879508 | CP33: 324.32847 | CQ33: 767.27699 | CS33: =SUM(CN33:CR33) -> 1124.485 | CW33: 7.631331 | CY33: =SUM(CT33:CX33) -> 7.631331 | DA33: 50.931716 | DB33: 1013.3605 | DC33: 83.982924 | DE33: =SUM(CZ33:DD33) -> 1148.2752 | DF33: =SUM(CH33,CN33,CT33,CZ33) -> 0 | DG33: =SUM(CI33,CO33,CU33,DA33) -> 1041.976 | DH33: =SUM(CJ33,CP33,CV33,DB33) -> 5101.9711 | DI33: =SUM(CK33,CQ33,CW33,DC33) -> 10158.878 | DJ33: =SUM(CL33,CR33,CX33,DD33) -> 0 | DK33: =SUM(DF33:DJ33) -> 16302.825 | DQ33: =SUM(DL33:DP33) -> 0 | DW33: =SUM(DR33:DV33) -> 0 | EC33: =SUM(DX33:EB33) -> 0 | EI33: =SUM(ED33:EH33) -> 0 | EO33: =SUM(EJ33:EN33) -> 0 | EU33: =SUM(EP33:ET33) -> 0 | FA33: =SUM(EV33:EZ33) -> 0 | FB33: =SUM(DL33,DR33,DX33,ED33,EJ33,EP33,EV33) -> 0 | FC33: =SUM(DM33,DS33,DY33,EE33,EK33,EQ33,EW33) -> 0 | FD33: =SUM(DN33,DT33,DZ33,EF33,EL33,ER33,EX33) -> 0 | FE33: =SUM(DO33,DU33,EA33,EG33,EM33,ES33,EY33) -> 0 | FF33: =SUM(DP33,DV33,EB33,EH33,EN33,ET33,EZ33) -> 0 | FG33: =SUM(FB33:FF33) -> 0 | FM33: =SUM(FH33:FL33) -> 0 | FS33: =SUM(FN33:FR33) -> 0 | FY33: =SUM(FT33:FX33) -> 0 | GE33: =SUM(FZ33:GD33) -> 0 | GK33: =SUM(GF33:GJ33) -> 0 | GQ33: =SUM(GL33:GP33) -> 0 | GW33: =SUM(GR33:GV33) -> 0 | HC33: =SUM(GX33:HB33) -> 0 | HI33: =SUM(HD33:HH33) -> 0 | HJ33: =SUM(FH33,FN33,FT33,FZ33,GF33,GL33,GR33,GX33,HD33) -> 0 | HK33: =SUM(FI33,FO33,FU33,GA33,GG33,GM33,GS33,GY33,HE33) -> 0 | HL33: =SUM(FJ33,FP33,FV33,GB33,GH33,GN33,GT33,GZ33,HF33) -> 0 | HM33: =SUM(FK33,FQ33,FW33,GC33,GI33,GO33,GU33,HA33,HG33) -> 0 | HN33: =SUM(FL33,FR33,FX33,GD33,GJ33,GP33,GV33,HB33,HH33) -> 0 | HO33: =SUM(FM33,FS33,FY33,GE33,GK33,GQ33,GW33,HC33,HI33) -> 0 | HU33: =SUM(HP33:HT33) -> 0 | IA33: =SUM(HV33:HZ33) -> 0 | IG33: =SUM(IB33:IF33) -> 0 | IH33: =SUM(HP33,HV33,IB33) -> 0 | II33: =SUM(HQ33,HW33,IC33) -> 0 | IJ33: =SUM(HR33,HX33,ID33) -> 0 | IK33: =SUM(HS33,HY33,IE33) -> 0 | IL33: =SUM(HT33,HZ33,IF33) -> 0 | IM33: =SUM(HU33,IA33,IG33) -> 0 | IS33: =SUM(IN33:IR33) -> 0 | IY33: =SUM(IT33:IX33) -> 0 | JE33: =SUM(IZ33:JD33) -> 0 | JF33: =SUM(IN33,IT33,IZ33) -> 0 | JG33: =SUM(IO33,IU33,JA33) -> 0 | JH33: =SUM(IP33,IV33,JB33) -> 0 | JI33: =SUM(IQ33,IW33,JC33) -> 0 | JJ33: =SUM(IR33,IX33,JD33) -> 0 | JK33: =SUM(JF33:JJ33) -> 0 | JM33: =SUM(T33,BD33,CB33,DF33,FB33,HJ33,IH33,JF33) -> 0 | JN33: =SUM(U33,BE33,CC33,DG33,FC33,HK33,II33,JG33) -> 1041.976 | JO33: =SUM(V33,BF33,CD33,DH33,FD33,HL33,IJ33,JH33) -> 5101.9711 | JP33: =SUM(W33,BG33,CE33,DI33,FE33,HM33,IK33,JI33) -> 10158.878 | JQ33: =SUM(X33,BH33,CF33,DJ33,FF33,HN33,IL33,JJ33) -> 0 | JR33: =SUM(HO33,FG33,BI33) -> 0
A34: IDU=Satin Moth | G34: =SUM(B34:F34) -> 0 | M34: =SUM(H34:L34) -> 0 | S34: =SUM(N34:R34) -> 0 | T34: =SUM(B34,H34,N34) -> 0 | U34: =SUM(C34,I34,O34) -> 0 | V34: =SUM(D34,J34,P34) -> 0 | W34: =SUM(E34,K34,Q34) -> 0 | X34: =SUM(F34,L34,R34) -> 0 | Y34: =SUM(T34:X34) -> 0 | AE34: =SUM(Z34:AD34) -> 0 | AK34: =SUM(AF34:AJ34) -> 0 | AQ34: =SUM(AL34:AP34) -> 0 | AW34: =SUM(AR34:AV34) -> 0 | BC34: =SUM(AX34:BB34) -> 0 | BD34: =SUM(Z34,AF34,AL34,AR34,AX34) -> 0 | BE34: =SUM(AA34,AG34,AM34,AS34,AY34) -> 0 | BF34: =SUM(AB34,AH34,AN34,AT34,AZ34) -> 0 | BG34: =SUM(AC34,AI34,AO34,AU34,BA34) -> 0 | BH34: =SUM(AD34,AJ34,AP34,AV34,BB34) -> 0 | BI34: =SUM(BD34:BH34) -> 0 | BO34: =SUM(BJ34:BN34) -> 0 | BU34: =SUM(BP34:BT34) -> 0 | CA34: =SUM(BV34:BZ34) -> 0 | CB34: =SUM(BJ34,BP34,BV34) -> 0 | CC34: =SUM(BK34,BQ34,BW34) -> 0 | CD34: =SUM(BL34,BR34,BX34) -> 0 | CE34: =SUM(BM34,BS34,BY34) -> 0 | CF34: =SUM(BN34,BT34,BZ34) -> 0 | CG34: =SUM(CB34:CF34) -> 0 | CK34: 1.2384477 | CM34: =SUM(CH34:CL34) -> 1.2384477 | CS34: =SUM(CN34:CR34) -> 0 | CY34: =SUM(CT34:CX34) -> 0 | DC34: 7.9047108 | DE34: =SUM(CZ34:DD34) -> 7.9047108 | DF34: =SUM(CH34,CN34,CT34,CZ34) -> 0 | DG34: =SUM(CI34,CO34,CU34,DA34) -> 0 | DH34: =SUM(CJ34,CP34,CV34,DB34) -> 0 | DI34: =SUM(CK34,CQ34,CW34,DC34) -> 9.1431585 | DJ34: =SUM(CL34,CR34,CX34,DD34) -> 0 | DK34: =SUM(DF34:DJ34) -> 9.1431585 | DQ34: =SUM(DL34:DP34) -> 0 | DW34: =SUM(DR34:DV34) -> 0 | EC34: =SUM(DX34:EB34) -> 0 | EI34: =SUM(ED34:EH34) -> 0 | EO34: =SUM(EJ34:EN34) -> 0 | EU34: =SUM(EP34:ET34) -> 0 | FA34: =SUM(EV34:EZ34) -> 0 | FB34: =SUM(DL34,DR34,DX34,ED34,EJ34,EP34,EV34) -> 0 | FC34: =SUM(DM34,DS34,DY34,EE34,EK34,EQ34,EW34) -> 0 | FD34: =SUM(DN34,DT34,DZ34,EF34,EL34,ER34,EX34) -> 0 | FE34: =SUM(DO34,DU34,EA34,EG34,EM34,ES34,EY34) -> 0 | FF34: =SUM(DP34,DV34,EB34,EH34,EN34,ET34,EZ34) -> 0 | FG34: =SUM(FB34:FF34) -> 0 | FM34: =SUM(FH34:FL34) -> 0 | FS34: =SUM(FN34:FR34) -> 0 | FY34: =SUM(FT34:FX34) -> 0 | GE34: =SUM(FZ34:GD34) -> 0 | GK34: =SUM(GF34:GJ34) -> 0 | GQ34: =SUM(GL34:GP34) -> 0 | GW34: =SUM(GR34:GV34) -> 0 | HC34: =SUM(GX34:HB34) -> 0 | HI34: =SUM(HD34:HH34) -> 0 | HJ34: =SUM(FH34,FN34,FT34,FZ34,GF34,GL34,GR34,GX34,HD34) -> 0 | HK34: =SUM(FI34,FO34,FU34,GA34,GG34,GM34,GS34,GY34,HE34) -> 0 | HL34: =SUM(FJ34,FP34,FV34,GB34,GH34,GN34,GT34,GZ34,HF34) -> 0 | HM34: =SUM(FK34,FQ34,FW34,GC34,GI34,GO34,GU34,HA34,HG34) -> 0 | HN34: =SUM(FL34,FR34,FX34,GD34,GJ34,GP34,GV34,HB34,HH34) -> 0 | HO34: =SUM(FM34,FS34,FY34,GE34,GK34,GQ34,GW34,HC34,HI34) -> 0 | HU34: =SUM(HP34:HT34) -> 0 | IA34: =SUM(HV34:HZ34) -> 0 | IG34: =SUM(IB34:IF34) -> 0 | IH34: =SUM(HP34,HV34,IB34) -> 0 | II34: =SUM(HQ34,HW34,IC34) -> 0 | IJ34: =SUM(HR34,HX34,ID34) -> 0 | IK34: =SUM(HS34,HY34,IE34) -> 0 | IL34: =SUM(HT34,HZ34,IF34) -> 0 | IM34: =SUM(HU34,IA34,IG34) -> 0 | IS34: =SUM(IN34:IR34) -> 0 | IY34: =SUM(IT34:IX34) -> 0 | JE34: =SUM(IZ34:JD34) -> 0 | JF34: =SUM(IN34,IT34,IZ34) -> 0 | JG34: =SUM(IO34,IU34,JA34) -> 0 | JH34: =SUM(IP34,IV34,JB34) -> 0 | JI34: =SUM(IQ34,IW34,JC34) -> 0 | JJ34: =SUM(IR34,IX34,JD34) -> 0 | JK34: =SUM(JF34:JJ34) -> 0 | JM34: =SUM(T34,BD34,CB34,DF34,FB34,HJ34,IH34,JF34) -> 0 | JN34: =SUM(U34,BE34,CC34,DG34,FC34,HK34,II34,JG34) -> 0 | JO34: =SUM(V34,BF34,CD34,DH34,FD34,HL34,IJ34,JH34) -> 0 | JP34: =SUM(W34,BG34,CE34,DI34,FE34,HM34,IK34,JI34) -> 9.1431585 | JQ34: =SUM(X34,BH34,CF34,DJ34,FF34,HN34,IL34,JJ34) -> 0 | JR34: =SUM(HO34,FG34,BI34) -> 0
A35: IDW=Western Spruce Budworm | C35: 712.04323 | D35: 304.47766 | G35: =SUM(B35:F35) -> 1016.5209 | M35: =SUM(H35:L35) -> 0 | S35: =SUM(N35:R35) -> 0 | T35: =SUM(B35,H35,N35) -> 0 | U35: =SUM(C35,I35,O35) -> 712.04323 | V35: =SUM(D35,J35,P35) -> 304.47766 | W35: =SUM(E35,K35,Q35) -> 0 | X35: =SUM(F35,L35,R35) -> 0 | Y35: =SUM(T35:X35) -> 1016.5209 | AE35: =SUM(Z35:AD35) -> 0 | AK35: =SUM(AF35:AJ35) -> 0 | AQ35: =SUM(AL35:AP35) -> 0 | AW35: =SUM(AR35:AV35) -> 0 | BC35: =SUM(AX35:BB35) -> 0 | BD35: =SUM(Z35,AF35,AL35,AR35,AX35) -> 0 | BE35: =SUM(AA35,AG35,AM35,AS35,AY35) -> 0 | BF35: =SUM(AB35,AH35,AN35,AT35,AZ35) -> 0 | BG35: =SUM(AC35,AI35,AO35,AU35,BA35) -> 0 | BH35: =SUM(AD35,AJ35,AP35,AV35,BB35) -> 0 | BI35: =SUM(BD35:BH35) -> 0 | BK35: 36926.545 | BL35: 2341.2394 | BO35: =SUM(BJ35:BN35) -> 39267.784 | BQ35: 7033.3356 | BR35: 3095.6252 | BU35: =SUM(BP35:BT35) -> 10128.961 | BW35: 128979.96 | BX35: 17373.441 | CA35: =SUM(BV35:BZ35) -> 146353.4 | CB35: =SUM(BJ35,BP35,BV35) -> 0 | CC35: =SUM(BK35,BQ35,BW35) -> 172939.84 | CD35: =SUM(BL35,BR35,BX35) -> 22810.306 | CE35: =SUM(BM35,BS35,BY35) -> 0 | CF35: =SUM(BN35,BT35,BZ35) -> 0 | CG35: =SUM(CB35:CF35) -> 195750.15 | CI35: 107076.69 | CJ35: 9262.2209 | CM35: =SUM(CH35:CL35) -> 116338.92 | CO35: 28087.551 | CP35: 5328.2707 | CS35: =SUM(CN35:CR35) -> 33415.822 | CU35: 101593.86 | CV35: 11109.588 | CY35: =SUM(CT35:CX35) -> 112703.45 | DA35: 39070.968 | DB35: 1786.2441 | DC35: 38.8568 | DE35: =SUM(CZ35:DD35) -> 40896.069 | DF35: =SUM(CH35,CN35,CT35,CZ35) -> 0 | DG35: =SUM(CI35,CO35,CU35,DA35) -> 275829.07 | DH35: =SUM(CJ35,CP35,CV35,DB35) -> 27486.323 | DI35: =SUM(CK35,CQ35,CW35,DC35) -> 38.8568 | DJ35: =SUM(CL35,CR35,CX35,DD35) -> 0 | DK35: =SUM(DF35:DJ35) -> 303354.25 | DQ35: =SUM(DL35:DP35) -> 0 | DW35: =SUM(DR35:DV35) -> 0 | EC35: =SUM(DX35:EB35) -> 0 | EI35: =SUM(ED35:EH35) -> 0 | EO35: =SUM(EJ35:EN35) -> 0 | EU35: =SUM(EP35:ET35) -> 0 | FA35: =SUM(EV35:EZ35) -> 0 | FB35: =SUM(DL35,DR35,DX35,ED35,EJ35,EP35,EV35) -> 0 | FC35: =SUM(DM35,DS35,DY35,EE35,EK35,EQ35,EW35) -> 0 | FD35: =SUM(DN35,DT35,DZ35,EF35,EL35,ER35,EX35) -> 0 | FE35: =SUM(DO35,DU35,EA35,EG35,EM35,ES35,EY35) -> 0 | FF35: =SUM(DP35,DV35,EB35,EH35,EN35,ET35,EZ35) -> 0 | FG35: =SUM(FB35:FF35) -> 0 | FM35: =SUM(FH35:FL35) -> 0 | FS35: =SUM(FN35:FR35) -> 0 | FY35: =SUM(FT35:FX35) -> 0 | GE35: =SUM(FZ35:GD35) -> 0 | GK35: =SUM(GF35:GJ35) -> 0 | GQ35: =SUM(GL35:GP35) -> 0 | GW35: =SUM(GR35:GV35) -> 0 | HC35: =SUM(GX35:HB35) -> 0 | HI35: =SUM(HD35:HH35) -> 0 | HJ35: =SUM(FH35,FN35,FT35,FZ35,GF35,GL35,GR35,GX35,HD35) -> 0 | HK35: =SUM(FI35,FO35,FU35,GA35,GG35,GM35,GS35,GY35,HE35) -> 0 | HL35: =SUM(FJ35,FP35,FV35,GB35,GH35,GN35,GT35,GZ35,HF35) -> 0 | HM35: =SUM(FK35,FQ35,FW35,GC35,GI35,GO35,GU35,HA35,HG35) -> 0 | HN35: =SUM(FL35,FR35,FX35,GD35,GJ35,GP35,GV35,HB35,HH35) -> 0 | HO35: =SUM(FM35,FS35,FY35,GE35,GK35,GQ35,GW35,HC35,HI35) -> 0 | HU35: =SUM(HP35:HT35) -> 0 | IA35: =SUM(HV35:HZ35) -> 0 | IG35: =SUM(IB35:IF35) -> 0 | IH35: =SUM(HP35,HV35,IB35) -> 0 | II35: =SUM(HQ35,HW35,IC35) -> 0 | IJ35: =SUM(HR35,HX35,ID35) -> 0 | IK35: =SUM(HS35,HY35,IE35) -> 0 | IL35: =SUM(HT35,HZ35,IF35) -> 0 | IM35: =SUM(HU35,IA35,IG35) -> 0 | IS35: =SUM(IN35:IR35) -> 0 | IY35: =SUM(IT35:IX35) -> 0 | JE35: =SUM(IZ35:JD35) -> 0 | JF35: =SUM(IN35,IT35,IZ35) -> 0 | JG35: =SUM(IO35,IU35,JA35) -> 0 | JH35: =SUM(IP35,IV35,JB35) -> 0 | JI35: =SUM(IQ35,IW35,JC35) -> 0 | JJ35: =SUM(IR35,IX35,JD35) -> 0 | JK35: =SUM(JF35:JJ35) -> 0 | JM35: =SUM(T35,BD35,CB35,DF35,FB35,HJ35,IH35,JF35) -> 0 | JN35: =SUM(U35,BE35,CC35,DG35,FC35,HK35,II35,JG35) -> 449480.96 | JO35: =SUM(V35,BF35,CD35,DH35,FD35,HL35,IJ35,JH35) -> 50601.107 | JP35: =SUM(W35,BG35,CE35,DI35,FE35,HM35,IK35,JI35) -> 38.8568 | JQ35: =SUM(X35,BH35,CF35,DJ35,FF35,HN35,IL35,JJ35) -> 0 | JR35: =SUM(HO35,FG35,BI35) -> 0
A36: IDX=Large Aspen Tortrix | G36: =SUM(B36:F36) -> 0 | M36: =SUM(H36:L36) -> 0 | S36: =SUM(N36:R36) -> 0 | T36: =SUM(B36,H36,N36) -> 0 | U36: =SUM(C36,I36,O36) -> 0 | V36: =SUM(D36,J36,P36) -> 0 | W36: =SUM(E36,K36,Q36) -> 0 | X36: =SUM(F36,L36,R36) -> 0 | Y36: =SUM(T36:X36) -> 0 | AE36: =SUM(Z36:AD36) -> 0 | AK36: =SUM(AF36:AJ36) -> 0 | AQ36: =SUM(AL36:AP36) -> 0 | AW36: =SUM(AR36:AV36) -> 0 | BC36: =SUM(AX36:BB36) -> 0 | BD36: =SUM(Z36,AF36,AL36,AR36,AX36) -> 0 | BE36: =SUM(AA36,AG36,AM36,AS36,AY36) -> 0 | BF36: =SUM(AB36,AH36,AN36,AT36,AZ36) -> 0 | BG36: =SUM(AC36,AI36,AO36,AU36,BA36) -> 0 | BH36: =SUM(AD36,AJ36,AP36,AV36,BB36) -> 0 | BI36: =SUM(BD36:BH36) -> 0 | BO36: =SUM(BJ36:BN36) -> 0 | BU36: =SUM(BP36:BT36) -> 0 | CA36: =SUM(BV36:BZ36) -> 0 | CB36: =SUM(BJ36,BP36,BV36) -> 0 | CC36: =SUM(BK36,BQ36,BW36) -> 0 | CD36: =SUM(BL36,BR36,BX36) -> 0 | CE36: =SUM(BM36,BS36,BY36) -> 0 | CF36: =SUM(BN36,BT36,BZ36) -> 0 | CG36: =SUM(CB36:CF36) -> 0 | CM36: =SUM(CH36:CL36) -> 0 | CS36: =SUM(CN36:CR36) -> 0 | CY36: =SUM(CT36:CX36) -> 0 | DE36: =SUM(CZ36:DD36) -> 0 | DF36: =SUM(CH36,CN36,CT36,CZ36) -> 0 | DG36: =SUM(CI36,CO36,CU36,DA36) -> 0 | DH36: =SUM(CJ36,CP36,CV36,DB36) -> 0 | DI36: =SUM(CK36,CQ36,CW36,DC36) -> 0 | DJ36: =SUM(CL36,CR36,CX36,DD36) -> 0 | DK36: =SUM(DF36:DJ36) -> 0 | DQ36: =SUM(DL36:DP36) -> 0 | DW36: =SUM(DR36:DV36) -> 0 | EC36: =SUM(DX36:EB36) -> 0 | EI36: =SUM(ED36:EH36) -> 0 | EO36: =SUM(EJ36:EN36) -> 0 | EU36: =SUM(EP36:ET36) -> 0 | FA36: =SUM(EV36:EZ36) -> 0 | FB36: =SUM(DL36,DR36,DX36,ED36,EJ36,EP36,EV36) -> 0 | FC36: =SUM(DM36,DS36,DY36,EE36,EK36,EQ36,EW36) -> 0 | FD36: =SUM(DN36,DT36,DZ36,EF36,EL36,ER36,EX36) -> 0 | FE36: =SUM(DO36,DU36,EA36,EG36,EM36,ES36,EY36) -> 0 | FF36: =SUM(DP36,DV36,EB36,EH36,EN36,ET36,EZ36) -> 0 | FG36: =SUM(FB36:FF36) -> 0 | FM36: =SUM(FH36:FL36) -> 0 | FS36: =SUM(FN36:FR36) -> 0 | FY36: =SUM(FT36:FX36) -> 0 | GE36: =SUM(FZ36:GD36) -> 0 | GK36: =SUM(GF36:GJ36) -> 0 | GQ36: =SUM(GL36:GP36) -> 0 | GW36: =SUM(GR36:GV36) -> 0 | HC36: =SUM(GX36:HB36) -> 0 | HI36: =SUM(HD36:HH36) -> 0 | HJ36: =SUM(FH36,FN36,FT36,FZ36,GF36,GL36,GR36,GX36,HD36) -> 0 | HK36: =SUM(FI36,FO36,FU36,GA36,GG36,GM36,GS36,GY36,HE36) -> 0 | HL36: =SUM(FJ36,FP36,FV36,GB36,GH36,GN36,GT36,GZ36,HF36) -> 0 | HM36: =SUM(FK36,FQ36,FW36,GC36,GI36,GO36,GU36,HA36,HG36) -> 0 | HN36: =SUM(FL36,FR36,FX36,GD36,GJ36,GP36,GV36,HB36,HH36) -> 0 | HO36: =SUM(FM36,FS36,FY36,GE36,GK36,GQ36,GW36,HC36,HI36) -> 0 | HU36: =SUM(HP36:HT36) -> 0 | IA36: =SUM(HV36:HZ36) -> 0 | IG36: =SUM(IB36:IF36) -> 0 | IH36: =SUM(HP36,HV36,IB36) -> 0 | II36: =SUM(HQ36,HW36,IC36) -> 0 | IJ36: =SUM(HR36,HX36,ID36) -> 0 | IK36: =SUM(HS36,HY36,IE36) -> 0 | IL36: =SUM(HT36,HZ36,IF36) -> 0 | IM36: =SUM(HU36,IA36,IG36) -> 0 | IS36: =SUM(IN36:IR36) -> 0 | IY36: =SUM(IT36:IX36) -> 0 | JE36: =SUM(IZ36:JD36) -> 0 | JF36: =SUM(IN36,IT36,IZ36) -> 0 | JG36: =SUM(IO36,IU36,JA36) -> 0 | JH36: =SUM(IP36,IV36,JB36) -> 0 | JI36: =SUM(IQ36,IW36,JC36) -> 0 | JJ36: =SUM(IR36,IX36,JD36) -> 0 | JK36: =SUM(JF36:JJ36) -> 0 | JM36: =SUM(T36,BD36,CB36,DF36,FB36,HJ36,IH36,JF36) -> 0 | JN36: =SUM(U36,BE36,CC36,DG36,FC36,HK36,II36,JG36) -> 0 | JO36: =SUM(V36,BF36,CD36,DH36,FD36,HL36,IJ36,JH36) -> 0 | JP36: =SUM(W36,BG36,CE36,DI36,FE36,HM36,IK36,JI36) -> 0 | JQ36: =SUM(X36,BH36,CF36,DJ36,FF36,HN36,IL36,JJ36) -> 0 | JR36: =SUM(HO36,FG36,BI36) -> 0
A37: IDZ=False Hemlock Looper | G37: =SUM(B37:F37) -> 0 | M37: =SUM(H37:L37) -> 0 | S37: =SUM(N37:R37) -> 0 | T37: =SUM(B37,H37,N37) -> 0 | U37: =SUM(C37,I37,O37) -> 0 | V37: =SUM(D37,J37,P37) -> 0 | W37: =SUM(E37,K37,Q37) -> 0 | X37: =SUM(F37,L37,R37) -> 0 | Y37: =SUM(T37:X37) -> 0 | AE37: =SUM(Z37:AD37) -> 0 | AK37: =SUM(AF37:AJ37) -> 0 | AQ37: =SUM(AL37:AP37) -> 0 | AW37: =SUM(AR37:AV37) -> 0 | BC37: =SUM(AX37:BB37) -> 0 | BD37: =SUM(Z37,AF37,AL37,AR37,AX37) -> 0 | BE37: =SUM(AA37,AG37,AM37,AS37,AY37) -> 0 | BF37: =SUM(AB37,AH37,AN37,AT37,AZ37) -> 0 | BG37: =SUM(AC37,AI37,AO37,AU37,BA37) -> 0 | BH37: =SUM(AD37,AJ37,AP37,AV37,BB37) -> 0 | BI37: =SUM(BD37:BH37) -> 0 | BO37: =SUM(BJ37:BN37) -> 0 | BU37: =SUM(BP37:BT37) -> 0 | CA37: =SUM(BV37:BZ37) -> 0 | CB37: =SUM(BJ37,BP37,BV37) -> 0 | CC37: =SUM(BK37,BQ37,BW37) -> 0 | CD37: =SUM(BL37,BR37,BX37) -> 0 | CE37: =SUM(BM37,BS37,BY37) -> 0 | CF37: =SUM(BN37,BT37,BZ37) -> 0 | CG37: =SUM(CB37:CF37) -> 0 | CM37: =SUM(CH37:CL37) -> 0 | CS37: =SUM(CN37:CR37) -> 0 | CY37: =SUM(CT37:CX37) -> 0 | DE37: =SUM(CZ37:DD37) -> 0 | DF37: =SUM(CH37,CN37,CT37,CZ37) -> 0 | DG37: =SUM(CI37,CO37,CU37,DA37) -> 0 | DH37: =SUM(CJ37,CP37,CV37,DB37) -> 0 | DI37: =SUM(CK37,CQ37,CW37,DC37) -> 0 | DJ37: =SUM(CL37,CR37,CX37,DD37) -> 0 | DK37: =SUM(DF37:DJ37) -> 0 | DQ37: =SUM(DL37:DP37) -> 0 | DW37: =SUM(DR37:DV37) -> 0 | EC37: =SUM(DX37:EB37) -> 0 | EI37: =SUM(ED37:EH37) -> 0 | EK37: 220.34987 | EO37: =SUM(EJ37:EN37) -> 220.34987 | EU37: =SUM(EP37:ET37) -> 0 | FA37: =SUM(EV37:EZ37) -> 0 | FB37: =SUM(DL37,DR37,DX37,ED37,EJ37,EP37,EV37) -> 0 | FC37: =SUM(DM37,DS37,DY37,EE37,EK37,EQ37,EW37) -> 220.34987 | FD37: =SUM(DN37,DT37,DZ37,EF37,EL37,ER37,EX37) -> 0 | FE37: =SUM(DO37,DU37,EA37,EG37,EM37,ES37,EY37) -> 0 | FF37: =SUM(DP37,DV37,EB37,EH37,EN37,ET37,EZ37) -> 0 | FG37: =SUM(FB37:FF37) -> 220.34987 | FM37: =SUM(FH37:FL37) -> 0 | FS37: =SUM(FN37:FR37) -> 0 | FY37: =SUM(FT37:FX37) -> 0 | GE37: =SUM(FZ37:GD37) -> 0 | GK37: =SUM(GF37:GJ37) -> 0 | GQ37: =SUM(GL37:GP37) -> 0 | GW37: =SUM(GR37:GV37) -> 0 | HC37: =SUM(GX37:HB37) -> 0 | HI37: =SUM(HD37:HH37) -> 0 | HJ37: =SUM(FH37,FN37,FT37,FZ37,GF37,GL37,GR37,GX37,HD37) -> 0 | HK37: =SUM(FI37,FO37,FU37,GA37,GG37,GM37,GS37,GY37,HE37) -> 0 | HL37: =SUM(FJ37,FP37,FV37,GB37,GH37,GN37,GT37,GZ37,HF37) -> 0 | HM37: =SUM(FK37,FQ37,FW37,GC37,GI37,GO37,GU37,HA37,HG37) -> 0 | HN37: =SUM(FL37,FR37,FX37,GD37,GJ37,GP37,GV37,HB37,HH37) -> 0 | HO37: =SUM(FM37,FS37,FY37,GE37,GK37,GQ37,GW37,HC37,HI37) -> 0 | HU37: =SUM(HP37:HT37) -> 0 | IA37: =SUM(HV37:HZ37) -> 0 | IG37: =SUM(IB37:IF37) -> 0 | IH37: =SUM(HP37,HV37,IB37) -> 0 | II37: =SUM(HQ37,HW37,IC37) -> 0 | IJ37: =SUM(HR37,HX37,ID37) -> 0 | IK37: =SUM(HS37,HY37,IE37) -> 0 | IL37: =SUM(HT37,HZ37,IF37) -> 0 | IM37: =SUM(HU37,IA37,IG37) -> 0 | IS37: =SUM(IN37:IR37) -> 0 | IY37: =SUM(IT37:IX37) -> 0 | JE37: =SUM(IZ37:JD37) -> 0 | JF37: =SUM(IN37,IT37,IZ37) -> 0 | JG37: =SUM(IO37,IU37,JA37) -> 0 | JH37: =SUM(IP37,IV37,JB37) -> 0 | JI37: =SUM(IQ37,IW37,JC37) -> 0 | JJ37: =SUM(IR37,IX37,JD37) -> 0 | JK37: =SUM(JF37:JJ37) -> 0 | JM37: =SUM(T37,BD37,CB37,DF37,FB37,HJ37,IH37,JF37) -> 0 | JN37: =SUM(U37,BE37,CC37,DG37,FC37,HK37,II37,JG37) -> 220.34987 | JO37: =SUM(V37,BF37,CD37,DH37,FD37,HL37,IJ37,JH37) -> 0 | JP37: =SUM(W37,BG37,CE37,DI37,FE37,HM37,IK37,JI37) -> 0 | JQ37: =SUM(X37,BH37,CF37,DJ37,FF37,HN37,IL37,JJ37) -> 0 | JR37: =SUM(HO37,FG37,BI37) -> 220.34987
A38: ID2=Bruce spanworm | G38: =SUM(B38:F38) -> 0 | M38: =SUM(H38:L38) -> 0 | S38: =SUM(N38:R38) -> 0 | T38: =SUM(B38,H38,N38) -> 0 | U38: =SUM(C38,I38,O38) -> 0 | V38: =SUM(D38,J38,P38) -> 0 | W38: =SUM(E38,K38,Q38) -> 0 | X38: =SUM(F38,L38,R38) -> 0 | Y38: =SUM(T38:X38) -> 0 | AE38: =SUM(Z38:AD38) -> 0 | AK38: =SUM(AF38:AJ38) -> 0 | AQ38: =SUM(AL38:AP38) -> 0 | AW38: =SUM(AR38:AV38) -> 0 | BC38: =SUM(AX38:BB38) -> 0 | BD38: =SUM(Z38,AF38,AL38,AR38,AX38) -> 0 | BE38: =SUM(AA38,AG38,AM38,AS38,AY38) -> 0 | BF38: =SUM(AB38,AH38,AN38,AT38,AZ38) -> 0 | BG38: =SUM(AC38,AI38,AO38,AU38,BA38) -> 0 | BH38: =SUM(AD38,AJ38,AP38,AV38,BB38) -> 0 | BI38: =SUM(BD38:BH38) -> 0 | BO38: =SUM(BJ38:BN38) -> 0 | BU38: =SUM(BP38:BT38) -> 0 | CA38: =SUM(BV38:BZ38) -> 0 | CB38: =SUM(BJ38,BP38,BV38) -> 0 | CC38: =SUM(BK38,BQ38,BW38) -> 0 | CD38: =SUM(BL38,BR38,BX38) -> 0 | CE38: =SUM(BM38,BS38,BY38) -> 0 | CF38: =SUM(BN38,BT38,BZ38) -> 0 | CG38: =SUM(CB38:CF38) -> 0 | CM38: =SUM(CH38:CL38) -> 0 | CS38: =SUM(CN38:CR38) -> 0 | CY38: =SUM(CT38:CX38) -> 0 | DE38: =SUM(CZ38:DD38) -> 0 | DF38: =SUM(CH38,CN38,CT38,CZ38) -> 0 | DG38: =SUM(CI38,CO38,CU38,DA38) -> 0 | DH38: =SUM(CJ38,CP38,CV38,DB38) -> 0 | DI38: =SUM(CK38,CQ38,CW38,DC38) -> 0 | DJ38: =SUM(CL38,CR38,CX38,DD38) -> 0 | DK38: =SUM(DF38:DJ38) -> 0 | DQ38: =SUM(DL38:DP38) -> 0 | DW38: =SUM(DR38:DV38) -> 0 | EC38: =SUM(DX38:EB38) -> 0 | EI38: =SUM(ED38:EH38) -> 0 | EO38: =SUM(EJ38:EN38) -> 0 | EU38: =SUM(EP38:ET38) -> 0 | FA38: =SUM(EV38:EZ38) -> 0 | FB38: =SUM(DL38,DR38,DX38,ED38,EJ38,EP38,EV38) -> 0 | FC38: =SUM(DM38,DS38,DY38,EE38,EK38,EQ38,EW38) -> 0 | FD38: =SUM(DN38,DT38,DZ38,EF38,EL38,ER38,EX38) -> 0 | FE38: =SUM(DO38,DU38,EA38,EG38,EM38,ES38,EY38) -> 0 | FF38: =SUM(DP38,DV38,EB38,EH38,EN38,ET38,EZ38) -> 0 | FG38: =SUM(FB38:FF38) -> 0 | FJ38: 41.529198 | FM38: =SUM(FH38:FL38) -> 41.529198 | FP38: 4335.1004 | FS38: =SUM(FN38:FR38) -> 4335.1004 | FY38: =SUM(FT38:FX38) -> 0 | GE38: =SUM(FZ38:GD38) -> 0 | GI38: 19.882027 | GK38: =SUM(GF38:GJ38) -> 19.882027 | GM38: 25.532956 | GN38: 19.111156 | GO38: 203.64682 | GQ38: =SUM(GL38:GP38) -> 248.29093 | GW38: =SUM(GR38:GV38) -> 0 | HC38: =SUM(GX38:HB38) -> 0 | HI38: =SUM(HD38:HH38) -> 0 | HJ38: =SUM(FH38,FN38,FT38,FZ38,GF38,GL38,GR38,GX38,HD38) -> 0 | HK38: =SUM(FI38,FO38,FU38,GA38,GG38,GM38,GS38,GY38,HE38) -> 25.532956 | HL38: =SUM(FJ38,FP38,FV38,GB38,GH38,GN38,GT38,GZ38,HF38) -> 4395.7408 | HM38: =SUM(FK38,FQ38,FW38,GC38,GI38,GO38,GU38,HA38,HG38) -> 223.52884 | HN38: =SUM(FL38,FR38,FX38,GD38,GJ38,GP38,GV38,HB38,HH38) -> 0 | HO38: =SUM(FM38,FS38,FY38,GE38,GK38,GQ38,GW38,HC38,HI38) -> 4644.8026 | HU38: =SUM(HP38:HT38) -> 0 | HW38: 2063.6995 | HX38: 2815.7166 | HY38: 715.165 | IA38: =SUM(HV38:HZ38) -> 5594.5812 | IC38: 3887.8452 | ID38: 2785.0091 | IE38: 61.877709 | IG38: =SUM(IB38:IF38) -> 6734.7321 | IH38: =SUM(HP38,HV38,IB38) -> 0 | II38: =SUM(HQ38,HW38,IC38) -> 5951.5447 | IJ38: =SUM(HR38,HX38,ID38) -> 5600.7258 | IK38: =SUM(HS38,HY38,IE38) -> 777.0427 | IL38: =SUM(HT38,HZ38,IF38) -> 0 | IM38: =SUM(HU38,IA38,IG38) -> 12329.313 | IO38: 483454.22 | IP38: 114378.87 | IQ38: 14890.691 | IS38: =SUM(IN38:IR38) -> 612723.78 | IU38: 440176.21 | IV38: 101652.91 | IW38: 4567.9082 | IY38: =SUM(IT38:IX38) -> 546397.03 | JA38: 450401.03 | JB38: 47156.296 | JC38: 1116.4085 | JE38: =SUM(IZ38:JD38) -> 498673.74 | JF38: =SUM(IN38,IT38,IZ38) -> 0 | JG38: =SUM(IO38,IU38,JA38) -> 1374031.5 | JH38: =SUM(IP38,IV38,JB38) -> 263188.07 | JI38: =SUM(IQ38,IW38,JC38) -> 20575.008 | JJ38: =SUM(IR38,IX38,JD38) -> 0 | JK38: =SUM(JF38:JJ38) -> 1657794.5 | JM38: =SUM(T38,BD38,CB38,DF38,FB38,HJ38,IH38,JF38) -> 0 | JN38: =SUM(U38,BE38,CC38,DG38,FC38,HK38,II38,JG38) -> 1380008.5 | JO38: =SUM(V38,BF38,CD38,DH38,FD38,HL38,IJ38,JH38) -> 273184.54 | JP38: =SUM(W38,BG38,CE38,DI38,FE38,HM38,IK38,JI38) -> 21575.579 | JQ38: =SUM(X38,BH38,CF38,DJ38,FF38,HN38,IL38,JJ38) -> 0 | JR38: =SUM(HO38,FG38,BI38) -> 4644.8026
A39: ID6=Aspen Leaf Miner | G39: =SUM(B39:F39) -> 0 | M39: =SUM(H39:L39) -> 0 | S39: =SUM(N39:R39) -> 0 | T39: =SUM(B39,H39,N39) -> 0 | U39: =SUM(C39,I39,O39) -> 0 | V39: =SUM(D39,J39,P39) -> 0 | W39: =SUM(E39,K39,Q39) -> 0 | X39: =SUM(F39,L39,R39) -> 0 | Y39: =SUM(T39:X39) -> 0 | AE39: =SUM(Z39:AD39) -> 0 | AK39: =SUM(AF39:AJ39) -> 0 | AM39: 94.340858 | AN39: 507.41631 | AO39: 787.61044 | AQ39: =SUM(AL39:AP39) -> 1389.3676 | AW39: =SUM(AR39:AV39) -> 0 | BC39: =SUM(AX39:BB39) -> 0 | BD39: =SUM(Z39,AF39,AL39,AR39,AX39) -> 0 | BE39: =SUM(AA39,AG39,AM39,AS39,AY39) -> 94.340858 | BF39: =SUM(AB39,AH39,AN39,AT39,AZ39) -> 507.41631 | BG39: =SUM(AC39,AI39,AO39,AU39,BA39) -> 787.61044 | BH39: =SUM(AD39,AJ39,AP39,AV39,BB39) -> 0 | BI39: =SUM(BD39:BH39) -> 1389.3676 | BK39: 132.23795 | BM39: 83.037868 | BO39: =SUM(BJ39:BN39) -> 215.27581 | BQ39: 14.080297 | BR39: 6632.455 | BU39: =SUM(BP39:BT39) -> 6646.5353 | BW39: 2170.6435 | BX39: 180.64305 | BY39: 999.8028 | CA39: =SUM(BV39:BZ39) -> 3351.0893 | CB39: =SUM(BJ39,BP39,BV39) -> 0 | CC39: =SUM(BK39,BQ39,BW39) -> 2316.9617 | CD39: =SUM(BL39,BR39,BX39) -> 6813.0981 | CE39: =SUM(BM39,BS39,BY39) -> 1082.8407 | CF39: =SUM(BN39,BT39,BZ39) -> 0 | CG39: =SUM(CB39:CF39) -> 10212.9 | CI39: 38357.314 | CJ39: 3927.7168 | CM39: =SUM(CH39:CL39) -> 42285.03 | CS39: =SUM(CN39:CR39) -> 0 | CY39: =SUM(CT39:CX39) -> 0 | DA39: 3679.802 | DB39: 704.77523 | DE39: =SUM(CZ39:DD39) -> 4384.5772 | DF39: =SUM(CH39,CN39,CT39,CZ39) -> 0 | DG39: =SUM(CI39,CO39,CU39,DA39) -> 42037.116 | DH39: =SUM(CJ39,CP39,CV39,DB39) -> 4632.492 | DI39: =SUM(CK39,CQ39,CW39,DC39) -> 0 | DJ39: =SUM(CL39,CR39,CX39,DD39) -> 0 | DK39: =SUM(DF39:DJ39) -> 46669.608 | DM39: 2125.3115 | DN39: 884.49025 | DQ39: =SUM(DL39:DP39) -> 3009.8018 | DW39: =SUM(DR39:DV39) -> 0 | DY39: 156.76193 | DZ39: 89.557414 | EC39: =SUM(DX39:EB39) -> 246.31934 | EE39: 2186.4884 | EI39: =SUM(ED39:EH39) -> 2186.4884 | EK39: 34.107201 | EO39: =SUM(EJ39:EN39) -> 34.107201 | EQ39: 865.93207 | ER39: 402.34247 | EU39: =SUM(EP39:ET39) -> 1268.2745 | EW39: 1859.9573 | EX39: 1794.5263 | FA39: =SUM(EV39:EZ39) -> 3654.4835 | FB39: =SUM(DL39,DR39,DX39,ED39,EJ39,EP39,EV39) -> 0 | FC39: =SUM(DM39,DS39,DY39,EE39,EK39,EQ39,EW39) -> 7228.5584 | FD39: =SUM(DN39,DT39,DZ39,EF39,EL39,ER39,EX39) -> 3170.9164 | FE39: =SUM(DO39,DU39,EA39,EG39,EM39,ES39,EY39) -> 0 | FF39: =SUM(DP39,DV39,EB39,EH39,EN39,ET39,EZ39) -> 0 | FG39: =SUM(FB39:FF39) -> 10399.475 | FI39: 6073.997 | FJ39: 10538.928 | FK39: 10253.678 | FM39: =SUM(FH39:FL39) -> 26866.603 | FS39: =SUM(FN39:FR39) -> 0 | FU39: 441.36756 | FY39: =SUM(FT39:FX39) -> 441.36756 | GB39: 190.77885 | GE39: =SUM(FZ39:GD39) -> 190.77885 | GG39: 2459.7831 | GH39: 17695.576 | GI39: 35380.405 | GK39: =SUM(GF39:GJ39) -> 55535.764 | GM39: 1473.5807 | GN39: 3281.362 | GO39: 3318.3039 | GQ39: =SUM(GL39:GP39) -> 8073.2466 | GS39: 7349.3077 | GT39: 2769.43 | GU39: 5188.7805 | GW39: =SUM(GR39:GV39) -> 15307.518 | HC39: =SUM(GX39:HB39) -> 0 | HI39: =SUM(HD39:HH39) -> 0 | HJ39: =SUM(FH39,FN39,FT39,FZ39,GF39,GL39,GR39,GX39,HD39) -> 0 | HK39: =SUM(FI39,FO39,FU39,GA39,GG39,GM39,GS39,GY39,HE39) -> 17798.036 | HL39: =SUM(FJ39,FP39,FV39,GB39,GH39,GN39,GT39,GZ39,HF39) -> 34476.076 | HM39: =SUM(FK39,FQ39,FW39,GC39,GI39,GO39,GU39,HA39,HG39) -> 54141.167 | HN39: =SUM(FL39,FR39,FX39,GD39,GJ39,GP39,GV39,HB39,HH39) -> 0 | HO39: =SUM(FM39,FS39,FY39,GE39,GK39,GQ39,GW39,HC39,HI39) -> 106415.28 | HU39: =SUM(HP39:HT39) -> 0 | HW39: 292.55973 | HX39: 1105.6923 | HY39: 350.35654 | IA39: =SUM(HV39:HZ39) -> 1748.6086 | IC39: 9310.6349 | ID39: 13121.976 | IE39: 325.18743 | IG39: =SUM(IB39:IF39) -> 22757.799 | IH39: =SUM(HP39,HV39,IB39) -> 0 | II39: =SUM(HQ39,HW39,IC39) -> 9603.1946 | IJ39: =SUM(HR39,HX39,ID39) -> 14227.669 | IK39: =SUM(HS39,HY39,IE39) -> 675.54397 | IL39: =SUM(HT39,HZ39,IF39) -> 0 | IM39: =SUM(HU39,IA39,IG39) -> 24506.407 | IO39: 2050.0654 | IP39: 659.15662 | IQ39: 2348.516 | IS39: =SUM(IN39:IR39) -> 5057.738 | IU39: 4746.8229 | IV39: 126.65054 | IW39: 0.25 | IY39: =SUM(IT39:IX39) -> 4873.7235 | JB39: 50.425703 | JC39: 29.529066 | JE39: =SUM(IZ39:JD39) -> 79.954769 | JF39: =SUM(IN39,IT39,IZ39) -> 0 | JG39: =SUM(IO39,IU39,JA39) -> 6796.8883 | JH39: =SUM(IP39,IV39,JB39) -> 836.23286 | JI39: =SUM(IQ39,IW39,JC39) -> 2378.2951 | JJ39: =SUM(IR39,IX39,JD39) -> 0 | JK39: =SUM(JF39:JJ39) -> 10011.416 | JM39: =SUM(T39,BD39,CB39,DF39,FB39,HJ39,IH39,JF39) -> 0 | JN39: =SUM(U39,BE39,CC39,DG39,FC39,HK39,II39,JG39) -> 85875.096 | JO39: =SUM(V39,BF39,CD39,DH39,FD39,HL39,IJ39,JH39) -> 64663.9 | JP39: =SUM(W39,BG39,CE39,DI39,FE39,HM39,IK39,JI39) -> 59065.457 | JQ39: =SUM(X39,BH39,CF39,DJ39,FF39,HN39,IL39,JJ39) -> 0 | JR39: =SUM(HO39,FG39,BI39) -> 118204.12
A40: IAB=Balsam Woolly Adelgid | G40: =SUM(B40:F40) -> 0 | M40: =SUM(H40:L40) -> 0 | S40: =SUM(N40:R40) -> 0 | T40: =SUM(B40,H40,N40) -> 0 | U40: =SUM(C40,I40,O40) -> 0 | V40: =SUM(D40,J40,P40) -> 0 | W40: =SUM(E40,K40,Q40) -> 0 | X40: =SUM(F40,L40,R40) -> 0 | Y40: =SUM(T40:X40) -> 0 | AE40: =SUM(Z40:AD40) -> 0 | AK40: =SUM(AF40:AJ40) -> 0 | AQ40: =SUM(AL40:AP40) -> 0 | AW40: =SUM(AR40:AV40) -> 0 | BC40: =SUM(AX40:BB40) -> 0 | BD40: =SUM(Z40,AF40,AL40,AR40,AX40) -> 0 | BE40: =SUM(AA40,AG40,AM40,AS40,AY40) -> 0 | BF40: =SUM(AB40,AH40,AN40,AT40,AZ40) -> 0 | BG40: =SUM(AC40,AI40,AO40,AU40,BA40) -> 0 | BH40: =SUM(AD40,AJ40,AP40,AV40,BB40) -> 0 | BI40: =SUM(BD40:BH40) -> 0 | BO40: =SUM(BJ40:BN40) -> 0 | BU40: =SUM(BP40:BT40) -> 0 | CA40: =SUM(BV40:BZ40) -> 0 | CB40: =SUM(BJ40,BP40,BV40) -> 0 | CC40: =SUM(BK40,BQ40,BW40) -> 0 | CD40: =SUM(BL40,BR40,BX40) -> 0 | CE40: =SUM(BM40,BS40,BY40) -> 0 | CF40: =SUM(BN40,BT40,BZ40) -> 0 | CG40: =SUM(CB40:CF40) -> 0 | CM40: =SUM(CH40:CL40) -> 0 | CS40: =SUM(CN40:CR40) -> 0 | CY40: =SUM(CT40:CX40) -> 0 | DE40: =SUM(CZ40:DD40) -> 0 | DF40: =SUM(CH40,CN40,CT40,CZ40) -> 0 | DG40: =SUM(CI40,CO40,CU40,DA40) -> 0 | DH40: =SUM(CJ40,CP40,CV40,DB40) -> 0 | DI40: =SUM(CK40,CQ40,CW40,DC40) -> 0 | DJ40: =SUM(CL40,CR40,CX40,DD40) -> 0 | DK40: =SUM(DF40:DJ40) -> 0 | DQ40: =SUM(DL40:DP40) -> 0 | DW40: =SUM(DR40:DV40) -> 0 | EC40: =SUM(DX40:EB40) -> 0 | EI40: =SUM(ED40:EH40) -> 0 | EO40: =SUM(EJ40:EN40) -> 0 | EU40: =SUM(EP40:ET40) -> 0 | FA40: =SUM(EV40:EZ40) -> 0 | FB40: =SUM(DL40,DR40,DX40,ED40,EJ40,EP40,EV40) -> 0 | FC40: =SUM(DM40,DS40,DY40,EE40,EK40,EQ40,EW40) -> 0 | FD40: =SUM(DN40,DT40,DZ40,EF40,EL40,ER40,EX40) -> 0 | FE40: =SUM(DO40,DU40,EA40,EG40,EM40,ES40,EY40) -> 0 | FF40: =SUM(DP40,DV40,EB40,EH40,EN40,ET40,EZ40) -> 0 | FG40: =SUM(FB40:FF40) -> 0 | FM40: =SUM(FH40:FL40) -> 0 | FS40: =SUM(FN40:FR40) -> 0 | FY40: =SUM(FT40:FX40) -> 0 | GE40: =SUM(FZ40:GD40) -> 0 | GK40: =SUM(GF40:GJ40) -> 0 | GQ40: =SUM(GL40:GP40) -> 0 | GW40: =SUM(GR40:GV40) -> 0 | HC40: =SUM(GX40:HB40) -> 0 | HI40: =SUM(HD40:HH40) -> 0 | HJ40: =SUM(FH40,FN40,FT40,FZ40,GF40,GL40,GR40,GX40,HD40) -> 0 | HK40: =SUM(FI40,FO40,FU40,GA40,GG40,GM40,GS40,GY40,HE40) -> 0 | HL40: =SUM(FJ40,FP40,FV40,GB40,GH40,GN40,GT40,GZ40,HF40) -> 0 | HM40: =SUM(FK40,FQ40,FW40,GC40,GI40,GO40,GU40,HA40,HG40) -> 0 | HN40: =SUM(FL40,FR40,FX40,GD40,GJ40,GP40,GV40,HB40,HH40) -> 0 | HO40: =SUM(FM40,FS40,FY40,GE40,GK40,GQ40,GW40,HC40,HI40) -> 0 | HU40: =SUM(HP40:HT40) -> 0 | IA40: =SUM(HV40:HZ40) -> 0 | IG40: =SUM(IB40:IF40) -> 0 | IH40: =SUM(HP40,HV40,IB40) -> 0 | II40: =SUM(HQ40,HW40,IC40) -> 0 | IJ40: =SUM(HR40,HX40,ID40) -> 0 | IK40: =SUM(HS40,HY40,IE40) -> 0 | IL40: =SUM(HT40,HZ40,IF40) -> 0 | IM40: =SUM(HU40,IA40,IG40) -> 0 | IS40: =SUM(IN40:IR40) -> 0 | IY40: =SUM(IT40:IX40) -> 0 | JE40: =SUM(IZ40:JD40) -> 0 | JF40: =SUM(IN40,IT40,IZ40) -> 0 | JG40: =SUM(IO40,IU40,JA40) -> 0 | JH40: =SUM(IP40,IV40,JB40) -> 0 | JI40: =SUM(IQ40,IW40,JC40) -> 0 | JJ40: =SUM(IR40,IX40,JD40) -> 0 | JK40: =SUM(JF40:JJ40) -> 0 | JM40: =SUM(T40,BD40,CB40,DF40,FB40,HJ40,IH40,JF40) -> 0 | JN40: =SUM(U40,BE40,CC40,DG40,FC40,HK40,II40,JG40) -> 0 | JO40: =SUM(V40,BF40,CD40,DH40,FD40,HL40,IJ40,JH40) -> 0 | JP40: =SUM(W40,BG40,CE40,DI40,FE40,HM40,IK40,JI40) -> 0 | JQ40: =SUM(X40,BH40,CF40,DJ40,FF40,HN40,IL40,JJ40) -> 0 | JR40: =SUM(HO40,FG40,BI40) -> 0
A41: IAS=Green Spruce Aphid | G41: =SUM(B41:F41) -> 0 | M41: =SUM(H41:L41) -> 0 | S41: =SUM(N41:R41) -> 0 | T41: =SUM(B41,H41,N41) -> 0 | U41: =SUM(C41,I41,O41) -> 0 | V41: =SUM(D41,J41,P41) -> 0 | W41: =SUM(E41,K41,Q41) -> 0 | X41: =SUM(F41,L41,R41) -> 0 | Y41: =SUM(T41:X41) -> 0 | AE41: =SUM(Z41:AD41) -> 0 | AK41: =SUM(AF41:AJ41) -> 0 | AQ41: =SUM(AL41:AP41) -> 0 | AW41: =SUM(AR41:AV41) -> 0 | BC41: =SUM(AX41:BB41) -> 0 | BD41: =SUM(Z41,AF41,AL41,AR41,AX41) -> 0 | BE41: =SUM(AA41,AG41,AM41,AS41,AY41) -> 0 | BF41: =SUM(AB41,AH41,AN41,AT41,AZ41) -> 0 | BG41: =SUM(AC41,AI41,AO41,AU41,BA41) -> 0 | BH41: =SUM(AD41,AJ41,AP41,AV41,BB41) -> 0 | BI41: =SUM(BD41:BH41) -> 0 | BO41: =SUM(BJ41:BN41) -> 0 | BU41: =SUM(BP41:BT41) -> 0 | CA41: =SUM(BV41:BZ41) -> 0 | CB41: =SUM(BJ41,BP41,BV41) -> 0 | CC41: =SUM(BK41,BQ41,BW41) -> 0 | CD41: =SUM(BL41,BR41,BX41) -> 0 | CE41: =SUM(BM41,BS41,BY41) -> 0 | CF41: =SUM(BN41,BT41,BZ41) -> 0 | CG41: =SUM(CB41:CF41) -> 0 | CM41: =SUM(CH41:CL41) -> 0 | CS41: =SUM(CN41:CR41) -> 0 | CY41: =SUM(CT41:CX41) -> 0 | DE41: =SUM(CZ41:DD41) -> 0 | DF41: =SUM(CH41,CN41,CT41,CZ41) -> 0 | DG41: =SUM(CI41,CO41,CU41,DA41) -> 0 | DH41: =SUM(CJ41,CP41,CV41,DB41) -> 0 | DI41: =SUM(CK41,CQ41,CW41,DC41) -> 0 | DJ41: =SUM(CL41,CR41,CX41,DD41) -> 0 | DK41: =SUM(DF41:DJ41) -> 0 | DQ41: =SUM(DL41:DP41) -> 0 | DW41: =SUM(DR41:DV41) -> 0 | EC41: =SUM(DX41:EB41) -> 0 | EI41: =SUM(ED41:EH41) -> 0 | EO41: =SUM(EJ41:EN41) -> 0 | EU41: =SUM(EP41:ET41) -> 0 | FA41: =SUM(EV41:EZ41) -> 0 | FB41: =SUM(DL41,DR41,DX41,ED41,EJ41,EP41,EV41) -> 0 | FC41: =SUM(DM41,DS41,DY41,EE41,EK41,EQ41,EW41) -> 0 | FD41: =SUM(DN41,DT41,DZ41,EF41,EL41,ER41,EX41) -> 0 | FE41: =SUM(DO41,DU41,EA41,EG41,EM41,ES41,EY41) -> 0 | FF41: =SUM(DP41,DV41,EB41,EH41,EN41,ET41,EZ41) -> 0 | FG41: =SUM(FB41:FF41) -> 0 | FM41: =SUM(FH41:FL41) -> 0 | FS41: =SUM(FN41:FR41) -> 0 | FY41: =SUM(FT41:FX41) -> 0 | GE41: =SUM(FZ41:GD41) -> 0 | GK41: =SUM(GF41:GJ41) -> 0 | GQ41: =SUM(GL41:GP41) -> 0 | GW41: =SUM(GR41:GV41) -> 0 | HC41: =SUM(GX41:HB41) -> 0 | HI41: =SUM(HD41:HH41) -> 0 | HJ41: =SUM(FH41,FN41,FT41,FZ41,GF41,GL41,GR41,GX41,HD41) -> 0 | HK41: =SUM(FI41,FO41,FU41,GA41,GG41,GM41,GS41,GY41,HE41) -> 0 | HL41: =SUM(FJ41,FP41,FV41,GB41,GH41,GN41,GT41,GZ41,HF41) -> 0 | HM41: =SUM(FK41,FQ41,FW41,GC41,GI41,GO41,GU41,HA41,HG41) -> 0 | HN41: =SUM(FL41,FR41,FX41,GD41,GJ41,GP41,GV41,HB41,HH41) -> 0 | HO41: =SUM(FM41,FS41,FY41,GE41,GK41,GQ41,GW41,HC41,HI41) -> 0 | HU41: =SUM(HP41:HT41) -> 0 | IA41: =SUM(HV41:HZ41) -> 0 | IG41: =SUM(IB41:IF41) -> 0 | IH41: =SUM(HP41,HV41,IB41) -> 0 | II41: =SUM(HQ41,HW41,IC41) -> 0 | IJ41: =SUM(HR41,HX41,ID41) -> 0 | IK41: =SUM(HS41,HY41,IE41) -> 0 | IL41: =SUM(HT41,HZ41,IF41) -> 0 | IM41: =SUM(HU41,IA41,IG41) -> 0 | IS41: =SUM(IN41:IR41) -> 0 | IY41: =SUM(IT41:IX41) -> 0 | JE41: =SUM(IZ41:JD41) -> 0 | JF41: =SUM(IN41,IT41,IZ41) -> 0 | JG41: =SUM(IO41,IU41,JA41) -> 0 | JH41: =SUM(IP41,IV41,JB41) -> 0 | JI41: =SUM(IQ41,IW41,JC41) -> 0 | JJ41: =SUM(IR41,IX41,JD41) -> 0 | JK41: =SUM(JF41:JJ41) -> 0 | JM41: =SUM(T41,BD41,CB41,DF41,FB41,HJ41,IH41,JF41) -> 0 | JN41: =SUM(U41,BE41,CC41,DG41,FC41,HK41,II41,JG41) -> 0 | JO41: =SUM(V41,BF41,CD41,DH41,FD41,HL41,IJ41,JH41) -> 0 | JP41: =SUM(W41,BG41,CE41,DI41,FE41,HM41,IK41,JI41) -> 0 | JQ41: =SUM(X41,BH41,CF41,DJ41,FF41,HN41,IL41,JJ41) -> 0 | JR41: =SUM(HO41,FG41,BI41) -> 0
A42: IEB=Hemlock Sawfly | G42: =SUM(B42:F42) -> 0 | M42: =SUM(H42:L42) -> 0 | S42: =SUM(N42:R42) -> 0 | T42: =SUM(B42,H42,N42) -> 0 | U42: =SUM(C42,I42,O42) -> 0 | V42: =SUM(D42,J42,P42) -> 0 | W42: =SUM(E42,K42,Q42) -> 0 | X42: =SUM(F42,L42,R42) -> 0 | Y42: =SUM(T42:X42) -> 0 | AE42: =SUM(Z42:AD42) -> 0 | AK42: =SUM(AF42:AJ42) -> 0 | AQ42: =SUM(AL42:AP42) -> 0 | AW42: =SUM(AR42:AV42) -> 0 | BC42: =SUM(AX42:BB42) -> 0 | BD42: =SUM(Z42,AF42,AL42,AR42,AX42) -> 0 | BE42: =SUM(AA42,AG42,AM42,AS42,AY42) -> 0 | BF42: =SUM(AB42,AH42,AN42,AT42,AZ42) -> 0 | BG42: =SUM(AC42,AI42,AO42,AU42,BA42) -> 0 | BH42: =SUM(AD42,AJ42,AP42,AV42,BB42) -> 0 | BI42: =SUM(BD42:BH42) -> 0 | BO42: =SUM(BJ42:BN42) -> 0 | BU42: =SUM(BP42:BT42) -> 0 | CA42: =SUM(BV42:BZ42) -> 0 | CB42: =SUM(BJ42,BP42,BV42) -> 0 | CC42: =SUM(BK42,BQ42,BW42) -> 0 | CD42: =SUM(BL42,BR42,BX42) -> 0 | CE42: =SUM(BM42,BS42,BY42) -> 0 | CF42: =SUM(BN42,BT42,BZ42) -> 0 | CG42: =SUM(CB42:CF42) -> 0 | CM42: =SUM(CH42:CL42) -> 0 | CS42: =SUM(CN42:CR42) -> 0 | CY42: =SUM(CT42:CX42) -> 0 | DE42: =SUM(CZ42:DD42) -> 0 | DF42: =SUM(CH42,CN42,CT42,CZ42) -> 0 | DG42: =SUM(CI42,CO42,CU42,DA42) -> 0 | DH42: =SUM(CJ42,CP42,CV42,DB42) -> 0 | DI42: =SUM(CK42,CQ42,CW42,DC42) -> 0 | DJ42: =SUM(CL42,CR42,CX42,DD42) -> 0 | DK42: =SUM(DF42:DJ42) -> 0 | DQ42: =SUM(DL42:DP42) -> 0 | DW42: =SUM(DR42:DV42) -> 0 | EC42: =SUM(DX42:EB42) -> 0 | EI42: =SUM(ED42:EH42) -> 0 | EO42: =SUM(EJ42:EN42) -> 0 | EU42: =SUM(EP42:ET42) -> 0 | FA42: =SUM(EV42:EZ42) -> 0 | FB42: =SUM(DL42,DR42,DX42,ED42,EJ42,EP42,EV42) -> 0 | FC42: =SUM(DM42,DS42,DY42,EE42,EK42,EQ42,EW42) -> 0 | FD42: =SUM(DN42,DT42,DZ42,EF42,EL42,ER42,EX42) -> 0 | FE42: =SUM(DO42,DU42,EA42,EG42,EM42,ES42,EY42) -> 0 | FF42: =SUM(DP42,DV42,EB42,EH42,EN42,ET42,EZ42) -> 0 | FG42: =SUM(FB42:FF42) -> 0 | FM42: =SUM(FH42:FL42) -> 0 | FS42: =SUM(FN42:FR42) -> 0 | FY42: =SUM(FT42:FX42) -> 0 | GE42: =SUM(FZ42:GD42) -> 0 | GK42: =SUM(GF42:GJ42) -> 0 | GQ42: =SUM(GL42:GP42) -> 0 | GW42: =SUM(GR42:GV42) -> 0 | HC42: =SUM(GX42:HB42) -> 0 | HI42: =SUM(HD42:HH42) -> 0 | HJ42: =SUM(FH42,FN42,FT42,FZ42,GF42,GL42,GR42,GX42,HD42) -> 0 | HK42: =SUM(FI42,FO42,FU42,GA42,GG42,GM42,GS42,GY42,HE42) -> 0 | HL42: =SUM(FJ42,FP42,FV42,GB42,GH42,GN42,GT42,GZ42,HF42) -> 0 | HM42: =SUM(FK42,FQ42,FW42,GC42,GI42,GO42,GU42,HA42,HG42) -> 0 | HN42: =SUM(FL42,FR42,FX42,GD42,GJ42,GP42,GV42,HB42,HH42) -> 0 | HO42: =SUM(FM42,FS42,FY42,GE42,GK42,GQ42,GW42,HC42,HI42) -> 0 | HU42: =SUM(HP42:HT42) -> 0 | IA42: =SUM(HV42:HZ42) -> 0 | IG42: =SUM(IB42:IF42) -> 0 | IH42: =SUM(HP42,HV42,IB42) -> 0 | II42: =SUM(HQ42,HW42,IC42) -> 0 | IJ42: =SUM(HR42,HX42,ID42) -> 0 | IK42: =SUM(HS42,HY42,IE42) -> 0 | IL42: =SUM(HT42,HZ42,IF42) -> 0 | IM42: =SUM(HU42,IA42,IG42) -> 0 | IS42: =SUM(IN42:IR42) -> 0 | IY42: =SUM(IT42:IX42) -> 0 | JE42: =SUM(IZ42:JD42) -> 0 | JF42: =SUM(IN42,IT42,IZ42) -> 0 | JG42: =SUM(IO42,IU42,JA42) -> 0 | JH42: =SUM(IP42,IV42,JB42) -> 0 | JI42: =SUM(IQ42,IW42,JC42) -> 0 | JJ42: =SUM(IR42,IX42,JD42) -> 0 | JK42: =SUM(JF42:JJ42) -> 0 | JM42: =SUM(T42,BD42,CB42,DF42,FB42,HJ42,IH42,JF42) -> 0 | JN42: =SUM(U42,BE42,CC42,DG42,FC42,HK42,II42,JG42) -> 0 | JO42: =SUM(V42,BF42,CD42,DH42,FD42,HL42,IJ42,JH42) -> 0 | JP42: =SUM(W42,BG42,CE42,DI42,FE42,HM42,IK42,JI42) -> 0 | JQ42: =SUM(X42,BH42,CF42,DJ42,FF42,HN42,IL42,JJ42) -> 0 | JR42: =SUM(HO42,FG42,BI42) -> 0
A43: Total Defoliators= | B43: =SUM(B20:B42) -> 0 | C43: =SUM(C20:C42) -> 712.04323 | D43: =SUM(D20:D42) -> 330.11731 | E43: =SUM(E20:E42) -> 0 | F43: =SUM(F20:F42) -> 0 | G43: =SUM(G20:G42) -> 1042.1605 | H43: =SUM(H20:H42) -> 0 | I43: =SUM(I20:I42) -> 0 | ... S43: =SUM(S20:S42) -> 13.914301 | T43: =SUM(B43,H43,N43) -> 0 | U43: =SUM(C43,I43,O43) -> 725.95753 | V43: =SUM(D43,J43,P43) -> 330.11731 | W43: =SUM(E43,K43,Q43) -> 0 | X43: =SUM(F43,L43,R43) -> 0 | Y43: =SUM(Y20:Y42) -> 1056.0748 | Z43: =SUM(Z20:Z42) -> 0 | AA43: =SUM(AA20:AA42) -> 0 | AB43: =SUM(AB20:AB42) -> 11.88563 | AC43: =SUM(AC20:AC42) -> 0.25 | AD43: =SUM(AD20:AD42) -> 0 | AE43: =SUM(AE20:AE42) -> 12.13563 | AF43: =SUM(AF20:AF41) -> 0 | AG43: =SUM(AG20:AG41) -> 0 | AH43: =SUM(AH20:AH42) -> 0 | AI43: =SUM(AI20:AI42) -> 0 | AJ43: =SUM(AJ20:AJ42) -> 0 | AK43: =SUM(AK20:AK42) -> 0 | AL43: =SUM(AL20:AL42) -> 0 | AM43: =SUM(AM20:AM42) -> 369.81347 | AN43: =SUM(AN20:AN42) -> 514.01261 | AO43: =SUM(AO20:AO42) -> 824.17364 | ... BC43: =SUM(BC20:BC42) -> 0 | BD43: =SUM(Z43,AF43,AL43,AR43,AX43) -> 0 | BE43: =SUM(AA43,AG43,AM43,AS43,AY43) -> 43885.065 | BF43: =SUM(AB43,AH43,AN43,AT43,AZ43) -> 20829.769 | BG43: =SUM(AC43,AI43,AO43,AU43,BA43) -> 24502.044 | BH43: =SUM(AD43,AJ43,AP43,AV43,BB43) -> 0 | BI43: =SUM(BI20:BI42) -> 89216.879 | BJ43: =SUM(BJ20:BJ42) -> 0 | BK43: =SUM(BK20:BK42) -> 37142.441 | BL43: =SUM(BL20:BL42) -> 2943.2311 | BM43: =SUM(BM20:BM42) -> 83.037868 | BN43: =SUM(BN20:BN42) -> 0 | BO43: =SUM(BO20:BO42) -> 40168.71 | BP43: =SUM(BP20:BP42) -> 0 | ... CA43: =SUM(CA20:CA42) -> 158462.19 | CB43: =SUM(BJ43,BP43,BV43) -> 0 | CC43: =SUM(BK43,BQ43,BW43) -> 230083.45 | CD43: =SUM(BL43,BR43,BX43) -> 65124.925 | CE43: =SUM(BM43,BS43,BY43) -> 1906.2471 | CF43: =SUM(BN43,BT43,BZ43) -> 0 | CG43: =SUM(CG20:CG42) -> 297114.62 | CH43: =SUM(CH20:CH42) -> 0 | CI43: =SUM(CI20:CI42) -> 156916.01 | CJ43: =SUM(CJ20:CJ41) -> 17862.016 | CK43: =SUM(CK20:CK41) -> 9301.2254 | CL43: =SUM(CL20:CL42) -> 0 | CM43: =SUM(CM20:CM42) -> 184079.25 | CN43: =SUM(CN20:CN42) -> 0 | CO43: =SUM(CO20:CO42) -> 28125.306 | CP43: =SUM(CP20:CP42) -> 5656.8009 | CQ43: =SUM(CQ20:CQ42) -> 767.27699 | CR43: =SUM(CR20:CR42) -> 0 | CS43: =SUM(CS20:CS42) -> 34549.384 | ... DE43: =SUM(DE20:DE42) -> 50764.973 | DF43: =SUM(CH43,CN43,CT43,CZ43) -> 0 | DG43: =SUM(CI43,CO43,CU43,DA43) -> 329976.99 | DH43: =SUM(CJ43,CP43,CV43,DB43) -> 41534.966 | DI43: =SUM(CK43,CQ43,CW43,DC43) -> 10592.729 | DJ43: =SUM(CL43,CR43,CX43,DD43) -> 0 | DK43: =SUM(DK20:DK42) -> 382104.69 | DL43: =SUM(DL20:DL42) -> 0 | DM43: =SUM(DM20:DM42) -> 3072.9566 | DN43: =SUM(DN20:DN42) -> 2684.896 | DO43: =SUM(DO20:DO42) -> 0 | DP43: =SUM(DP20:DP42) -> 0 | DQ43: =SUM(DQ20:DQ42) -> 5757.8526 | DR43: =SUM(DR20:DR42) -> 0 | ... FA43: =SUM(FA20:FA42) -> 4872.7816 | FB43: =SUM(DL43,DR43,DX43,ED43,EJ43,EP43,EV43) -> 0 | FC43: =SUM(DM43,DS43,DY43,EE43,EK43,EQ43,EW43) -> 11287.376 | FD43: =SUM(DN43,DT43,DZ43,EF43,EL43,ER43,EX43) -> 8405.1129 | FE43: =SUM(DO43,DU43,EA43,EG43,EM43,ES43,EY43) -> 0 | FF43: =SUM(DP43,DV43,EB43,EH43,EN43,ET43,EZ43) -> 0 | FG43: =SUM(FB43:FF43) -> 19692.489 | FH43: =SUM(FH20:FH42) -> 0 | FI43: =SUM(FI20:FI42) -> 7074.7238 | FJ43: =SUM(FJ20:FJ42) -> 11866.913 | FK43: =SUM(FK20:FK42) -> 10253.678 | FL43: =SUM(FL20:FL42) -> 0 | FM43: =SUM(FM20:FM42) -> 29195.315 | FN43: =SUM(FN20:FN42) -> 0 | FO43: =SUM(FO20:FO42) -> 0 | ... GT43: =SUM(GT20:GT42) -> 2769.43 | GU43: =SUM(GU23:GU42) -> 5188.7805 | GV43: =SUM(GV23:GV42) -> 0 | GW43: =SUM(GR43:GV43) -> 17444.967 | GX43: =SUM(GX20:GX42) -> 0 | GY43: =SUM(GY20:GY42) -> 790.87209 | GZ43: =SUM(GZ20:GZ42) -> 0 | HA43: =SUM(HA20:HA42) -> 0 | HB43: =SUM(HB20:HB42) -> 0 | HC43: =SUM(HC20:HC42) -> 790.87209 | HD43: =SUM(HD20:HD42) -> 0 | HE43: =SUM(HE20:HE42) -> 527.20881 | ... HI43: =SUM(HI20:HI42) -> 5537.0789 | HJ43: =SUM(FH43,FN43,FT43,FZ43,GF43,GL43,GR43,GX43,HD43) -> 0 | HK43: =SUM(FI43,FO43,FU43,GA43,GG43,GM43,GS43,GY43,HE43) -> 34178.916 | HL43: =SUM(HF43,GZ43,GT43,GN43,GH43,FV43,GB43,FP43,FJ43) -> 47781.787 | HM43: =SUM(HG43,HA43,GU43,GO43,GI43,FW43,GC43,FQ43,FK43) -> 65643.476 | HN43: =SUM(HH43,HB43,GV43,GP43,GJ43,FX43,GD43,FR43,FL43) -> 0 | HO43: =SUM(HO20:HO42) -> 147604.18 | HP43: =SUM(HP20:HP42) -> 0 | HQ43: =SUM(HQ20:HQ42) -> 3601.1755 | HR43: =SUM(HR20:HR42) -> 588.61722 | HS43: =SUM(HS20:HS42) -> 0 | HT43: =SUM(HT20:HT42) -> 0 | HU43: =SUM(HU20:HU42) -> 4189.7927 | HV43: =SUM(HV20:HV42) -> 0 | ... IG43: =SUM(IG20:IG42) -> 116933.06 | IH43: =SUM(HP43,HV43,IB43) -> 0 | II43: =SUM(HQ43,HW43,IC43) -> 91474.276 | IJ43: =SUM(HR43,HX43,ID43) -> 57648.266 | IK43: =SUM(HS43,HY43,IE43) -> 2872.2342 | IL43: =SUM(HT43,HZ43,IF43) -> 0 | IM43: =SUM(HU43,IA43,IG43) -> 151994.78 | IN43: =SUM(IN20:IN42) -> 0 | IO43: =SUM(IO20:IO42) -> 486407.29 | IP43: =SUM(IP20:IP42) -> 115038.02 | IQ43: =SUM(IQ23:IQ42) -> 17239.207 | IR43: =SUM(IR23:IR42) -> 0 | IS43: =SUM(IN43:IR43) -> 618684.52 | IT43: =SUM(IT20:IT42) -> 0 | IU43: =SUM(IU20:IU42) -> 452539.19 | IV43: =SUM(IV20:IV42) -> 111344.93 | IW43: =SUM(IW20:IW42) -> 4568.1582 | IX43: =SUM(IX20:IX42) -> 0 | IY43: =SUM(IY20:IY42) -> 568452.28 | IZ43: =SUM(IZ20:IZ42) -> 0 | JA43: =SUM(JA20:JA42) -> 450401.03 | ... JE43: =SUM(JE20:JE42) -> 498753.69 | JF43: =SUM(IN43,IT43,IZ43) -> 0 | JG43: =SUM(IO43,IU43,JA43) -> 1389347.5 | JH43: =SUM(IP43,IV43,JB43) -> 273589.68 | JI43: =SUM(IQ43,IW43,JC43) -> 22953.303 | JJ43: =SUM(IR43,IX43,JD43) -> 0 | JK43: =SUM(JK20:JK42) -> 1685890.7 | JM43: =SUM(T43,BD43,CB43,DF43,FB43,HJ43,IH43,JF43) -> 0 | JN43: =SUM(U43,BE43,CC43,DG43,FC43,HK43,II43,JG43) -> 2130959.6 | JO43: =SUM(V43,BF43,CD43,DH43,FD43,HL43,IJ43,JH43) -> 515244.62 | JP43: =SUM(W43,BG43,CE43,DI43,FE43,HM43,IK43,JI43) -> 128470.03 | JQ43: =SUM(X43,BH43,CF43,DJ43,FF43,HN43,IL43,JJ43) -> 0 | JR43: =SUM(JR20:JR42) -> 256513.55
A45: Other
A46: N | G46: =SUM(B46:F46) -> 0 | M46: =SUM(H46:L46) -> 0 | S46: =SUM(N46:R46) -> 0 | T46: =SUM(B46,H46,N46) -> 0 | U46: =SUM(C46,I46,O46) -> 0 | V46: =SUM(D46,J46,P46) -> 0 | W46: =SUM(E46,K46,Q46) -> 0 | X46: =SUM(F46,L46,R46) -> 0 | Y46: =SUM(T46:X46) -> 0 | AE46: =SUM(Z46:AD46) -> 0 | AK46: =SUM(AF46:AJ46) -> 0 | AQ46: =SUM(AL46:AP46) -> 0 | AW46: =SUM(AR46:AV46) -> 0 | BC46: =SUM(AX46:BB46) -> 0 | BD46: =SUM(Z46,AF46,AL46,AR46,AX46) -> 0 | BE46: =SUM(AA46,AG46,AM46,AS46,AY46) -> 0 | BF46: =SUM(AB46,AH46,AN46,AT46,AZ46) -> 0 | BG46: =SUM(AC46,AI46,AO46,AU46,BA46) -> 0 | BH46: =SUM(AD46,AJ46,AP46,AV46,BB46) -> 0 | BI46: =SUM(BD46:BH46) -> 0 | BO46: =SUM(BJ46:BN46) -> 0 | BU46: =SUM(BP46:BT46) -> 0 | CA46: =SUM(BV46:BZ46) -> 0 | CB46: =SUM(BJ46,BP46,BV46) -> 0 | CC46: =SUM(BK46,BQ46,BW46) -> 0 | CD46: =SUM(BL46,BR46,BX46) -> 0 | CE46: =SUM(BM46,BS46,BY46) -> 0 | CF46: =SUM(BN46,BT46,BZ46) -> 0 | CG46: =SUM(CB46:CF46) -> 0 | CM46: =SUM(CH46:CL46) -> 0 | CS46: =SUM(CN46:CR46) -> 0 | CY46: =SUM(CT46:CX46) -> 0 | DE46: =SUM(CZ46:DD46) -> 0 | DF46: =SUM(CH46,CN46,CT46,CZ46) -> 0 | DG46: =SUM(CI46,CO46,CU46,DA46) -> 0 | DH46: =SUM(CJ46,CP46,CV46,DB46) -> 0 | DI46: =SUM(CK46,CQ46,CW46,DC46) -> 0 | DJ46: =SUM(CL46,CR46,CX46,DD46) -> 0 | DK46: =SUM(DF46:DJ46) -> 0 | DQ46: =SUM(DL46:DP46) -> 0 | DW46: =SUM(DR46:DV46) -> 0 | EC46: =SUM(DX46:EB46) -> 0 | EI46: =SUM(ED46:EH46) -> 0 | EO46: =SUM(EJ46:EN46) -> 0 | EU46: =SUM(EP46:ET46) -> 0 | FA46: =SUM(EV46:EZ46) -> 0 | FB46: =SUM(DL46,DR46,DX46,ED46,EJ46,EP46,EV46) -> 0 | FC46: =SUM(DM46,DS46,DY46,EE46,EK46,EQ46,EW46) -> 0 | FD46: =SUM(DN46,DT46,DZ46,EF46,EL46,ER46,EX46) -> 0 | FE46: =SUM(DO46,DU46,EA46,EG46,EM46,ES46,EY46) -> 0 | FF46: =SUM(DP46,DV46,EB46,EH46,EN46,ET46,EZ46) -> 0 | FG46: =SUM(FB46:FF46) -> 0 | FM46: =SUM(FH46:FL46) -> 0 | FS46: =SUM(FN46:FR46) -> 0 | FY46: =SUM(FT46:FX46) -> 0 | GE46: =SUM(FZ46:GD46) -> 0 | GK46: =SUM(GF46:GJ46) -> 0 | GQ46: =SUM(GL46:GP46) -> 0 | GW46: =SUM(GR46:GV46) -> 0 | HC46: =SUM(GX46:HB46) -> 0 | HI46: =SUM(HD46:HH46) -> 0 | HJ46: =SUM(FH46,FN46,FT46,FZ46,GF46,GL46,GR46,GX46,HD46) -> 0 | HK46: =SUM(FI46,FO46,FU46,GA46,GG46,GM46,GS46,GY46,HE46) -> 0 | HL46: =SUM(FJ46,FP46,FV46,GB46,GH46,GN46,GT46,GZ46,HF46) -> 0 | HM46: =SUM(FK46,FQ46,FW46,GC46,GI46,GO46,GU46,HA46,HG46) -> 0 | HN46: =SUM(FL46,FR46,FX46,GD46,GJ46,GP46,GV46,HB46,HH46) -> 0 | HO46: =SUM(FM46,FS46,FY46,GE46,GK46,GQ46,GW46,HC46,HI46) -> 0 | HU46: =SUM(HP46:HT46) -> 0 | IA46: =SUM(HV46:HZ46) -> 0 | IE46: 9.6893471 | IG46: =SUM(IB46:IF46) -> 9.6893471 | IH46: =SUM(HP46,HV46,IB46) -> 0 | II46: =SUM(HQ46,HW46,IC46) -> 0 | IJ46: =SUM(HR46,HX46,ID46) -> 0 | IK46: =SUM(HS46,HY46,IE46) -> 9.6893471 | IL46: =SUM(HT46,HZ46,IF46) -> 0 | IM46: =SUM(HU46,IA46,IG46) -> 9.6893471 | IS46: =SUM(IN46:IR46) -> 0 | IY46: =SUM(IT46:IX46) -> 0 | JE46: =SUM(IZ46:JD46) -> 0 | JF46: =SUM(IN46,IT46,IZ46) -> 0 | JG46: =SUM(IO46,IU46,JA46) -> 0 | JH46: =SUM(IP46,IV46,JB46) -> 0 | JI46: =SUM(IQ46,IW46,JC46) -> 0 | JJ46: =SUM(IR46,IX46,JD46) -> 0 | JK46: =SUM(JF46:JJ46) -> 0 | JM46: =SUM(T46,BD46,CB46,DF46,FB46,HJ46,IH46,JF46) -> 0 | JN46: =SUM(U46,BE46,CC46,DG46,FC46,HK46,II46,JG46) -> 0 | JO46: =SUM(V46,BF46,CD46,DH46,FD46,HL46,IJ46,JH46) -> 0 | JP46: =SUM(W46,BG46,CE46,DI46,FE46,HM46,IK46,JI46) -> 9.6893471 | JQ46: =SUM(X46,BH46,CF46,DJ46,FF46,HN46,IL46,JJ46) -> 0 | JR46: =SUM(Y46,BI46,CG46,DK46,FG46,HO46,IM46,JK46) -> 9.6893471
A47: NAV=Avalanche or snow slide | G47: =SUM(B47:F47) -> 0 | M47: =SUM(H47:L47) -> 0 | S47: =SUM(N47:R47) -> 0 | T47: =SUM(B47,H47,N47) -> 0 | U47: =SUM(C47,I47,O47) -> 0 | V47: =SUM(D47,J47,P47) -> 0 | W47: =SUM(E47,K47,Q47) -> 0 | X47: =SUM(F47,L47,R47) -> 0 | Y47: =SUM(T47:X47) -> 0 | AE47: =SUM(Z47:AD47) -> 0 | AK47: =SUM(AF47:AJ47) -> 0 | AO47: 71.95646 | AQ47: =SUM(AL47:AP47) -> 71.95646 | AW47: =SUM(AR47:AV47) -> 0 | BC47: =SUM(AX47:BB47) -> 0 | BD47: =SUM(Z47,AF47,AL47,AR47,AX47) -> 0 | BE47: =SUM(AA47,AG47,AM47,AS47,AY47) -> 0 | BF47: =SUM(AB47,AH47,AN47,AT47,AZ47) -> 0 | BG47: =SUM(AC47,AI47,AO47,AU47,BA47) -> 71.95646 | BH47: =SUM(AD47,AJ47,AP47,AV47,BB47) -> 0 | BI47: =SUM(BD47:BH47) -> 71.95646 | BO47: =SUM(BJ47:BN47) -> 0 | BU47: =SUM(BP47:BT47) -> 0 | BY47: 9.1571036 | CA47: =SUM(BV47:BZ47) -> 9.1571036 | CB47: =SUM(BJ47,BP47,BV47) -> 0 | CC47: =SUM(BK47,BQ47,BW47) -> 0 | CD47: =SUM(BL47,BR47,BX47) -> 0 | CE47: =SUM(BM47,BS47,BY47) -> 9.1571036 | CF47: =SUM(BN47,BT47,BZ47) -> 0 | CG47: =SUM(CB47:CF47) -> 9.1571036 | CM47: =SUM(CH47:CL47) -> 0 | CS47: =SUM(CN47:CR47) -> 0 | CY47: =SUM(CT47:CX47) -> 0 | DE47: =SUM(CZ47:DD47) -> 0 | DF47: =SUM(CH47,CN47,CT47,CZ47) -> 0 | DG47: =SUM(CI47,CO47,CU47,DA47) -> 0 | DH47: =SUM(CJ47,CP47,CV47,DB47) -> 0 | DI47: =SUM(CK47,CQ47,CW47,DC47) -> 0 | DJ47: =SUM(CL47,CR47,CX47,DD47) -> 0 | DK47: =SUM(DF47:DJ47) -> 0 | DQ47: =SUM(DL47:DP47) -> 0 | DW47: =SUM(DR47:DV47) -> 0 | EC47: =SUM(DX47:EB47) -> 0 | EI47: =SUM(ED47:EH47) -> 0 | EO47: =SUM(EJ47:EN47) -> 0 | EU47: =SUM(EP47:ET47) -> 0 | FA47: =SUM(EV47:EZ47) -> 0 | FB47: =SUM(DL47,DR47,DX47,ED47,EJ47,EP47,EV47) -> 0 | FC47: =SUM(DM47,DS47,DY47,EE47,EK47,EQ47,EW47) -> 0 | FD47: =SUM(DN47,DT47,DZ47,EF47,EL47,ER47,EX47) -> 0 | FE47: =SUM(DO47,DU47,EA47,EG47,EM47,ES47,EY47) -> 0 | FF47: =SUM(DP47,DV47,EB47,EH47,EN47,ET47,EZ47) -> 0 | FG47: =SUM(FB47:FF47) -> 0 | FM47: =SUM(FH47:FL47) -> 0 | FS47: =SUM(FN47:FR47) -> 0 | FY47: =SUM(FT47:FX47) -> 0 | GC47: 2.8611715 | GE47: =SUM(FZ47:GD47) -> 2.8611715 | GK47: =SUM(GF47:GJ47) -> 0 | GQ47: =SUM(GL47:GP47) -> 0 | GW47: =SUM(GR47:GV47) -> 0 | HC47: =SUM(GX47:HB47) -> 0 | HI47: =SUM(HD47:HH47) -> 0 | HJ47: =SUM(FH47,FN47,FT47,FZ47,GF47,GL47,GR47,GX47,HD47) -> 0 | HK47: =SUM(FI47,FO47,FU47,GA47,GG47,GM47,GS47,GY47,HE47) -> 0 | HL47: =SUM(FJ47,FP47,FV47,GB47,GH47,GN47,GT47,GZ47,HF47) -> 0 | HM47: =SUM(FK47,FQ47,FW47,GC47,GI47,GO47,GU47,HA47,HG47) -> 2.8611715 | HN47: =SUM(FL47,FR47,FX47,GD47,GJ47,GP47,GV47,HB47,HH47) -> 0 | HO47: =SUM(FM47,FS47,FY47,GE47,GK47,GQ47,GW47,HC47,HI47) -> 2.8611715 | HS47: 9.2181897 | HU47: =SUM(HP47:HT47) -> 9.2181897 | IA47: =SUM(HV47:HZ47) -> 0 | IE47: 8.1454302 | IG47: =SUM(IB47:IF47) -> 8.1454302 | IH47: =SUM(HP47,HV47,IB47) -> 0 | II47: =SUM(HQ47,HW47,IC47) -> 0 | IJ47: =SUM(HR47,HX47,ID47) -> 0 | IK47: =SUM(HS47,HY47,IE47) -> 17.36362 | IL47: =SUM(HT47,HZ47,IF47) -> 0 | IM47: =SUM(HU47,IA47,IG47) -> 17.36362 | IS47: =SUM(IN47:IR47) -> 0 | IY47: =SUM(IT47:IX47) -> 0 | JE47: =SUM(IZ47:JD47) -> 0 | JF47: =SUM(IN47,IT47,IZ47) -> 0 | JG47: =SUM(IO47,IU47,JA47) -> 0 | JH47: =SUM(IP47,IV47,JB47) -> 0 | JI47: =SUM(IQ47,IW47,JC47) -> 0 | JJ47: =SUM(IR47,IX47,JD47) -> 0 | JK47: =SUM(JF47:JJ47) -> 0 | JM47: =SUM(T47,BD47,CB47,DF47,FB47,HJ47,IH47,JF47) -> 0 | JN47: =SUM(U47,BE47,CC47,DG47,FC47,HK47,II47,JG47) -> 0 | JO47: =SUM(V47,BF47,CD47,DH47,FD47,HL47,IJ47,JH47) -> 0 | JP47: =SUM(W47,BG47,CE47,DI47,FE47,HM47,IK47,JI47) -> 101.33836 | JQ47: =SUM(X47,BH47,CF47,DJ47,FF47,HN47,IL47,JJ47) -> 0 | JR47: =SUM(Y47,BI47,CG47,DK47,FG47,HO47,IM47,JK47) -> 101.33836
A48: NB=Fire | E48: 25.438236 | G48: =SUM(B48:F48) -> 25.438236 | K48: 46.801 | M48: =SUM(H48:L48) -> 46.801 | Q48: 86.993578 | S48: =SUM(N48:R48) -> 86.993578 | T48: =SUM(B48,H48,N48) -> 0 | U48: =SUM(C48,I48,O48) -> 0 | V48: =SUM(D48,J48,P48) -> 0 | W48: =SUM(E48,K48,Q48) -> 159.23281 | X48: =SUM(F48,L48,R48) -> 0 | Y48: =SUM(T48:X48) -> 159.23281 | AC48: 52.199656 | AE48: =SUM(Z48:AD48) -> 52.199656 | AI48: 14.843197 | AK48: =SUM(AF48:AJ48) -> 14.843197 | AO48: 20041.576 | AQ48: =SUM(AL48:AP48) -> 20041.576 | AW48: =SUM(AR48:AV48) -> 0 | BA48: 1.1010821 | BC48: =SUM(AX48:BB48) -> 1.1010821 | BD48: =SUM(Z48,AF48,AL48,AR48,AX48) -> 0 | BE48: =SUM(AA48,AG48,AM48,AS48,AY48) -> 0 | BF48: =SUM(AB48,AH48,AN48,AT48,AZ48) -> 0 | BG48: =SUM(AC48,AI48,AO48,AU48,BA48) -> 20109.72 | BH48: =SUM(AD48,AJ48,AP48,AV48,BB48) -> 0 | BI48: =SUM(BD48:BH48) -> 20109.72 | BM48: 1405.8086 | BO48: =SUM(BJ48:BN48) -> 1405.8086 | BS48: 55818.22 | BU48: =SUM(BP48:BT48) -> 55818.22 | BY48: 97393.144 | CA48: =SUM(BV48:BZ48) -> 97393.144 | CB48: =SUM(BJ48,BP48,BV48) -> 0 | CC48: =SUM(BK48,BQ48,BW48) -> 0 | CD48: =SUM(BL48,BR48,BX48) -> 0 | CE48: =SUM(BM48,BS48,BY48) -> 154617.17 | CF48: =SUM(BN48,BT48,BZ48) -> 0 | CG48: =SUM(CB48:CF48) -> 154617.17 | CK48: 851.74716 | CL48: 15.939657 | CM48: =SUM(CH48:CL48) -> 867.68682 | CQ48: 2667.1395 | CS48: =SUM(CN48:CR48) -> 2667.1395 | CW48: 144.70655 | CY48: =SUM(CT48:CX48) -> 144.70655 | DC48: 499.58571 | DE48: =SUM(CZ48:DD48) -> 499.58571 | DF48: =SUM(CH48,CN48,CT48,CZ48) -> 0 | DG48: =SUM(CI48,CO48,CU48,DA48) -> 0 | DH48: =SUM(CJ48,CP48,CV48,DB48) -> 0 | DI48: =SUM(CK48,CQ48,CW48,DC48) -> 4163.1789 | DJ48: =SUM(CL48,CR48,CX48,DD48) -> 15.939657 | DK48: =SUM(DF48:DJ48) -> 4179.1185 | DO48: 62.634494 | DQ48: =SUM(DL48:DP48) -> 62.634494 | DU48: 83.820796 | DW48: =SUM(DR48:DV48) -> 83.820796 | EA48: 104.49729 | EC48: =SUM(DX48:EB48) -> 104.49729 | EG48: 284.55074 | EI48: =SUM(ED48:EH48) -> 284.55074 | EM48: 814.97 | EO48: =SUM(EJ48:EN48) -> 814.97 | ES48: 666.72755 | EU48: =SUM(EP48:ET48) -> 666.72755 | EY48: 292.12572 | FA48: =SUM(EV48:EZ48) -> 292.12572 | FB48: =SUM(DL48,DR48,DX48,ED48,EJ48,EP48,EV48) -> 0 | FC48: =SUM(DM48,DS48,DY48,EE48,EK48,EQ48,EW48) -> 0 | FD48: =SUM(DN48,DT48,DZ48,EF48,EL48,ER48,EX48) -> 0 | FE48: =SUM(DO48,DU48,EA48,EG48,EM48,ES48,EY48) -> 2309.3266 | FF48: =SUM(DP48,DV48,EB48,EH48,EN48,ET48,EZ48) -> 0 | FG48: =SUM(FB48:FF48) -> 2309.3266 | FK48: 10.574469 | FM48: =SUM(FH48:FL48) -> 10.574469 | FQ48: 33485.207 | FS48: =SUM(FN48:FR48) -> 33485.207 | FY48: =SUM(FT48:FX48) -> 0 | GC48: 22.592385 | GE48: =SUM(FZ48:GD48) -> 22.592385 | GI48: 83.643013 | GK48: =SUM(GF48:GJ48) -> 83.643013 | GO48: 28005.165 | GQ48: =SUM(GL48:GP48) -> 28005.165 | GU48: 8909.3694 | GW48: =SUM(GR48:GV48) -> 8909.3694 | HA48: 8.689209 | HC48: =SUM(GX48:HB48) -> 8.689209 | HI48: =SUM(HD48:HH48) -> 0 | HJ48: =SUM(FH48,FN48,FT48,FZ48,GF48,GL48,GR48,GX48,HD48) -> 0 | HK48: =SUM(FI48,FO48,FU48,GA48,GG48,GM48,GS48,GY48,HE48) -> 0 | HL48: =SUM(FJ48,FP48,FV48,GB48,GH48,GN48,GT48,GZ48,HF48) -> 0 | HM48: =SUM(FK48,FQ48,FW48,GC48,GI48,GO48,GU48,HA48,HG48) -> 70525.24 | HN48: =SUM(FL48,FR48,FX48,GD48,GJ48,GP48,GV48,HB48,HH48) -> 0 | HO48: =SUM(FM48,FS48,FY48,GE48,GK48,GQ48,GW48,HC48,HI48) -> 70525.24 | HS48: 65.347819 | HU48: =SUM(HP48:HT48) -> 65.347819 | HY48: 5677.589 | IA48: =SUM(HV48:HZ48) -> 5677.589 | IE48: 38733.358 | IG48: =SUM(IB48:IF48) -> 38733.358 | IH48: =SUM(HP48,HV48,IB48) -> 0 | II48: =SUM(HQ48,HW48,IC48) -> 0 | IJ48: =SUM(HR48,HX48,ID48) -> 0 | IK48: =SUM(HS48,HY48,IE48) -> 44476.294 | IL48: =SUM(HT48,HZ48,IF48) -> 0 | IM48: =SUM(HU48,IA48,IG48) -> 44476.294 | IQ48: 664.18343 | IS48: =SUM(IN48:IR48) -> 664.18343 | IW48: 3392.7143 | IY48: =SUM(IT48:IX48) -> 3392.7143 | JC48: 1721.505 | JE48: =SUM(IZ48:JD48) -> 1721.505 | JF48: =SUM(IN48,IT48,IZ48) -> 0 | JG48: =SUM(IO48,IU48,JA48) -> 0 | JH48: =SUM(IP48,IV48,JB48) -> 0 | JI48: =SUM(IQ48,IW48,JC48) -> 5778.4027 | JJ48: =SUM(IR48,IX48,JD48) -> 0 | JK48: =SUM(JF48:JJ48) -> 5778.4027 | JM48: =SUM(T48,BD48,CB48,DF48,FB48,HJ48,IH48,JF48) -> 0 | JN48: =SUM(U48,BE48,CC48,DG48,FC48,HK48,II48,JG48) -> 0 | JO48: =SUM(V48,BF48,CD48,DH48,FD48,HL48,IJ48,JH48) -> 0 | JP48: =SUM(W48,BG48,CE48,DI48,FE48,HM48,IK48,JI48) -> 302138.57 | JQ48: =SUM(X48,BH48,CF48,DJ48,FF48,HN48,IL48,JJ48) -> 15.939657 | JR48: =SUM(Y48,BI48,CG48,DK48,FG48,HO48,IM48,JK48) -> 302154.51
A49: NCA=Aspen decline | G49: =SUM(B49:F49) -> 0 | M49: =SUM(H49:L49) -> 0 | S49: =SUM(N49:R49) -> 0 | T49: =SUM(B49,H49,N49) -> 0 | U49: =SUM(C49,I49,O49) -> 0 | V49: =SUM(D49,J49,P49) -> 0 | W49: =SUM(E49,K49,Q49) -> 0 | X49: =SUM(F49,L49,R49) -> 0 | Y49: =SUM(T49:X49) -> 0 | AE49: =SUM(Z49:AD49) -> 0 | AK49: =SUM(AF49:AJ49) -> 0 | AQ49: =SUM(AL49:AP49) -> 0 | AW49: =SUM(AR49:AV49) -> 0 | BC49: =SUM(AX49:BB49) -> 0 | BD49: =SUM(Z49,AF49,AL49,AR49,AX49) -> 0 | BE49: =SUM(AA49,AG49,AM49,AS49,AY49) -> 0 | BF49: =SUM(AB49,AH49,AN49,AT49,AZ49) -> 0 | BG49: =SUM(AC49,AI49,AO49,AU49,BA49) -> 0 | BH49: =SUM(AD49,AJ49,AP49,AV49,BB49) -> 0 | BI49: =SUM(BD49:BH49) -> 0 | BO49: =SUM(BJ49:BN49) -> 0 | BU49: =SUM(BP49:BT49) -> 0 | CA49: =SUM(BV49:BZ49) -> 0 | CB49: =SUM(BJ49,BP49,BV49) -> 0 | CC49: =SUM(BK49,BQ49,BW49) -> 0 | CD49: =SUM(BL49,BR49,BX49) -> 0 | CE49: =SUM(BM49,BS49,BY49) -> 0 | CF49: =SUM(BN49,BT49,BZ49) -> 0 | CG49: =SUM(CB49:CF49) -> 0 | CM49: =SUM(CH49:CL49) -> 0 | CS49: =SUM(CN49:CR49) -> 0 | CY49: =SUM(CT49:CX49) -> 0 | DE49: =SUM(CZ49:DD49) -> 0 | DF49: =SUM(CH49,CN49,CT49,CZ49) -> 0 | DG49: =SUM(CI49,CO49,CU49,DA49) -> 0 | DH49: =SUM(CJ49,CP49,CV49,DB49) -> 0 | DI49: =SUM(CK49,CQ49,CW49,DC49) -> 0 | DJ49: =SUM(CL49,CR49,CX49,DD49) -> 0 | DK49: =SUM(DF49:DJ49) -> 0 | DQ49: =SUM(DL49:DP49) -> 0 | DW49: =SUM(DR49:DV49) -> 0 | EC49: =SUM(DX49:EB49) -> 0 | EI49: =SUM(ED49:EH49) -> 0 | EO49: =SUM(EJ49:EN49) -> 0 | EU49: =SUM(EP49:ET49) -> 0 | FA49: =SUM(EV49:EZ49) -> 0 | FB49: =SUM(DL49,DR49,DX49,ED49,EJ49,EP49,EV49) -> 0 | FC49: =SUM(DM49,DS49,DY49,EE49,EK49,EQ49,EW49) -> 0 | FD49: =SUM(DN49,DT49,DZ49,EF49,EL49,ER49,EX49) -> 0 | FE49: =SUM(DO49,DU49,EA49,EG49,EM49,ES49,EY49) -> 0 | FF49: =SUM(DP49,DV49,EB49,EH49,EN49,ET49,EZ49) -> 0 | FG49: =SUM(FB49:FF49) -> 0 | FM49: =SUM(FH49:FL49) -> 0 | FS49: =SUM(FN49:FR49) -> 0 | FY49: =SUM(FT49:FX49) -> 0 | GE49: =SUM(FZ49:GD49) -> 0 | GK49: =SUM(GF49:GJ49) -> 0 | GQ49: =SUM(GL49:GP49) -> 0 | GW49: =SUM(GR49:GV49) -> 0 | HC49: =SUM(GX49:HB49) -> 0 | HI49: =SUM(HD49:HH49) -> 0 | HJ49: =SUM(FH49,FN49,FT49,FZ49,GF49,GL49,GR49,GX49,HD49) -> 0 | HK49: =SUM(FI49,FO49,FU49,GA49,GG49,GM49,GS49,GY49,HE49) -> 0 | HL49: =SUM(FJ49,FP49,FV49,GB49,GH49,GN49,GT49,GZ49,HF49) -> 0 | HM49: =SUM(FK49,FQ49,FW49,GC49,GI49,GO49,GU49,HA49,HG49) -> 0 | HN49: =SUM(FL49,FR49,FX49,GD49,GJ49,GP49,GV49,HB49,HH49) -> 0 | HO49: =SUM(FM49,FS49,FY49,GE49,GK49,GQ49,GW49,HC49,HI49) -> 0 | HU49: =SUM(HP49:HT49) -> 0 | IA49: =SUM(HV49:HZ49) -> 0 | IG49: =SUM(IB49:IF49) -> 0 | IH49: =SUM(HP49,HV49,IB49) -> 0 | II49: =SUM(HQ49,HW49,IC49) -> 0 | IJ49: =SUM(HR49,HX49,ID49) -> 0 | IK49: =SUM(HS49,HY49,IE49) -> 0 | IL49: =SUM(HT49,HZ49,IF49) -> 0 | IM49: =SUM(HU49,IA49,IG49) -> 0 | IS49: =SUM(IN49:IR49) -> 0 | IY49: =SUM(IT49:IX49) -> 0 | JE49: =SUM(IZ49:JD49) -> 0 | JF49: =SUM(IN49,IT49,IZ49) -> 0 | JG49: =SUM(IO49,IU49,JA49) -> 0 | JH49: =SUM(IP49,IV49,JB49) -> 0 | JI49: =SUM(IQ49,IW49,JC49) -> 0 | JJ49: =SUM(IR49,IX49,JD49) -> 0 | JK49: =SUM(JF49:JJ49) -> 0 | JM49: =SUM(T49,BD49,CB49,DF49,FB49,HJ49,IH49,JF49) -> 0 | JN49: =SUM(U49,BE49,CC49,DG49,FC49,HK49,II49,JG49) -> 0 | JO49: =SUM(V49,BF49,CD49,DH49,FD49,HL49,IJ49,JH49) -> 0 | JP49: =SUM(W49,BG49,CE49,DI49,FE49,HM49,IK49,JI49) -> 0 | JQ49: =SUM(X49,BH49,CF49,DJ49,FF49,HN49,IL49,JJ49) -> 0 | JR49: =SUM(Y49,BI49,CG49,DK49,FG49,HO49,IM49,JK49) -> 0
A50: NCB=Birch decline | G50: =SUM(B50:F50) -> 0 | M50: =SUM(H50:L50) -> 0 | S50: =SUM(N50:R50) -> 0 | T50: =SUM(B50,H50,N50) -> 0 | U50: =SUM(C50,I50,O50) -> 0 | V50: =SUM(D50,J50,P50) -> 0 | W50: =SUM(E50,K50,Q50) -> 0 | X50: =SUM(F50,L50,R50) -> 0 | Y50: =SUM(T50:X50) -> 0 | AE50: =SUM(Z50:AD50) -> 0 | AK50: =SUM(AF50:AJ50) -> 0 | AQ50: =SUM(AL50:AP50) -> 0 | AW50: =SUM(AR50:AV50) -> 0 | BC50: =SUM(AX50:BB50) -> 0 | BD50: =SUM(Z50,AF50,AL50,AR50,AX50) -> 0 | BE50: =SUM(AA50,AG50,AM50,AS50,AY50) -> 0 | BF50: =SUM(AB50,AH50,AN50,AT50,AZ50) -> 0 | BG50: =SUM(AC50,AI50,AO50,AU50,BA50) -> 0 | BH50: =SUM(AD50,AJ50,AP50,AV50,BB50) -> 0 | BI50: =SUM(BD50:BH50) -> 0 | BO50: =SUM(BJ50:BN50) -> 0 | BU50: =SUM(BP50:BT50) -> 0 | CA50: =SUM(BV50:BZ50) -> 0 | CB50: =SUM(BJ50,BP50,BV50) -> 0 | CC50: =SUM(BK50,BQ50,BW50) -> 0 | CD50: =SUM(BL50,BR50,BX50) -> 0 | CE50: =SUM(BM50,BS50,BY50) -> 0 | CF50: =SUM(BN50,BT50,BZ50) -> 0 | CG50: =SUM(CB50:CF50) -> 0 | CM50: =SUM(CH50:CL50) -> 0 | CS50: =SUM(CN50:CR50) -> 0 | CY50: =SUM(CT50:CX50) -> 0 | DE50: =SUM(CZ50:DD50) -> 0 | DF50: =SUM(CH50,CN50,CT50,CZ50) -> 0 | DG50: =SUM(CI50,CO50,CU50,DA50) -> 0 | DH50: =SUM(CJ50,CP50,CV50,DB50) -> 0 | DI50: =SUM(CK50,CQ50,CW50,DC50) -> 0 | DJ50: =SUM(CL50,CR50,CX50,DD50) -> 0 | DK50: =SUM(DF50:DJ50) -> 0 | DQ50: =SUM(DL50:DP50) -> 0 | DW50: =SUM(DR50:DV50) -> 0 | EC50: =SUM(DX50:EB50) -> 0 | EI50: =SUM(ED50:EH50) -> 0 | EO50: =SUM(EJ50:EN50) -> 0 | EU50: =SUM(EP50:ET50) -> 0 | FA50: =SUM(EV50:EZ50) -> 0 | FB50: =SUM(DL50,DR50,DX50,ED50,EJ50,EP50,EV50) -> 0 | FC50: =SUM(DM50,DS50,DY50,EE50,EK50,EQ50,EW50) -> 0 | FD50: =SUM(DN50,DT50,DZ50,EF50,EL50,ER50,EX50) -> 0 | FE50: =SUM(DO50,DU50,EA50,EG50,EM50,ES50,EY50) -> 0 | FF50: =SUM(DP50,DV50,EB50,EH50,EN50,ET50,EZ50) -> 0 | FG50: =SUM(FB50:FF50) -> 0 | FM50: =SUM(FH50:FL50) -> 0 | FS50: =SUM(FN50:FR50) -> 0 | FY50: =SUM(FT50:FX50) -> 0 | GE50: =SUM(FZ50:GD50) -> 0 | GK50: =SUM(GF50:GJ50) -> 0 | GQ50: =SUM(GL50:GP50) -> 0 | GW50: =SUM(GR50:GV50) -> 0 | HC50: =SUM(GX50:HB50) -> 0 | HI50: =SUM(HD50:HH50) -> 0 | HJ50: =SUM(FH50,FN50,FT50,FZ50,GF50,GL50,GR50,GX50,HD50) -> 0 | HK50: =SUM(FI50,FO50,FU50,GA50,GG50,GM50,GS50,GY50,HE50) -> 0 | HL50: =SUM(FJ50,FP50,FV50,GB50,GH50,GN50,GT50,GZ50,HF50) -> 0 | HM50: =SUM(FK50,FQ50,FW50,GC50,GI50,GO50,GU50,HA50,HG50) -> 0 | HN50: =SUM(FL50,FR50,FX50,GD50,GJ50,GP50,GV50,HB50,HH50) -> 0 | HO50: =SUM(FM50,FS50,FY50,GE50,GK50,GQ50,GW50,HC50,HI50) -> 0 | HU50: =SUM(HP50:HT50) -> 0 | IA50: =SUM(HV50:HZ50) -> 0 | IG50: =SUM(IB50:IF50) -> 0 | IH50: =SUM(HP50,HV50,IB50) -> 0 | II50: =SUM(HQ50,HW50,IC50) -> 0 | IJ50: =SUM(HR50,HX50,ID50) -> 0 | IK50: =SUM(HS50,HY50,IE50) -> 0 | IL50: =SUM(HT50,HZ50,IF50) -> 0 | IM50: =SUM(HU50,IA50,IG50) -> 0 | IS50: =SUM(IN50:IR50) -> 0 | IW50: 128.35183 | IY50: =SUM(IT50:IX50) -> 128.35183 | JE50: =SUM(IZ50:JD50) -> 0 | JF50: =SUM(IN50,IT50,IZ50) -> 0 | JG50: =SUM(IO50,IU50,JA50) -> 0 | JH50: =SUM(IP50,IV50,JB50) -> 0 | JI50: =SUM(IQ50,IW50,JC50) -> 128.35183 | JJ50: =SUM(IR50,IX50,JD50) -> 0 | JK50: =SUM(JF50:JJ50) -> 128.35183 | JM50: =SUM(T50,BD50,CB50,DF50,FB50,HJ50,IH50,JF50) -> 0 | JN50: =SUM(U50,BE50,CC50,DG50,FC50,HK50,II50,JG50) -> 0 | JO50: =SUM(V50,BF50,CD50,DH50,FD50,HL50,IJ50,JH50) -> 0 | JP50: =SUM(W50,BG50,CE50,DI50,FE50,HM50,IK50,JI50) -> 128.35183 | JQ50: =SUM(X50,BH50,CF50,DJ50,FF50,HN50,IL50,JJ50) -> 0 | JR50: =SUM(Y50,BI50,CG50,DK50,FG50,HO50,IM50,JK50) -> 128.35183
A51: NCY=Yellow cedar decline | G51: =SUM(B51:F51) -> 0 | M51: =SUM(H51:L51) -> 0 | S51: =SUM(N51:R51) -> 0 | T51: =SUM(B51,H51,N51) -> 0 | U51: =SUM(C51,I51,O51) -> 0 | V51: =SUM(D51,J51,P51) -> 0 | W51: =SUM(E51,K51,Q51) -> 0 | X51: =SUM(F51,L51,R51) -> 0 | Y51: =SUM(T51:X51) -> 0 | AE51: =SUM(Z51:AD51) -> 0 | AF51: 446.36462 | AG51: 538.41757 | AH51: 14.849496 | AI51: 1.25 | AK51: =SUM(AF51:AJ51) -> 1000.8817 | AL51: 553.73516 | AM51: 444.89381 | AN51: 39.831243 | AO51: 21.75 | AQ51: =SUM(AL51:AP51) -> 1060.2102 | AS51: 658.96446 | AW51: =SUM(AR51:AV51) -> 658.96446 | BC51: =SUM(AX51:BB51) -> 0 | BD51: =SUM(Z51,AF51,AL51,AR51,AX51) -> 1000.0998 | BE51: =SUM(AA51,AG51,AM51,AS51,AY51) -> 1642.2758 | BF51: =SUM(AB51,AH51,AN51,AT51,AZ51) -> 54.680739 | BG51: =SUM(AC51,AI51,AO51,AU51,BA51) -> 23 | BH51: =SUM(AD51,AJ51,AP51,AV51,BB51) -> 0 | BI51: =SUM(BD51:BH51) -> 2720.0564 | BO51: =SUM(BJ51:BN51) -> 0 | BU51: =SUM(BP51:BT51) -> 0 | CA51: =SUM(BV51:BZ51) -> 0 | CB51: =SUM(BJ51,BP51,BV51) -> 0 | CC51: =SUM(BK51,BQ51,BW51) -> 0 | CD51: =SUM(BL51,BR51,BX51) -> 0 | CE51: =SUM(BM51,BS51,BY51) -> 0 | CF51: =SUM(BN51,BT51,BZ51) -> 0 | CG51: =SUM(CB51:CF51) -> 0 | CM51: =SUM(CH51:CL51) -> 0 | CS51: =SUM(CN51:CR51) -> 0 | CY51: =SUM(CT51:CX51) -> 0 | DE51: =SUM(CZ51:DD51) -> 0 | DF51: =SUM(CH51,CN51,CT51,CZ51) -> 0 | DG51: =SUM(CI51,CO51,CU51,DA51) -> 0 | DH51: =SUM(CJ51,CP51,CV51,DB51) -> 0 | DI51: =SUM(CK51,CQ51,CW51,DC51) -> 0 | DJ51: =SUM(CL51,CR51,CX51,DD51) -> 0 | DK51: =SUM(DF51:DJ51) -> 0 | DQ51: =SUM(DL51:DP51) -> 0 | DW51: =SUM(DR51:DV51) -> 0 | EC51: =SUM(DX51:EB51) -> 0 | EI51: =SUM(ED51:EH51) -> 0 | EO51: =SUM(EJ51:EN51) -> 0 | EU51: =SUM(EP51:ET51) -> 0 | FA51: =SUM(EV51:EZ51) -> 0 | FB51: =SUM(DL51,DR51,DX51,ED51,EJ51,EP51,EV51) -> 0 | FC51: =SUM(DM51,DS51,DY51,EE51,EK51,EQ51,EW51) -> 0 | FD51: =SUM(DN51,DT51,DZ51,EF51,EL51,ER51,EX51) -> 0 | FE51: =SUM(DO51,DU51,EA51,EG51,EM51,ES51,EY51) -> 0 | FF51: =SUM(DP51,DV51,EB51,EH51,EN51,ET51,EZ51) -> 0 | FG51: =SUM(FB51:FF51) -> 0 | FM51: =SUM(FH51:FL51) -> 0 | FS51: =SUM(FN51:FR51) -> 0 | FY51: =SUM(FT51:FX51) -> 0 | FZ51: 106.05306 | GA51: 11.500247 | GB51: 120.0718 | GC51: 19.977851 | GE51: =SUM(FZ51:GD51) -> 257.60296 | GK51: =SUM(GF51:GJ51) -> 0 | GQ51: =SUM(GL51:GP51) -> 0 | GW51: =SUM(GR51:GV51) -> 0 | HC51: =SUM(GX51:HB51) -> 0 | HE51: 3859.6068 | HF51: 2406.5516 | HG51: 1739.8824 | HI51: =SUM(HD51:HH51) -> 8006.0408 | HJ51: =SUM(FH51,FN51,FT51,FZ51,GF51,GL51,GR51,GX51,HD51) -> 106.05306 | HK51: =SUM(FI51,FO51,FU51,GA51,GG51,GM51,GS51,GY51,HE51) -> 3871.1071 | HL51: =SUM(FJ51,FP51,FV51,GB51,GH51,GN51,GT51,GZ51,HF51) -> 2526.6234 | HM51: =SUM(FK51,FQ51,FW51,GC51,GI51,GO51,GU51,HA51,HG51) -> 1759.8602 | HN51: =SUM(FL51,FR51,FX51,GD51,GJ51,GP51,GV51,HB51,HH51) -> 0 | HO51: =SUM(FM51,FS51,FY51,GE51,GK51,GQ51,GW51,HC51,HI51) -> 8263.6437 | HU51: =SUM(HP51:HT51) -> 0 | IA51: =SUM(HV51:HZ51) -> 0 | IG51: =SUM(IB51:IF51) -> 0 | IH51: =SUM(HP51,HV51,IB51) -> 0 | II51: =SUM(HQ51,HW51,IC51) -> 0 | IJ51: =SUM(HR51,HX51,ID51) -> 0 | IK51: =SUM(HS51,HY51,IE51) -> 0 | IL51: =SUM(HT51,HZ51,IF51) -> 0 | IM51: =SUM(HU51,IA51,IG51) -> 0 | IS51: =SUM(IN51:IR51) -> 0 | IY51: =SUM(IT51:IX51) -> 0 | JE51: =SUM(IZ51:JD51) -> 0 | JF51: =SUM(IN51,IT51,IZ51) -> 0 | JG51: =SUM(IO51,IU51,JA51) -> 0 | JH51: =SUM(IP51,IV51,JB51) -> 0 | JI51: =SUM(IQ51,IW51,JC51) -> 0 | JJ51: =SUM(IR51,IX51,JD51) -> 0 | JK51: =SUM(JF51:JJ51) -> 0 | JM51: =SUM(T51,BD51,CB51,DF51,FB51,HJ51,IH51,JF51) -> 1106.1528 | JN51: =SUM(U51,BE51,CC51,DG51,FC51,HK51,II51,JG51) -> 5513.3829 | JO51: =SUM(V51,BF51,CD51,DH51,FD51,HL51,IJ51,JH51) -> 2581.3041 | JP51: =SUM(W51,BG51,CE51,DI51,FE51,HM51,IK51,JI51) -> 1782.8602 | JQ51: =SUM(X51,BH51,CF51,DJ51,FF51,HN51,IL51,JJ51) -> 0 | JR51: =SUM(Y51,BI51,CG51,DK51,FG51,HO51,IM51,JK51) -> 10983.7
A52: ND=Drought | E52: 0.25 | G52: =SUM(B52:F52) -> 0.25 | K52: 0.5 | M52: =SUM(H52:L52) -> 0.5 | S52: =SUM(N52:R52) -> 0 | T52: =SUM(B52,H52,N52) -> 0 | U52: =SUM(C52,I52,O52) -> 0 | V52: =SUM(D52,J52,P52) -> 0 | W52: =SUM(E52,K52,Q52) -> 0.75 | X52: =SUM(F52,L52,R52) -> 0 | Y52: =SUM(T52:X52) -> 0.75 | AE52: =SUM(Z52:AD52) -> 0 | AG52: 24.655596 | AK52: =SUM(AF52:AJ52) -> 24.655596 | AM52: 219.16106 | AQ52: =SUM(AL52:AP52) -> 219.16106 | AW52: =SUM(AR52:AV52) -> 0 | BC52: =SUM(AX52:BB52) -> 0 | BD52: =SUM(Z52,AF52,AL52,AR52,AX52) -> 0 | BE52: =SUM(AA52,AG52,AM52,AS52,AY52) -> 243.81666 | BF52: =SUM(AB52,AH52,AN52,AT52,AZ52) -> 0 | BG52: =SUM(AC52,AI52,AO52,AU52,BA52) -> 0 | BH52: =SUM(AD52,AJ52,AP52,AV52,BB52) -> 0 | BI52: =SUM(BD52:BH52) -> 243.81666 | BO52: =SUM(BJ52:BN52) -> 0 | BU52: =SUM(BP52:BT52) -> 0 | BW52: 35.822604 | CA52: =SUM(BV52:BZ52) -> 35.822604 | CB52: =SUM(BJ52,BP52,BV52) -> 0 | CC52: =SUM(BK52,BQ52,BW52) -> 35.822604 | CD52: =SUM(BL52,BR52,BX52) -> 0 | CE52: =SUM(BM52,BS52,BY52) -> 0 | CF52: =SUM(BN52,BT52,BZ52) -> 0 | CG52: =SUM(CB52:CF52) -> 35.822604 | CM52: =SUM(CH52:CL52) -> 0 | CO52: 388.27536 | CS52: =SUM(CN52:CR52) -> 388.27536 | CY52: =SUM(CT52:CX52) -> 0 | DE52: =SUM(CZ52:DD52) -> 0 | DF52: =SUM(CH52,CN52,CT52,CZ52) -> 0 | DG52: =SUM(CI52,CO52,CU52,DA52) -> 388.27536 | DH52: =SUM(CJ52,CP52,CV52,DB52) -> 0 | DI52: =SUM(CK52,CQ52,CW52,DC52) -> 0 | DJ52: =SUM(CL52,CR52,CX52,DD52) -> 0 | DK52: =SUM(DF52:DJ52) -> 388.27536 | DQ52: =SUM(DL52:DP52) -> 0 | DW52: =SUM(DR52:DV52) -> 0 | EC52: =SUM(DX52:EB52) -> 0 | EI52: =SUM(ED52:EH52) -> 0 | EO52: =SUM(EJ52:EN52) -> 0 | EU52: =SUM(EP52:ET52) -> 0 | FA52: =SUM(EV52:EZ52) -> 0 | FB52: =SUM(DL52,DR52,DX52,ED52,EJ52,EP52,EV52) -> 0 | FC52: =SUM(DM52,DS52,DY52,EE52,EK52,EQ52,EW52) -> 0 | FD52: =SUM(DN52,DT52,DZ52,EF52,EL52,ER52,EX52) -> 0 | FE52: =SUM(DO52,DU52,EA52,EG52,EM52,ES52,EY52) -> 0 | FF52: =SUM(DP52,DV52,EB52,EH52,EN52,ET52,EZ52) -> 0 | FG52: =SUM(FB52:FF52) -> 0 | FM52: =SUM(FH52:FL52) -> 0 | FS52: =SUM(FN52:FR52) -> 0 | FY52: =SUM(FT52:FX52) -> 0 | GC52: 19.041892 | GE52: =SUM(FZ52:GD52) -> 19.041892 | GK52: =SUM(GF52:GJ52) -> 0 | GQ52: =SUM(GL52:GP52) -> 0 | GW52: =SUM(GR52:GV52) -> 0 | HC52: =SUM(GX52:HB52) -> 0 | HI52: =SUM(HD52:HH52) -> 0 | HJ52: =SUM(FH52,FN52,FT52,FZ52,GF52,GL52,GR52,GX52,HD52) -> 0 | HK52: =SUM(FI52,FO52,FU52,GA52,GG52,GM52,GS52,GY52,HE52) -> 0 | HL52: =SUM(FJ52,FP52,FV52,GB52,GH52,GN52,GT52,GZ52,HF52) -> 0 | HM52: =SUM(FK52,FQ52,FW52,GC52,GI52,GO52,GU52,HA52,HG52) -> 19.041892 | HN52: =SUM(FL52,FR52,FX52,GD52,GJ52,GP52,GV52,HB52,HH52) -> 0 | HO52: =SUM(FM52,FS52,FY52,GE52,GK52,GQ52,GW52,HC52,HI52) -> 19.041892 | HU52: =SUM(HP52:HT52) -> 0 | IA52: =SUM(HV52:HZ52) -> 0 | IG52: =SUM(IB52:IF52) -> 0 | IH52: =SUM(HP52,HV52,IB52) -> 0 | II52: =SUM(HQ52,HW52,IC52) -> 0 | IJ52: =SUM(HR52,HX52,ID52) -> 0 | IK52: =SUM(HS52,HY52,IE52) -> 0 | IL52: =SUM(HT52,HZ52,IF52) -> 0 | IM52: =SUM(HU52,IA52,IG52) -> 0 | IS52: =SUM(IN52:IR52) -> 0 | IY52: =SUM(IT52:IX52) -> 0 | JE52: =SUM(IZ52:JD52) -> 0 | JF52: =SUM(IN52,IT52,IZ52) -> 0 | JG52: =SUM(IO52,IU52,JA52) -> 0 | JH52: =SUM(IP52,IV52,JB52) -> 0 | JI52: =SUM(IQ52,IW52,JC52) -> 0 | JJ52: =SUM(IR52,IX52,JD52) -> 0 | JK52: =SUM(JF52:JJ52) -> 0 | JM52: =SUM(T52,BD52,CB52,DF52,FB52,HJ52,IH52,JF52) -> 0 | JN52: =SUM(U52,BE52,CC52,DG52,FC52,HK52,II52,JG52) -> 667.91462 | JO52: =SUM(V52,BF52,CD52,DH52,FD52,HL52,IJ52,JH52) -> 0 | JP52: =SUM(W52,BG52,CE52,DI52,FE52,HM52,IK52,JI52) -> 19.791892 | JQ52: =SUM(X52,BH52,CF52,DJ52,FF52,HN52,IL52,JJ52) -> 0 | JR52: =SUM(Y52,BI52,CG52,DK52,FG52,HO52,IM52,JK52) -> 687.70651
A53: NF=Flooding | E53: 31.797245 | G53: =SUM(B53:F53) -> 31.797245 | K53: 28.915864 | M53: =SUM(H53:L53) -> 28.915864 | Q53: 73.073043 | S53: =SUM(N53:R53) -> 73.073043 | T53: =SUM(B53,H53,N53) -> 0 | U53: =SUM(C53,I53,O53) -> 0 | V53: =SUM(D53,J53,P53) -> 0 | W53: =SUM(E53,K53,Q53) -> 133.78615 | X53: =SUM(F53,L53,R53) -> 0 | Y53: =SUM(T53:X53) -> 133.78615 | AC53: 21.627101 | AE53: =SUM(Z53:AD53) -> 21.627101 | AI53: 64.07617 | AK53: =SUM(AF53:AJ53) -> 64.07617 | AO53: 16.869531 | AQ53: =SUM(AL53:AP53) -> 16.869531 | AW53: =SUM(AR53:AV53) -> 0 | BA53: 10.477635 | BC53: =SUM(AX53:BB53) -> 10.477635 | BD53: =SUM(Z53,AF53,AL53,AR53,AX53) -> 0 | BE53: =SUM(AA53,AG53,AM53,AS53,AY53) -> 0 | BF53: =SUM(AB53,AH53,AN53,AT53,AZ53) -> 0 | BG53: =SUM(AC53,AI53,AO53,AU53,BA53) -> 113.05044 | BH53: =SUM(AD53,AJ53,AP53,AV53,BB53) -> 0 | BI53: =SUM(BD53:BH53) -> 113.05044 | BO53: =SUM(BJ53:BN53) -> 0 | BS53: 21.201951 | BU53: =SUM(BP53:BT53) -> 21.201951 | BY53: 27.232707 | CA53: =SUM(BV53:BZ53) -> 27.232707 | CB53: =SUM(BJ53,BP53,BV53) -> 0 | CC53: =SUM(BK53,BQ53,BW53) -> 0 | CD53: =SUM(BL53,BR53,BX53) -> 0 | CE53: =SUM(BM53,BS53,BY53) -> 48.434657 | CF53: =SUM(BN53,BT53,BZ53) -> 0 | CG53: =SUM(CB53:CF53) -> 48.434657 | CM53: =SUM(CH53:CL53) -> 0 | CS53: =SUM(CN53:CR53) -> 0 | CY53: =SUM(CT53:CX53) -> 0 | DC53: 5.1486948 | DE53: =SUM(CZ53:DD53) -> 5.1486948 | DF53: =SUM(CH53,CN53,CT53,CZ53) -> 0 | DG53: =SUM(CI53,CO53,CU53,DA53) -> 0 | DH53: =SUM(CJ53,CP53,CV53,DB53) -> 0 | DI53: =SUM(CK53,CQ53,CW53,DC53) -> 5.1486948 | DJ53: =SUM(CL53,CR53,CX53,DD53) -> 0 | DK53: =SUM(DF53:DJ53) -> 5.1486948 | DO53: 6.1689769 | DQ53: =SUM(DL53:DP53) -> 6.1689769 | DW53: =SUM(DR53:DV53) -> 0 | EA53: 1.160694 | EC53: =SUM(DX53:EB53) -> 1.160694 | EI53: =SUM(ED53:EH53) -> 0 | EM53: 16.191817 | EO53: =SUM(EJ53:EN53) -> 16.191817 | ES53: 3.4362147 | EU53: =SUM(EP53:ET53) -> 3.4362147 | FA53: =SUM(EV53:EZ53) -> 0 | FB53: =SUM(DL53,DR53,DX53,ED53,EJ53,EP53,EV53) -> 0 | FC53: =SUM(DM53,DS53,DY53,EE53,EK53,EQ53,EW53) -> 0 | FD53: =SUM(DN53,DT53,DZ53,EF53,EL53,ER53,EX53) -> 0 | FE53: =SUM(DO53,DU53,EA53,EG53,EM53,ES53,EY53) -> 26.957703 | FF53: =SUM(DP53,DV53,EB53,EH53,EN53,ET53,EZ53) -> 0 | FG53: =SUM(FB53:FF53) -> 26.957703 | FK53: 30.273739 | FM53: =SUM(FH53:FL53) -> 30.273739 | FS53: =SUM(FN53:FR53) -> 0 | FW53: 5.8803651 | FY53: =SUM(FT53:FX53) -> 5.8803651 | GA53: 88.060996 | GC53: 290.84678 | GE53: =SUM(FZ53:GD53) -> 378.90778 | GH53: 14.659644 | GI53: 32.550733 | GK53: =SUM(GF53:GJ53) -> 47.210378 | GO53: 47.466793 | GQ53: =SUM(GL53:GP53) -> 47.466793 | GU53: 4.9250793 | GW53: =SUM(GR53:GV53) -> 4.9250793 | HA53: 20.119796 | HC53: =SUM(GX53:HB53) -> 20.119796 | HF53: 40.266264 | HG53: 29.201887 | HI53: =SUM(HD53:HH53) -> 69.468151 | HJ53: =SUM(FH53,FN53,FT53,FZ53,GF53,GL53,GR53,GX53,HD53) -> 0 | HK53: =SUM(FI53,FO53,FU53,GA53,GG53,GM53,GS53,GY53,HE53) -> 88.060996 | HL53: =SUM(FJ53,FP53,FV53,GB53,GH53,GN53,GT53,GZ53,HF53) -> 54.925908 | HM53: =SUM(FK53,FQ53,FW53,GC53,GI53,GO53,GU53,HA53,HG53) -> 461.26517 | HN53: =SUM(FL53,FR53,FX53,GD53,GJ53,GP53,GV53,HB53,HH53) -> 0 | HO53: =SUM(FM53,FS53,FY53,GE53,GK53,GQ53,GW53,HC53,HI53) -> 604.25208 | HU53: =SUM(HP53:HT53) -> 0 | IA53: =SUM(HV53:HZ53) -> 0 | IC53: 34.516327 | ID53: 28.849826 | IE53: 272.41859 | IG53: =SUM(IB53:IF53) -> 335.78474 | IH53: =SUM(HP53,HV53,IB53) -> 0 | II53: =SUM(HQ53,HW53,IC53) -> 34.516327 | IJ53: =SUM(HR53,HX53,ID53) -> 28.849826 | IK53: =SUM(HS53,HY53,IE53) -> 272.41859 | IL53: =SUM(HT53,HZ53,IF53) -> 0 | IM53: =SUM(HU53,IA53,IG53) -> 335.78474 | IQ53: 46.904887 | IS53: =SUM(IN53:IR53) -> 46.904887 | IT53: 2813.7201 | IV53: 47.786826 | IW53: 153.21933 | IY53: =SUM(IT53:IX53) -> 3014.7263 | JC53: 109.78632 | JE53: =SUM(IZ53:JD53) -> 109.78632 | JF53: =SUM(IN53,IT53,IZ53) -> 2813.7201 | JG53: =SUM(IO53,IU53,JA53) -> 0 | JH53: =SUM(IP53,IV53,JB53) -> 47.786826 | JI53: =SUM(IQ53,IW53,JC53) -> 309.91054 | JJ53: =SUM(IR53,IX53,JD53) -> 0 | JK53: =SUM(JF53:JJ53) -> 3171.4175 | JM53: =SUM(T53,BD53,CB53,DF53,FB53,HJ53,IH53,JF53) -> 2813.7201 | JN53: =SUM(U53,BE53,CC53,DG53,FC53,HK53,II53,JG53) -> 122.57732 | JO53: =SUM(V53,BF53,CD53,DH53,FD53,HL53,IJ53,JH53) -> 131.56256 | JP53: =SUM(W53,BG53,CE53,DI53,FE53,HM53,IK53,JI53) -> 1370.9719 | JQ53: =SUM(X53,BH53,CF53,DJ53,FF53,HN53,IL53,JJ53) -> 0 | JR53: =SUM(Y53,BI53,CG53,DK53,FG53,HO53,IM53,JK53) -> 4438.832
A54: NGK=Shoot/Bud Frost Kill | G54: =SUM(B54:F54) -> 0 | M54: =SUM(H54:L54) -> 0 | S54: =SUM(N54:R54) -> 0 | T54: =SUM(B54,H54,N54) -> 0 | U54: =SUM(C54,I54,O54) -> 0 | V54: =SUM(D54,J54,P54) -> 0 | W54: =SUM(E54,K54,Q54) -> 0 | X54: =SUM(F54,L54,R54) -> 0 | Y54: =SUM(T54:X54) -> 0 | AE54: =SUM(Z54:AD54) -> 0 | AK54: =SUM(AF54:AJ54) -> 0 | AQ54: =SUM(AL54:AP54) -> 0 | AW54: =SUM(AR54:AV54) -> 0 | BC54: =SUM(AX54:BB54) -> 0 | BD54: =SUM(Z54,AF54,AL54,AR54,AX54) -> 0 | BE54: =SUM(AA54,AG54,AM54,AS54,AY54) -> 0 | BF54: =SUM(AB54,AH54,AN54,AT54,AZ54) -> 0 | BG54: =SUM(AC54,AI54,AO54,AU54,BA54) -> 0 | BH54: =SUM(AD54,AJ54,AP54,AV54,BB54) -> 0 | BI54: =SUM(BD54:BH54) -> 0 | BO54: =SUM(BJ54:BN54) -> 0 | BU54: =SUM(BP54:BT54) -> 0 | CA54: =SUM(BV54:BZ54) -> 0 | CB54: =SUM(BJ54,BP54,BV54) -> 0 | CC54: =SUM(BK54,BQ54,BW54) -> 0 | CD54: =SUM(BL54,BR54,BX54) -> 0 | CE54: =SUM(BM54,BS54,BY54) -> 0 | CF54: =SUM(BN54,BT54,BZ54) -> 0 | CG54: =SUM(CB54:CF54) -> 0 | CM54: =SUM(CH54:CL54) -> 0 | CS54: =SUM(CN54:CR54) -> 0 | CY54: =SUM(CT54:CX54) -> 0 | DE54: =SUM(CZ54:DD54) -> 0 | DF54: =SUM(CH54,CN54,CT54,CZ54) -> 0 | DG54: =SUM(CI54,CO54,CU54,DA54) -> 0 | DH54: =SUM(CJ54,CP54,CV54,DB54) -> 0 | DI54: =SUM(CK54,CQ54,CW54,DC54) -> 0 | DJ54: =SUM(CL54,CR54,CX54,DD54) -> 0 | DK54: =SUM(DF54:DJ54) -> 0 | DQ54: =SUM(DL54:DP54) -> 0 | DW54: =SUM(DR54:DV54) -> 0 | EC54: =SUM(DX54:EB54) -> 0 | EI54: =SUM(ED54:EH54) -> 0 | EO54: =SUM(EJ54:EN54) -> 0 | EU54: =SUM(EP54:ET54) -> 0 | FA54: =SUM(EV54:EZ54) -> 0 | FB54: =SUM(DL54,DR54,DX54,ED54,EJ54,EP54,EV54) -> 0 | FC54: =SUM(DM54,DS54,DY54,EE54,EK54,EQ54,EW54) -> 0 | FD54: =SUM(DN54,DT54,DZ54,EF54,EL54,ER54,EX54) -> 0 | FE54: =SUM(DO54,DU54,EA54,EG54,EM54,ES54,EY54) -> 0 | FF54: =SUM(DP54,DV54,EB54,EH54,EN54,ET54,EZ54) -> 0 | FG54: =SUM(FB54:FF54) -> 0 | FM54: =SUM(FH54:FL54) -> 0 | FS54: =SUM(FN54:FR54) -> 0 | FY54: =SUM(FT54:FX54) -> 0 | GE54: =SUM(FZ54:GD54) -> 0 | GK54: =SUM(GF54:GJ54) -> 0 | GQ54: =SUM(GL54:GP54) -> 0 | GW54: =SUM(GR54:GV54) -> 0 | HC54: =SUM(GX54:HB54) -> 0 | HI54: =SUM(HD54:HH54) -> 0 | HJ54: =SUM(FH54,FN54,FT54,FZ54,GF54,GL54,GR54,GX54,HD54) -> 0 | HK54: =SUM(FI54,FO54,FU54,GA54,GG54,GM54,GS54,GY54,HE54) -> 0 | HL54: =SUM(FJ54,FP54,FV54,GB54,GH54,GN54,GT54,GZ54,HF54) -> 0 | HM54: =SUM(FK54,FQ54,FW54,GC54,GI54,GO54,GU54,HA54,HG54) -> 0 | HN54: =SUM(FL54,FR54,FX54,GD54,GJ54,GP54,GV54,HB54,HH54) -> 0 | HO54: =SUM(FM54,FS54,FY54,GE54,GK54,GQ54,GW54,HC54,HI54) -> 0 | HU54: =SUM(HP54:HT54) -> 0 | IA54: =SUM(HV54:HZ54) -> 0 | IG54: =SUM(IB54:IF54) -> 0 | IH54: =SUM(HP54,HV54,IB54) -> 0 | II54: =SUM(HQ54,HW54,IC54) -> 0 | IJ54: =SUM(HR54,HX54,ID54) -> 0 | IK54: =SUM(HS54,HY54,IE54) -> 0 | IL54: =SUM(HT54,HZ54,IF54) -> 0 | IM54: =SUM(HU54,IA54,IG54) -> 0 | IS54: =SUM(IN54:IR54) -> 0 | IY54: =SUM(IT54:IX54) -> 0 | JE54: =SUM(IZ54:JD54) -> 0 | JF54: =SUM(IN54,IT54,IZ54) -> 0 | JG54: =SUM(IO54,IU54,JA54) -> 0 | JH54: =SUM(IP54,IV54,JB54) -> 0 | JI54: =SUM(IQ54,IW54,JC54) -> 0 | JJ54: =SUM(IR54,IX54,JD54) -> 0 | JK54: =SUM(JF54:JJ54) -> 0 | JM54: =SUM(T54,BD54,CB54,DF54,FB54,HJ54,IH54,JF54) -> 0 | JN54: =SUM(U54,BE54,CC54,DG54,FC54,HK54,II54,JG54) -> 0 | JO54: =SUM(V54,BF54,CD54,DH54,FD54,HL54,IJ54,JH54) -> 0 | JP54: =SUM(W54,BG54,CE54,DI54,FE54,HM54,IK54,JI54) -> 0 | JQ54: =SUM(X54,BH54,CF54,DJ54,FF54,HN54,IL54,JJ54) -> 0 | JR54: =SUM(Y54,BI54,CG54,DK54,FG54,HO54,IM54,JK54) -> 0
A55: NH=Hail | G55: =SUM(B55:F55) -> 0 | M55: =SUM(H55:L55) -> 0 | S55: =SUM(N55:R55) -> 0 | T55: =SUM(B55,H55,N55) -> 0 | U55: =SUM(C55,I55,O55) -> 0 | V55: =SUM(D55,J55,P55) -> 0 | W55: =SUM(E55,K55,Q55) -> 0 | X55: =SUM(F55,L55,R55) -> 0 | Y55: =SUM(T55:X55) -> 0 | AE55: =SUM(Z55:AD55) -> 0 | AK55: =SUM(AF55:AJ55) -> 0 | AQ55: =SUM(AL55:AP55) -> 0 | AW55: =SUM(AR55:AV55) -> 0 | BC55: =SUM(AX55:BB55) -> 0 | BD55: =SUM(Z55,AF55,AL55,AR55,AX55) -> 0 | BE55: =SUM(AA55,AG55,AM55,AS55,AY55) -> 0 | BF55: =SUM(AB55,AH55,AN55,AT55,AZ55) -> 0 | BG55: =SUM(AC55,AI55,AO55,AU55,BA55) -> 0 | BH55: =SUM(AD55,AJ55,AP55,AV55,BB55) -> 0 | BI55: =SUM(BD55:BH55) -> 0 | BO55: =SUM(BJ55:BN55) -> 0 | BU55: =SUM(BP55:BT55) -> 0 | CA55: =SUM(BV55:BZ55) -> 0 | CB55: =SUM(BJ55,BP55,BV55) -> 0 | CC55: =SUM(BK55,BQ55,BW55) -> 0 | CD55: =SUM(BL55,BR55,BX55) -> 0 | CE55: =SUM(BM55,BS55,BY55) -> 0 | CF55: =SUM(BN55,BT55,BZ55) -> 0 | CG55: =SUM(CB55:CF55) -> 0 | CM55: =SUM(CH55:CL55) -> 0 | CS55: =SUM(CN55:CR55) -> 0 | CY55: =SUM(CT55:CX55) -> 0 | DE55: =SUM(CZ55:DD55) -> 0 | DF55: =SUM(CH55,CN55,CT55,CZ55) -> 0 | DG55: =SUM(CI55,CO55,CU55,DA55) -> 0 | DH55: =SUM(CJ55,CP55,CV55,DB55) -> 0 | DI55: =SUM(CK55,CQ55,CW55,DC55) -> 0 | DJ55: =SUM(CL55,CR55,CX55,DD55) -> 0 | DK55: =SUM(DF55:DJ55) -> 0 | DQ55: =SUM(DL55:DP55) -> 0 | DW55: =SUM(DR55:DV55) -> 0 | EC55: =SUM(DX55:EB55) -> 0 | EI55: =SUM(ED55:EH55) -> 0 | EO55: =SUM(EJ55:EN55) -> 0 | EU55: =SUM(EP55:ET55) -> 0 | FA55: =SUM(EV55:EZ55) -> 0 | FB55: =SUM(DL55,DR55,DX55,ED55,EJ55,EP55,EV55) -> 0 | FC55: =SUM(DM55,DS55,DY55,EE55,EK55,EQ55,EW55) -> 0 | FD55: =SUM(DN55,DT55,DZ55,EF55,EL55,ER55,EX55) -> 0 | FE55: =SUM(DO55,DU55,EA55,EG55,EM55,ES55,EY55) -> 0 | FF55: =SUM(DP55,DV55,EB55,EH55,EN55,ET55,EZ55) -> 0 | FG55: =SUM(FB55:FF55) -> 0 | FM55: =SUM(FH55:FL55) -> 0 | FS55: =SUM(FN55:FR55) -> 0 | FY55: =SUM(FT55:FX55) -> 0 | GE55: =SUM(FZ55:GD55) -> 0 | GK55: =SUM(GF55:GJ55) -> 0 | GQ55: =SUM(GL55:GP55) -> 0 | GW55: =SUM(GR55:GV55) -> 0 | HC55: =SUM(GX55:HB55) -> 0 | HI55: =SUM(HD55:HH55) -> 0 | HJ55: =SUM(FH55,FN55,FT55,FZ55,GF55,GL55,GR55,GX55,HD55) -> 0 | HK55: =SUM(FI55,FO55,FU55,GA55,GG55,GM55,GS55,GY55,HE55) -> 0 | HL55: =SUM(FJ55,FP55,FV55,GB55,GH55,GN55,GT55,GZ55,HF55) -> 0 | HM55: =SUM(FK55,FQ55,FW55,GC55,GI55,GO55,GU55,HA55,HG55) -> 0 | HN55: =SUM(FL55,FR55,FX55,GD55,GJ55,GP55,GV55,HB55,HH55) -> 0 | HO55: =SUM(FM55,FS55,FY55,GE55,GK55,GQ55,GW55,HC55,HI55) -> 0 | HU55: =SUM(HP55:HT55) -> 0 | IA55: =SUM(HV55:HZ55) -> 0 | IG55: =SUM(IB55:IF55) -> 0 | IH55: =SUM(HP55,HV55,IB55) -> 0 | II55: =SUM(HQ55,HW55,IC55) -> 0 | IJ55: =SUM(HR55,HX55,ID55) -> 0 | IK55: =SUM(HS55,HY55,IE55) -> 0 | IL55: =SUM(HT55,HZ55,IF55) -> 0 | IM55: =SUM(HU55,IA55,IG55) -> 0 | IS55: =SUM(IN55:IR55) -> 0 | IY55: =SUM(IT55:IX55) -> 0 | JE55: =SUM(IZ55:JD55) -> 0 | JF55: =SUM(IN55,IT55,IZ55) -> 0 | JG55: =SUM(IO55,IU55,JA55) -> 0 | JH55: =SUM(IP55,IV55,JB55) -> 0 | JI55: =SUM(IQ55,IW55,JC55) -> 0 | JJ55: =SUM(IR55,IX55,JD55) -> 0 | JK55: =SUM(JF55:JJ55) -> 0 | JM55: =SUM(T55,BD55,CB55,DF55,FB55,HJ55,IH55,JF55) -> 0 | JN55: =SUM(U55,BE55,CC55,DG55,FC55,HK55,II55,JG55) -> 0 | JO55: =SUM(V55,BF55,CD55,DH55,FD55,HL55,IJ55,JH55) -> 0 | JP55: =SUM(W55,BG55,CE55,DI55,FE55,HM55,IK55,JI55) -> 0 | JQ55: =SUM(X55,BH55,CF55,DJ55,FF55,HN55,IL55,JJ55) -> 0 | JR55: =SUM(Y55,BI55,CG55,DK55,FG55,HO55,IM55,JK55) -> 0
A56: NR=Redbelt | G56: =SUM(B56:F56) -> 0 | M56: =SUM(H56:L56) -> 0 | S56: =SUM(N56:R56) -> 0 | T56: =SUM(B56,H56,N56) -> 0 | U56: =SUM(C56,I56,O56) -> 0 | V56: =SUM(D56,J56,P56) -> 0 | W56: =SUM(E56,K56,Q56) -> 0 | X56: =SUM(F56,L56,R56) -> 0 | Y56: =SUM(T56:X56) -> 0 | AE56: =SUM(Z56:AD56) -> 0 | AK56: =SUM(AF56:AJ56) -> 0 | AQ56: =SUM(AL56:AP56) -> 0 | AW56: =SUM(AR56:AV56) -> 0 | BC56: =SUM(AX56:BB56) -> 0 | BD56: =SUM(Z56,AF56,AL56,AR56,AX56) -> 0 | BE56: =SUM(AA56,AG56,AM56,AS56,AY56) -> 0 | BF56: =SUM(AB56,AH56,AN56,AT56,AZ56) -> 0 | BG56: =SUM(AC56,AI56,AO56,AU56,BA56) -> 0 | BH56: =SUM(AD56,AJ56,AP56,AV56,BB56) -> 0 | BI56: =SUM(BD56:BH56) -> 0 | BO56: =SUM(BJ56:BN56) -> 0 | BU56: =SUM(BP56:BT56) -> 0 | CA56: =SUM(BV56:BZ56) -> 0 | CB56: =SUM(BJ56,BP56,BV56) -> 0 | CC56: =SUM(BK56,BQ56,BW56) -> 0 | CD56: =SUM(BL56,BR56,BX56) -> 0 | CE56: =SUM(BM56,BS56,BY56) -> 0 | CF56: =SUM(BN56,BT56,BZ56) -> 0 | CG56: =SUM(CB56:CF56) -> 0 | CM56: =SUM(CH56:CL56) -> 0 | CS56: =SUM(CN56:CR56) -> 0 | CY56: =SUM(CT56:CX56) -> 0 | DE56: =SUM(CZ56:DD56) -> 0 | DF56: =SUM(CH56,CN56,CT56,CZ56) -> 0 | DG56: =SUM(CI56,CO56,CU56,DA56) -> 0 | DH56: =SUM(CJ56,CP56,CV56,DB56) -> 0 | DI56: =SUM(CK56,CQ56,CW56,DC56) -> 0 | DJ56: =SUM(CL56,CR56,CX56,DD56) -> 0 | DK56: =SUM(DF56:DJ56) -> 0 | DQ56: =SUM(DL56:DP56) -> 0 | DW56: =SUM(DR56:DV56) -> 0 | EC56: =SUM(DX56:EB56) -> 0 | EI56: =SUM(ED56:EH56) -> 0 | EO56: =SUM(EJ56:EN56) -> 0 | EU56: =SUM(EP56:ET56) -> 0 | FA56: =SUM(EV56:EZ56) -> 0 | FB56: =SUM(DL56,DR56,DX56,ED56,EJ56,EP56,EV56) -> 0 | FC56: =SUM(DM56,DS56,DY56,EE56,EK56,EQ56,EW56) -> 0 | FD56: =SUM(DN56,DT56,DZ56,EF56,EL56,ER56,EX56) -> 0 | FE56: =SUM(DO56,DU56,EA56,EG56,EM56,ES56,EY56) -> 0 | FF56: =SUM(DP56,DV56,EB56,EH56,EN56,ET56,EZ56) -> 0 | FG56: =SUM(FB56:FF56) -> 0 | FM56: =SUM(FH56:FL56) -> 0 | FS56: =SUM(FN56:FR56) -> 0 | FY56: =SUM(FT56:FX56) -> 0 | GE56: =SUM(FZ56:GD56) -> 0 | GK56: =SUM(GF56:GJ56) -> 0 | GQ56: =SUM(GL56:GP56) -> 0 | GW56: =SUM(GR56:GV56) -> 0 | HC56: =SUM(GX56:HB56) -> 0 | HI56: =SUM(HD56:HH56) -> 0 | HJ56: =SUM(FH56,FN56,FT56,FZ56,GF56,GL56,GR56,GX56,HD56) -> 0 | HK56: =SUM(FI56,FO56,FU56,GA56,GG56,GM56,GS56,GY56,HE56) -> 0 | HL56: =SUM(FJ56,FP56,FV56,GB56,GH56,GN56,GT56,GZ56,HF56) -> 0 | HM56: =SUM(FK56,FQ56,FW56,GC56,GI56,GO56,GU56,HA56,HG56) -> 0 | HN56: =SUM(FL56,FR56,FX56,GD56,GJ56,GP56,GV56,HB56,HH56) -> 0 | HO56: =SUM(FM56,FS56,FY56,GE56,GK56,GQ56,GW56,HC56,HI56) -> 0 | HU56: =SUM(HP56:HT56) -> 0 | IA56: =SUM(HV56:HZ56) -> 0 | IG56: =SUM(IB56:IF56) -> 0 | IH56: =SUM(HP56,HV56,IB56) -> 0 | II56: =SUM(HQ56,HW56,IC56) -> 0 | IJ56: =SUM(HR56,HX56,ID56) -> 0 | IK56: =SUM(HS56,HY56,IE56) -> 0 | IL56: =SUM(HT56,HZ56,IF56) -> 0 | IM56: =SUM(HU56,IA56,IG56) -> 0 | IS56: =SUM(IN56:IR56) -> 0 | IW56: 880.17586 | IY56: =SUM(IT56:IX56) -> 880.17586 | JE56: =SUM(IZ56:JD56) -> 0 | JF56: =SUM(IN56,IT56,IZ56) -> 0 | JG56: =SUM(IO56,IU56,JA56) -> 0 | JH56: =SUM(IP56,IV56,JB56) -> 0 | JI56: =SUM(IQ56,IW56,JC56) -> 880.17586 | JJ56: =SUM(IR56,IX56,JD56) -> 0 | JK56: =SUM(JF56:JJ56) -> 880.17586 | JM56: =SUM(T56,BD56,CB56,DF56,FB56,HJ56,IH56,JF56) -> 0 | JN56: =SUM(U56,BE56,CC56,DG56,FC56,HK56,II56,JG56) -> 0 | JO56: =SUM(V56,BF56,CD56,DH56,FD56,HL56,IJ56,JH56) -> 0 | JP56: =SUM(W56,BG56,CE56,DI56,FE56,HM56,IK56,JI56) -> 880.17586 | JQ56: =SUM(X56,BH56,CF56,DJ56,FF56,HN56,IL56,JJ56) -> 0 | JR56: =SUM(Y56,BI56,CG56,DK56,FG56,HO56,IM56,JK56) -> 880.17586
