Workbook
Name fhdata_Query: #REF!
Name PARKS_Query: #REF!
Name sum_data: #REF!
Name sum_data: #REF!

Sheet Annual Report
A1: 2010 Aerial Overview Summary for British Columbia
B2: Regions | J2: Provincial
B3: South Coast | C3: West Coast | D3: Cariboo | E3: Thompson/Okanagan | F3: Kootenay/ Boundary | G3: Skeena | H3: Omineca | I3: Northeast | J3: Total
A5: =Master!A5 -> Bark Beetles
A6: =Master!A6 -> IBM=Mountain Pine Beetle | B6: =Master!Y6 -> 14806.415 | C6: =Master!BI6 -> 6902.7058 | D6: =Master!CG6 -> 139228.38 | E6: =Master!DK6 -> 232361.51 | F6: =Master!FG6 -> 106146.36 | G6: =Master!HO6 -> 943450.9 | H6: =Master!IM6 -> 2931879.9 | I6: =Master!JK6 -> 1876810.2 | J6: =SUM(B6:I6) -> 6251586.4
A7: =Master!A7 -> IBS=Spruce Beetle | B7: =Master!Y7 -> 9.0506838 | C7: =Master!BI7 -> 37.409989 | D7: =Master!CG7 -> 25841.439 | E7: =Master!DK7 -> 3033.2963 | F7: =Master!FG7 -> 519.44153 | G7: =Master!HO7 -> 85.022274 | H7: =Master!IM7 -> 569.93321 | I7: =Master!JK7 -> 0 | J7: =SUM(B7:I7) -> 30095.593
A8: =Master!A8 -> IBB=Western Balsam Bark Beetle | B8: =Master!Y8 -> 2848.2358 | C8: =Master!BI8 -> 1619.1607 | D8: =Master!CG8 -> 37585.269 | E8: =Master!DK8 -> 121723.69 | F8: =Master!FG8 -> 10504.081 | G8: =Master!HO8 -> 537365.49 | H8: =Master!IM8 -> 843294.65 | I8: =Master!JK8 -> 217454.33 | J8: =SUM(B8:I8) -> 1772394.9
A9: =Master!A9 -> IBD=Douglas-fir Beetle | B9: =Master!Y9 -> 1927.8064 | C9: =Master!BI9 -> 1628.9464 | D9: =Master!CG9 -> 7180.461 | E9: =Master!DK9 -> 1927.9043 | F9: =Master!FG9 -> 2279.1738 | G9: =Master!HO9 -> 0 | H9: =Master!IM9 -> 844.31071 | I9: =Master!JK9 -> 0 | J9: =SUM(B9:I9) -> 15788.603
A10: =Master!A10 -> IBF = Fir engraver Beetle | B10: =Master!Y10 -> 0 | C10: =Master!BI10 -> 0 | D10: =Master!CG10 -> 0 | E10: =Master!DK10 -> 0 | F10: =Master!FG10 -> 0 | G10: =Master!HO10 -> 0 | H10: =Master!IM10 -> 0 | I10: =Master!JK10 -> 0 | J10: =SUM(B10:I10) -> 0
A11: =Master!A11 -> IBP = Twig Beetle | B11: =Master!Y11 -> 0 | C11: =Master!BI11 -> 0 | D11: =Master!CG11 -> 0 | E11: =Master!DK11 -> 0 | F11: =Master!FG11 -> 0 | G11: =Master!HO11 -> 0 | H11: =Master!IM11 -> 0 | I11: =Master!JK11 -> 0 | J11: =SUM(B11:I11) -> 0
A12: =Master!A12 -> IBI=Engraver Beetle (Ips species) | B12: =Master!Y12 -> 0 | C12: =Master!BI12 -> 0 | D12: =Master!CG12 -> 0 | E12: =Master!DK12 -> 0 | F12: =Master!FG12 -> 0 | G12: =Master!HO12 -> 0 | H12: =Master!IM12 -> 0 | I12: =Master!JK12 -> 0 | J12: =SUM(B12:I12) -> 0
A13: =Master!A13 -> IBW=Western Pine Beetle | B13: =Master!Y13 -> 0 | C13: =Master!BI13 -> 0 | D13: =Master!CG13 -> 0 | E13: =Master!DK13 -> 0 | F13: =Master!FG13 -> 0 | G13: =Master!HO13 -> 0 | H13: =Master!IM13 -> 0 | I13: =Master!JK13 -> 0 | J13: =SUM(B13:I13) -> 0
A14: =Master!A14 -> IBL=Lodgepole Pine Beetle | B14: =Master!Y14 -> 0 | C14: =Master!BI14 -> 0 | D14: =Master!CG14 -> 0 | E14: =Master!DK14 -> 0 | F14: =Master!FG14 -> 0 | G14: =Master!HO14 -> 0 | H14: =Master!IM14 -> 0 | I14: =Master!JK14 -> 0 | J14: =SUM(B14:I14) -> 0
A15: =Master!A15 -> IBT=Red Turpentine Beetle | B15: =Master!Y15 -> 0 | C15: =Master!BI15 -> 0 | D15: =Master!CG15 -> 0 | E15: =Master!DK15 -> 0 | F15: =Master!FG15 -> 0 | G15: =Master!HO15 -> 0 | H15: =Master!IM15 -> 0 | I15: =Master!JK15 -> 0 | J15: =SUM(B15:I15) -> 0
A16: =Master!A16 -> IB=Unknown Beetle | B16: =Master!Y16 -> 0 | C16: =Master!BI16 -> 0 | D16: =Master!CG16 -> 0 | E16: =Master!DK16 -> 0 | F16: =Master!FG16 -> 0 | G16: =Master!HO16 -> 0 | H16: =Master!IM16 -> 0 | I16: =Master!JK16 -> 0 | J16: =SUM(B16:I16) -> 0
A17: =Master!A17 -> Total All BB= | B17: =Master!Y17 -> 19591.507 | C17: =Master!BI17 -> 10188.223 | D17: =Master!CG17 -> 209835.55 | E17: =Master!DK17 -> 359046.39 | F17: =Master!FG17 -> 119449.05 | G17: =Master!HO17 -> 1480901.4 | H17: =Master!IM17 -> 3776588.8 | I17: =Master!JK17 -> 2094264.5 | J17: =SUM(B17:I17) -> 8069865.4
A18: =Master!A18 -> 0
A19: =Master!A19 -> Defoliators
A20: =Master!A20 -> ID=Defoliators | B20: =Master!Y20 -> 39.553956 | C20: =Master!BI20 -> 48.698836 | D20: =Master!CG20 -> 0 | E20: =Master!DK20 -> 0 | F20: =Master!FG20 -> 31.145551 | G20: =Master!HO20 -> 20309.124 | H20: =Master!IM20 -> 1346.3482 | I20: =Master!JK20 -> 17181.781 | J20: =SUM(B20:I20) -> 38956.652
A21: =Master!A21 -> IDB=2-Year Budworm | B21: =Master!Y21 -> 0 | C21: =Master!BI21 -> 0 | D21: =Master!CG21 -> 56121.651 | E21: =Master!DK21 -> 7643.0897 | F21: =Master!FG21 -> 3128.0167 | G21: =Master!HO21 -> 4554.2274 | H21: =Master!IM21 -> 25636.812 | I21: =Master!JK21 -> 0 | J21: =SUM(B21:I21) -> 97083.797
A22: =Master!A22 -> IDC=Larch casebearer | B22: =Master!Y22 -> 0 | C22: =Master!BI22 -> 0 | D22: =Master!CG22 -> 0 | E22: =Master!DK22 -> 0 | F22: =Master!FG22 -> 5.6542756 | G22: =Master!HO22 -> 0 | H22: =Master!IM22 -> 0 | I22: =Master!JK22 -> 0 | J22: =SUM(B22:I22) -> 5.6542756
A23: =Master!A23 -> IDE=Spruce Budworm | B23: =Master!Y23 -> 0 | C23: =Master!BI23 -> 0 | D23: =Master!CG23 -> 0 | E23: =Master!DK23 -> 0 | F23: =Master!FG23 -> 0 | G23: =Master!HO23 -> 0 | H23: =Master!IM23 -> 0 | I23: =Master!JK23 -> 0 | J23: =SUM(B23:I23) -> 0
A24: =Master!A24 -> IDF=Forest Tent Caterpillar | B24: =Master!Y24 -> 0 | C24: =Master!BI24 -> 0 | D24: =Master!CG24 -> 35029.923 | E24: =Master!DK24 -> 2425.0018 | F24: =Master!FG24 -> 0 | G24: =Master!HO24 -> 6091.7908 | H24: =Master!IM24 -> 88175.895 | I24: =Master!JK24 -> 903.00287 | J24: =SUM(B24:I24) -> 132625.61
A25: =Master!A25 -> IDH=Western Blackheaded Budworm | B25: =Master!Y25 -> 0 | C25: =Master!BI25 -> 87496.743 | D25: =Master!CG25 -> 0 | E25: =Master!DK25 -> 0 | F25: =Master!FG25 -> 154.99048 | G25: =Master!HO25 -> 5588.9543 | H25: =Master!IM25 -> 0 | I25: =Master!JK25 -> 0 | J25: =SUM(B25:I25) -> 93240.688
A26: =Master!A26 -> IDI=Pine needle sheathminer | B26: =Master!Y26 -> 0 | C26: =Master!BI26 -> 0 | D26: =Master!CG26 -> 0 | E26: =Master!DK26 -> 0 | F26: =Master!FG26 -> 0 | G26: =Master!HO26 -> 0 | H26: =Master!IM26 -> 0 | I26: =Master!JK26 -> 0 | J26: =SUM(B26:I26) -> 0
A27: =Master!A27 -> IDK=Northern Tent Caterpillar | B27: =Master!Y27 -> 0 | C27: =Master!BI27 -> 0 | D27: =Master!CG27 -> 0 | E27: =Master!DK27 -> 0 | F27: =Master!FG27 -> 0 | G27: =Master!HO27 -> 0 | H27: =Master!IM27 -> 0 | I27: =Master!JK27 -> 0 | J27: =SUM(B27:I27) -> 0
A28: =Master!A28 -> IDL=Western Hemlock Looper | B28: =Master!Y28 -> 0 | C28: =Master!BI28 -> 282.06892 | D28: =Master!CG28 -> 0 | E28: =Master!DK28 -> 2672.3016 | F28: =Master!FG28 -> 363.21434 | G28: =Master!HO28 -> 0 | H28: =Master!IM28 -> 0 | I28: =Master!JK28 -> 0 | J28: =SUM(B28:I28) -> 3317.5848
A29: =Master!A29 -> IDN=Birch Leaf Miner | B29: =Master!Y29 -> 0 | C29: =Master!BI29 -> 0 | D29: =Master!CG29 -> 0 | E29: =Master!DK29 -> 3028.4658 | F29: =Master!FG29 -> 5389.6429 | G29: =Master!HO29 -> 0 | H29: =Master!IM29 -> 0 | I29: =Master!JK29 -> 0 | J29: =SUM(B29:I29) -> 8418.1086
A30: =Master!A30 -> IDP=Larch Sawfly | B30: =Master!Y30 -> 0 | C30: =Master!BI30 -> 0 | D30: =Master!CG30 -> 0 | E30: =Master!DK30 -> 0 | F30: =Master!FG30 -> 0 | G30: =Master!HO30 -> 0 | H30: =Master!IM30 -> 0 | I30: =Master!JK30 -> 0 | J30: =SUM(B30:I30) -> 0
A31: =Master!A31 -> IDR=Alder Sawfly | B31: =Master!Y31 -> 0 | C31: =Master!BI31 -> 0 | D31: =Master!CG31 -> 0 | E31: =Master!DK31 -> 0 | F31: =Master!FG31 -> 0 | G31: =Master!HO31 -> 0 | H31: =Master!IM31 -> 0 | I31: =Master!JK31 -> 0 | J31: =SUM(B31:I31) -> 0
... A43: =Master!A43 -> Total Defoliators= | B43: =Master!Y43 -> 1056.0748 | C43: =Master!BI43 -> 89216.879 | D43: =Master!CG43 -> 297114.62 | E43: =Master!DK43 -> 382104.69 | F43: =Master!FG43 -> 19692.489 | G43: =Master!HO43 -> 147604.18 | H43: =Master!IM43 -> 151994.78 | I43: =Master!JK43 -> 1685890.7 | J43: =SUM(B43:I43) -> 2774674.5
A45: =Master!A45 -> Other
A46: =Master!A46 -> N | B46: =Master!Y46 -> 0 | C46: =Master!BI46 -> 0 | D46: =Master!CG46 -> 0 | E46: =Master!DK46 -> 0 | F46: =Master!FG46 -> 0 | G46: =Master!HO46 -> 0 | H46: =Master!IM46 -> 9.6893471 | I46: =Master!JK46 -> 0 | J46: =SUM(B46:I46) -> 9.6893471
A47: =Master!A47 -> NAV=Avalanche or snow slide | B47: =Master!Y47 -> 0 | C47: =Master!BI47 -> 71.95646 | D47: =Master!CG47 -> 9.1571036 | E47: =Master!DK47 -> 0 | F47: =Master!FG47 -> 0 | G47: =Master!HO47 -> 2.8611715 | H47: =Master!IM47 -> 17.36362 | I47: =Master!JK47 -> 0 | J47: =SUM(B47:I47) -> 101.33836
A48: =Master!A48 -> NB=Fire | B48: =Master!Y48 -> 159.23281 | C48: =Master!BI48 -> 20109.72 | D48: =Master!CG48 -> 154617.17 | E48: =Master!DK48 -> 4179.1185 | F48: =Master!FG48 -> 2309.3266 | G48: =Master!HO48 -> 70525.24 | H48: =Master!IM48 -> 44476.294 | I48: =Master!JK48 -> 5778.4027 | J48: =SUM(B48:I48) -> 302154.51
A49: =Master!A49 -> NCA=Aspen decline | B49: =Master!Y49 -> 0 | C49: =Master!BI49 -> 0 | D49: =Master!CG49 -> 0 | E49: =Master!DK49 -> 0 | F49: =Master!FG49 -> 0 | G49: =Master!HO49 -> 0 | H49: =Master!IM49 -> 0 | I49: =Master!JK49 -> 0 | J49: =SUM(B49:I49) -> 0
A50: =Master!A50 -> NCB=Birch decline | B50: =Master!Y50 -> 0 | C50: =Master!BI50 -> 0 | D50: =Master!CG50 -> 0 | E50: =Master!DK50 -> 0 | F50: =Master!FG50 -> 0 | G50: =Master!HO50 -> 0 | H50: =Master!IM50 -> 0 | I50: =Master!JK50 -> 128.35183 | J50: =SUM(B50:I50) -> 128.35183
A51: =Master!A51 -> NCY=Yellow cedar decline | B51: =Master!Y51 -> 0 | C51: =Master!BI51 -> 2720.0564 | D51: =Master!CG51 -> 0 | E51: =Master!DK51 -> 0 | F51: =Master!FG51 -> 0 | G51: =Master!HO51 -> 8263.6437 | H51: =Master!IM51 -> 0 | I51: =Master!JK51 -> 0 | J51: =SUM(B51:I51) -> 10983.7
A52: =Master!A52 -> ND=Drought | B52: =Master!Y52 -> 0.75 | C52: =Master!BI52 -> 243.81666 | D52: =Master!CG52 -> 35.822604 | E52: =Master!DK52 -> 388.27536 | F52: =Master!FG52 -> 0 | G52: =Master!HO52 -> 19.041892 | H52: =Master!IM52 -> 0 | I52: =Master!JK52 -> 0 | J52: =SUM(B52:I52) -> 687.70651
A53: =Master!A53 -> NF=Flooding | B53: =Master!Y53 -> 133.78615 | C53: =Master!BI53 -> 113.05044 | D53: =Master!CG53 -> 48.434657 | E53: =Master!DK53 -> 5.1486948 | F53: =Master!FG53 -> 26.957703 | G53: =Master!HO53 -> 604.25208 | H53: =Master!IM53 -> 335.78474 | I53: =Master!JK53 -> 3171.4175 | J53: =SUM(B53:I53) -> 4438.832
...

Sheet Master
A1: 2010 Aerial Overview Summary for British Columbia by TSA's
A2: Regions | B2: South Coast Region | Z2: West Coast | BJ2: CARIBOO FOREST REGION | CH2: Thompson Okanagan | DL2: Kootenay/Boundary | FH2: SKEENA FOREST REGION
A3: TSA's | B3: Fraser | H3: Soo | N3: Sunshine Coast | T3: SOUTH COAST REGION TOTAL | Z3: Arrowsmith | AF3: Kingcome | AL3: Mid Coast | AR3: Queen Charlotte | AX3: Strathcona | BD3: WEST COAST FOREST REGION TOTAL | BJ3: 100 Mile House | BP3: Quesnel | BV3: Williams Lake | CB3: CARIBOO FOREST REGION TOTAL | CH3: Kamloops | CN3: Lillooet | CT3: Merritt | CZ3: Okanagan | DF3: THOMPSON/OKANAGAN FOREST REGION TOTAL | DL3: Arrow | DR3: Boundary | DX3: Cranbrook | ED3: Golden | EJ3: Invermere | EP3: Kootenay Lake | EV3: Revelstoke | FB3: KOOTENAY/BOUNDRY REGION | FH3: Bulkley | FN3: Cassiar | FT3: Cranberry | FZ3: Kalum | GF3: Kispiox | GL3: Lakes | GR3: Morice | GX3: Nass | HD3: North Coast | HJ3: SKEENA REGION | HP3: Robson Valley | HV3: MacKenzie | IB3: Prince George | IH3: OMINECA REGION | IN3: Dawson Creek | IT3: Fort Nelson | IZ3: Fort St. John | JF3: NORTHEAST REGION | JM3: GRAND TOTAL
B4: Trace | C4: Light | D4: Moderate | E4: Severe | F4: Very Sev | G4: Total | H4: Trace | I4: Light | J4: Moderate | K4: Severe | L4: Very Sev | M4: Total | N4: Trace | O4: Light | P4: Moderate | Q4: Severe | R4: Very Sev | S4: Total | T4: Trace | U4: Light | V4: Moderate | W4: Severe | X4: Ver Sev | Y4: Total | Z4: Trace | AA4: Light | AB4: Moderate | AC4: Severe | AD4: Very Sev | AE4: Total | AF4: Trace | AG4: Light | AH4: Moderate | AI4: Severe | AJ4: Very Sev | AK4: Total | AL4: Trace | AM4: Light | AN4: Moderate | AO4: Severe | AP4: Very Sev | AQ4: Total | AR4: Trace | AS4: Light | AT4: Moderate | AU4: Severe | AV4: Very Sev | AW4: Total | AX4: Trace | AY4: Light | AZ4: Moderate | BA4: Severe | BB4: Very Sev | BC4: Total | BD4: Trace | BE4: Light | BF4: Moderate | BG4: Severe | BH4: Ver Sev | BI4: Total | BJ4: Trace | BK4: Light | BL4: Moderate | BM4: Severe | BN4: Very Sev | BO4: Total | BP4: Trace | BQ4: Light | BR4: Moderate | BS4: Severe | BT4: Very Sev | BU4: Total | BV4: Trace | BW4: Light | BX4: Moderate | BY4: Severe | BZ4: Very Sev | CA4: Total | CB4: Trace | CC4: Light | CD4: Moderate | CE4: Severe | CF4: Ver Sev | CG4: Total | CH4: Trace | CI4: Light | CJ4: Moderate | CK4: Severe | CL4: Very Sev | CM4: Total | CN4: Trace | CO4: Light | CP4: Moderate | CQ4: Severe | CR4: Very Sev | CS4: Total | CT4: Trace | CU4: Light | CV4: Moderate | CW4: Severe | CX4: Very Sev | CY4: Total | CZ4: Trace | DA4: Light | DB4: Moderate | DC4: Severe | DD4: Very Sev | DE4: Total | DF4: Trace | DG4: Light | DH4: Moderate | DI4: Severe | DJ4: Ver Sev | DK4: Total | DL4: Trace | DM4: Light | DN4: Moderate | DO4: Severe | DP4: Very Sev | DQ4: Total | DR4: Trace | DS4: Light | DT4: Moderate | DU4: Severe | DV4: Very Sev | DW4: Total | DX4: Trace | DY4: Light | DZ4: Moderate | EA4: Severe | EB4: Very Sev | EC4: Total | ED4: Trace | EE4: Light | EF4: Moderate | EG4: Severe | EH4: Very Sev | EI4: Total | EJ4: Trace | EK4: Light | EL4: Moderate | EM4: Severe | EN4: Very Sev | EO4: Total | EP4: Trace | EQ4: Light | ER4: Moderate | ES4: Severe | ET4: Very Sev | EU4: Total | EV4: Trace | EW4: Light | EX4: Moderate | EY4: Severe | EZ4: Very Sev | FA4: Total | FB4: Trace | FC4: Light | FD4: Moderate | FE4: Severe | FF4: Very Sev | FG4: TOTAL | FH4: Trace | FI4: Light | FJ4: Moderate | FK4: Severe | FL4: Very Sev | FM4: Total | FN4: Trace | FO4: Light | FP4: Moderate | FQ4: Severe | FR4: Very Sev | FS4: Total | FT4: Trace | FU4: Light | FV4: Moderate | FW4: Severe | FX4: Very Sev | FY4: Total | FZ4: Trace | GA4: Light | GB4: Moderate | GC4: Severe | GD4: Very Sev | GE4: Total | GF4: Trace | GG4: Light | GH4: Moderate | GI4: Severe | GJ4: Very Sev | GK4: Total | GL4: Trace | GM4: Light | GN4: Moderate | GO4: Severe | GP4: Very Sev | GQ4: Total | GR4: Trace | GS4: Light | GT4: Moderate | GU4: Severe | GV4: Very Sev | GW4: Total | GX4: Trace | GY4: Light | GZ4: Moderate | HA4: Severe | HB4: Very Sev | HC4: Total | HD4: Trace | HE4: Light | HF4: Moderate | HG4: Severe | HH4: Very Sev | HI4: Total | HJ4: Trace | HK4: Light | HL4: Moderate | HM4: Severe | HN4: Very Sev | HO4: TOTAL | HP4: Trace | HQ4: Light | HR4: Moderate | HS4: Severe | HT4: Very Sev | HU4: Total | HV4: Trace | HW4: Light | HX4: Moderate | HY4: Severe | HZ4: Very Sev | IA4: Total | IB4: Trace | IC4: Light | ID4: Moderate | IE4: Severe | IF4: Very Sev | IG4: Total | IH4: Trace | II4: Light | IJ4: Moderate | IK4: Severe | IL4: Very Sev | IM4: TOTAL | IN4: Trace | IO4: Light | IP4: Moderate | IQ4: Severe | IR4: Very Sev | IS4: Total | IT4: Trace | IU4: Light | IV4: Moderate | IW4: Severe | IX4: Very Sev | IY4: Total | IZ4: Trace | JA4: Light | JB4: Moderate | JC4: Severe | JD4: Very Sev | JE4: Total | JF4: Trace | JG4: Light | JH4: Moderate | JI4: Severe | JJ4: Very Sev | JK4: TOTAL | JM4: Trace | JN4: Light | JO4: Moderate | JP4: Severe | JQ4: Very Sev | JR4: TOTAL
A5: Bark Beetles
A6: IBM=Mountain Pine Beetle | B6: 186.4427 | C6: 8412.5629 | D6: 1261.6891 | E6: 330.60115 | G6: =SUM(B6:F6) -> 10191.296 | H6: 79.443188 | I6: 4249.3577 | J6: 240.72682 | K6: 41.052736 | M6: =SUM(H6:L6) -> 4610.5805 | P6: 1.2882007 | Q6: 3.25 | S6: =SUM(N6:R6) -> 4.5382007 | T6: =SUM(B6,H6,N6) -> 265.88589 | U6: =SUM(C6,I6,O6) -> 12661.921 | V6: =SUM(D6,J6,P6) -> 1503.7042 | W6: =SUM(E6,K6,Q6) -> 374.90389 | X6: =SUM(F6,L6,R6) -> 0 | Y6: =SUM(T6:X6) -> 14806.415 | AC6: 0.25 | AE6: =SUM(Z6:AD6) -> 0.25 | AF6: 37.619069 | AI6: 0.75 | AK6: =SUM(AF6:AJ6) -> 38.369069 | AL6: 6222.8975 | AM6: 633.43915 | AO6: 7.75 | AQ6: =SUM(AL6:AP6) -> 6864.0867 | AW6: =SUM(AR6:AV6) -> 0 | BC6: =SUM(AX6:BB6) -> 0 | BD6: =SUM(Z6,AF6,AL6,AR6,AX6) -> 6260.5166 | BE6: =SUM(AA6,AG6,AM6,AS6,AY6) -> 633.43915 | BF6: =SUM(AB6,AH6,AN6,AT6,AZ6) -> 0 | BG6: =SUM(AC6,AI6,AO6,AU6,BA6) -> 8.75 | BH6: =SUM(AD6,AJ6,AP6,AV6,BB6) -> 0 | BI6: =SUM(BD6:BH6) -> 6902.7058 | BJ6: 5476.1409 | BK6: 3570.7468 | BL6: 311.35469 | BM6: 2 | BO6: =SUM(BJ6:BN6) -> 9360.2423 | BP6: 6683.4311 | BQ6: 2432.1297 | BR6: 145.42097 | BS6: 5.5 | BU6: =SUM(BP6:BT6) -> 9266.4818 | BV6: 87206.111 | BW6: 30701.347 | BX6: 2020.6563 | BY6: 134.5401 | BZ6: 539.00544 | CA6: =SUM(BV6:BZ6) -> 120601.66 | CB6: =SUM(BJ6,BP6,BV6) -> 99365.683 | CC6: =SUM(BK6,BQ6,BW6) -> 36704.223 | CD6: =SUM(BL6,BR6,BX6) -> 2477.4319 | CE6: =SUM(BM6,BS6,BY6) -> 142.0401 | CF6: =SUM(BN6,BT6,BZ6) -> 539.00544 | CG6: =SUM(CB6:CF6) -> 139228.38 | CH6: 4652.6048 | CI6: 5468.3926 | CJ6: 1405.6367 | CK6: 312.94912 | CL6: 0.73001317 | CM6: =SUM(CH6:CL6) -> 11840.313 | CN6: 5087.9919 | CO6: 25405.422 | CP6: 7749.0188 | CQ6: 976.44718 | CR6: 43.910976 | CS6: =SUM(CN6:CR6) -> 39262.791 | CT6: 26776.812 | CU6: 58231.873 | CV6: 11366.038 | CW6: 1779.9073 | CX6: 336.20584 | CY6: =SUM(CT6:CX6) -> 98490.836 | CZ6: 14142.82 | DA6: 55611.982 | DB6: 11293.553 | DC6: 1513.5522 | DD6: 205.65951 | DE6: =SUM(CZ6:DD6) -> 82767.567 | DF6: =SUM(CH6,CN6,CT6,CZ6) -> 50660.229 | DG6: =SUM(CI6,CO6,CU6,DA6) -> 144717.67 | DH6: =SUM(CJ6,CP6,CV6,DB6) -> 31814.247 | DI6: =SUM(CK6,CQ6,CW6,DC6) -> 4582.8558 | DJ6: =SUM(CL6,CR6,CX6,DD6) -> 586.50633 | DK6: =SUM(DF6:DJ6) -> 232361.51 | DL6: 4100.665 | DM6: 5713.3757 | DN6: 1980.9671 | DO6: 262.69576 | DQ6: =SUM(DL6:DP6) -> 12057.704 | DR6: 1361.9918 | DS6: 2768.5613 | DT6: 2745.9133 | DU6: 143.5 | DW6: =SUM(DR6:DV6) -> 7019.9664 | DX6: 2356.5055 | DY6: 8965.862 | DZ6: 8162.1466 | EA6: 2478.1826 | EC6: =SUM(DX6:EB6) -> 21962.697 | ED6: 2060.7426 | EE6: 6706.2796 | EF6: 3124.2264 | EG6: 708.41471 | EI6: =SUM(ED6:EH6) -> 12599.663 | EJ6: 2699.7045 | EK6: 12601.017 | EL6: 11648.097 | EM6: 3149.7151 | EO6: =SUM(EJ6:EN6) -> 30098.534 | EP6: 4334.1209 | EQ6: 9132.6142 | ER6: 7581.6089 | ES6: 1217.6222 | ET6: 22.37348 | EU6: =SUM(EP6:ET6) -> 22288.34 | EV6: 1.3199109 | EW6: 74.083053 | EX6: 28.301141 | EY6: 15.75 | FA6: =SUM(EV6:EZ6) -> 119.45411 | FB6: =SUM(DL6,DR6,DX6,ED6,EJ6,EP6,EV6) -> 16915.05 | FC6: =SUM(DM6,DS6,DY6,EE6,EK6,EQ6,EW6) -> 45961.793 | FD6: =SUM(DN6,DT6,DZ6,EF6,EL6,ER6,EX6) -> 35271.261 | FE6: =SUM(DO6,DU6,EA6,EG6,EM6,ES6,EY6) -> 7975.8803 | FF6: =SUM(DP6,DV6,EB6,EH6,EN6,ET6,EZ6) -> 22.37348 | FG6: =SUM(FB6:FF6) -> 106146.36 | FH6: 19725.134 | FI6: 78205.954 | FJ6: 11365.353 | FK6: 4450.9348 | FL6: 1212.6783 | FM6: =SUM(FH6:FL6) -> 114960.05 | FQ6: 2.5 | FS6: =SUM(FN6:FR6) -> 2.5 | FU6: 87.936955 | FW6: 0.25 | FY6: =SUM(FT6:FX6) -> 88.186955 | FZ6: 2123.2288 | GA6: 3192.6521 | GB6: 651.93789 | GC6: 76.75 | GE6: =SUM(FZ6:GD6) -> 6044.5688 | GF6: 2268.3324 | GG6: 6601.8483 | GH6: 137.59974 | GI6: 251.79613 | GK6: =SUM(GF6:GJ6) -> 9259.5766 | GL6: 297248.13 | GM6: 6839.7879 | GN6: 714.64899 | GO6: 347.8232 | GQ6: =SUM(GL6:GP6) -> 305150.39 | GR6: 344093.84 | GS6: 142623.92 | GT6: 15978.256 | GU6: 4673.7229 | GV6: 426.89347 | GW6: =SUM(GR6:GV6) -> 507796.63 | HC6: =SUM(GX6:HB6) -> 0 | HG6: 148.99195 | HI6: =SUM(HD6:HH6) -> 148.99195 | HJ6: =SUM(FH6,FN6,FT6,FZ6,GF6,GL6,GR6,GX6,HD6) -> 665458.67 | HK6: =SUM(FI6,FO6,FU6,GA6,GG6,GM6,GS6,GY6,HE6) -> 237552.1 | HL6: =SUM(FJ6,FP6,FV6,GB6,GH6,GN6,GT6,GZ6,HF6) -> 28847.796 | HM6: =SUM(FK6,FQ6,FW6,GC6,GI6,GO6,GU6,HA6,HG6) -> 9952.769 | HN6: =SUM(FL6,FR6,FX6,GD6,GJ6,GP6,GV6,HB6,HH6) -> 1639.5718 | HO6: =SUM(FM6,FS6,FY6,GE6,GK6,GQ6,GW6,HC6,HI6) -> 943450.9 | HP6: 50826.199 | HQ6: 16359.967 | HR6: 10929.772 | HS6: 2419.1253 | HT6: 1637.0976 | HU6: =SUM(HP6:HT6) -> 82172.161 | HV6: 236075.75 | HW6: 346274.81 | HX6: 701871.8 | HY6: 354713.11 | HZ6: 6639.6739 | IA6: =SUM(HV6:HZ6) -> 1645575.1 | IB6: 703630.63 | IC6: 315591.65 | ID6: 182862.32 | IE6: 2047.995 | IG6: =SUM(IB6:IF6) -> 1204132.6 | IH6: =SUM(HP6,HV6,IB6) -> 990532.58 | II6: =SUM(HQ6,HW6,IC6) -> 678226.42 | IJ6: =SUM(HR6,HX6,ID6) -> 895663.89 | IK6: =SUM(HS6,HY6,IE6) -> 359180.23 | IL6: =SUM(HT6,HZ6,IF6) -> 8276.7715 | IM6: =SUM(HU6,IA6,IG6) -> 2931879.9 | IN6: 438985.89 | IO6: 399329.5 | IP6: 307923.47 | IQ6: 107000.5 | IR6: 6250.4246 | IS6: =SUM(IN6:IR6) -> 1259489.8 | IT6: 788.5359 | IU6: 658.71907 | IV6: 390.82499 | IW6: 55.510577 | IY6: =SUM(IT6:IX6) -> 1893.5905 | IZ6: 116580.35 | JA6: 259158.75 | JB6: 209135.59 | JC6: 30099.123 | JD6: 453.00581 | JE6: =SUM(IZ6:JD6) -> 615426.82 | JF6: =SUM(IN6,IT6,IZ6) -> 556354.78 | JG6: =SUM(IO6,IU6,JA6) -> 659146.97 | JH6: =SUM(IP6,IV6,JB6) -> 517449.88 | JI6: =SUM(IQ6,IW6,JC6) -> 137155.13 | JJ6: =SUM(IR6,IX6,JD6) -> 6703.4304 | JK6: =SUM(JF6:JJ6) -> 1876810.2 | JM6: =SUM(T6,BD6,CB6,DF6,FB6,HJ6,IH6,JF6) -> 2385813.4 | JN6: =SUM(U6,BE6,CC6,DG6,FC6,HK6,II6,JG6) -> 1815604.5 | JO6: =SUM(V6,BF6,CD6,DH6,FD6,HL6,IJ6,JH6) -> 1513028.2 | JP6: =SUM(W6,BG6,CE6,DI6,FE6,HM6,IK6,JI6) -> 519372.56 | JQ6: =SUM(X6,BH6,CF6,DJ6,FF6,HN6,IL6,JJ6) -> 17767.659 | JR6: =SUM(JM6:JQ6) -> 6251586.4
A7: IBS=Spruce Beetle | G7: =SUM(B7:F7) -> 0 | M7: =SUM(H7:L7) -> 0 | O7: 4.0870765 | Q7: 4.9636072 | S7: =SUM(N7:R7) -> 9.0506838 | T7: =SUM(B7,H7,N7) -> 0 | U7: =SUM(C7,I7,O7) -> 4.0870765 | V7: =SUM(D7,J7,P7) -> 0 | W7: =SUM(E7,K7,Q7) -> 4.9636072 | X7: =SUM(F7,L7,R7) -> 0 | Y7: =SUM(T7:X7) -> 9.0506838 | AE7: =SUM(Z7:AD7) -> 0 | AF7: 18.752111 | AG7: 13.407878 | AI7: 3.75 | AK7: =SUM(AF7:AJ7) -> 35.909989 | AO7: 0.75 | AQ7: =SUM(AL7:AP7) -> 0.75 | AW7: =SUM(AR7:AV7) -> 0 | BA7: 0.75 | BC7: =SUM(AX7:BB7) -> 0.75 | BD7: =SUM(Z7,AF7,AL7,AR7,AX7) -> 18.752111 | BE7: =SUM(AA7,AG7,AM7,AS7,AY7) -> 13.407878 | BF7: =SUM(AB7,AH7,AN7,AT7,AZ7) -> 0 | BG7: =SUM(AC7,AI7,AO7,AU7,BA7) -> 5.25 | BH7: =SUM(AD7,AJ7,AP7,AV7,BB7) -> 0 | BI7: =SUM(BD7:BH7) -> 37.409989 | BJ7: 637.96896 | BK7: 3165.256 | BL7: 4817.5289 | BM7: 539.36436 | BN7: 38.231208 | BO7: =SUM(BJ7:BN7) -> 9198.3495 | BP7: 6.5968096 | BQ7: 84.122256 | BS7: 3 | BU7: =SUM(BP7:BT7) -> 93.719065 | BV7: 4151.2161 | BW7: 6822.668 | BX7: 4514.3372 | BY7: 1061.1488 | CA7: =SUM(BV7:BZ7) -> 16549.37 | CB7: =SUM(BJ7,BP7,BV7) -> 4795.7819 | CC7: =SUM(BK7,BQ7,BW7) -> 10072.046 | CD7: =SUM(BL7,BR7,BX7) -> 9331.8661 | CE7: =SUM(BM7,BS7,BY7) -> 1603.5132 | CF7: =SUM(BN7,BT7,BZ7) -> 38.231208 | CG7: =SUM(CB7:CF7) -> 25841.439 | CH7: 448.94906 | CI7: 927.45676 | CJ7: 706.79287 | CK7: 166.29098 | CL7: 50.958845 | CM7: =SUM(CH7:CL7) -> 2300.4485 | CO7: 32.284309 | CP7: 268.85917 | CQ7: 38.42093 | CS7: =SUM(CN7:CR7) -> 339.56441 | CU7: 12.858037 | CV7: 226.99849 | CW7: 23.464293 | CY7: =SUM(CT7:CX7) -> 263.32082 | DA7: 34.2046 | DB7: 83.254289 | DC7: 12.503719 | DE7: =SUM(CZ7:DD7) -> 129.96261 | DF7: =SUM(CH7,CN7,CT7,CZ7) -> 448.94906 | DG7: =SUM(CI7,CO7,CU7,DA7) -> 1006.8037 | DH7: =SUM(CJ7,CP7,CV7,DB7) -> 1285.9048 | DI7: =SUM(CK7,CQ7,CW7,DC7) -> 240.67992 | DJ7: =SUM(CL7,CR7,CX7,DD7) -> 50.958845 | DK7: =SUM(DF7:DJ7) -> 3033.2963 | DO7: 0.25 | DQ7: =SUM(DL7:DP7) -> 0.25 | DW7: =SUM(DR7:DV7) -> 0 | EC7: =SUM(DX7:EB7) -> 0 | EI7: =SUM(ED7:EH7) -> 0 | EJ7: 50.663063 | EK7: 208.43321 | EL7: 207.32436 | EM7: 52.020893 | EO7: =SUM(EJ7:EN7) -> 518.44153 | EU7: =SUM(EP7:ET7) -> 0 | EY7: 0.75 | FA7: =SUM(EV7:EZ7) -> 0.75 | FB7: =SUM(DL7,DR7,DX7,ED7,EJ7,EP7,EV7) -> 50.663063 | FC7: =SUM(DM7,DS7,DY7,EE7,EK7,EQ7,EW7) -> 208.43321 | FD7: =SUM(DN7,DT7,DZ7,EF7,EL7,ER7,EX7) -> 207.32436 | FE7: =SUM(DO7,DU7,EA7,EG7,EM7,ES7,EY7) -> 53.020893 | FF7: =SUM(DP7,DV7,EB7,EH7,EN7,ET7,EZ7) -> 0 | FG7: =SUM(FB7:FF7) -> 519.44153 | FM7: =SUM(FH7:FL7) -> 0 | FS7: =SUM(FN7:FR7) -> 0 | FW7: 0.25 | FY7: =SUM(FT7:FX7) -> 0.25 | GC7: 0.25 | GE7: =SUM(FZ7:GD7) -> 0.25 | GH7: 62.559032 | GI7: 19.713241 | GK7: =SUM(GF7:GJ7) -> 82.272274 | GO7: 2.25 | GQ7: =SUM(GL7:GP7) -> 2.25 | GW7: =SUM(GR7:GV7) -> 0 | HC7: =SUM(GX7:HB7) -> 0 | HI7: =SUM(HD7:HH7) -> 0 | HJ7: =SUM(FH7,FN7,FT7,FZ7,GF7,GL7,GR7,GX7,HD7) -> 0 | HK7: =SUM(FI7,FO7,FU7,GA7,GG7,GM7,GS7,GY7,HE7) -> 0 | HL7: =SUM(FJ7,FP7,FV7,GB7,GH7,GN7,GT7,GZ7,HF7) -> 62.559032 | HM7: =SUM(FK7,FQ7,FW7,GC7,GI7,GO7,GU7,HA7,HG7) -> 22.463241 | HN7: =SUM(FL7,FR7,FX7,GD7,GJ7,GP7,GV7,HB7,HH7) -> 0 | HO7: =SUM(FM7,FS7,FY7,GE7,GK7,GQ7,GW7,HC7,HI7) -> 85.022274 | HP7: 146.97666 | HQ7: 106.54812 | HR7: 291.61295 | HS7: 3.25 | HU7: =SUM(HP7:HT7) -> 548.38772 | IA7: =SUM(HV7:HZ7) -> 0 | IC7: 13.045481 | IE7: 8.5 | IG7: =SUM(IB7:IF7) -> 21.545481 | IH7: =SUM(HP7,HV7,IB7) -> 146.97666 | II7: =SUM(HQ7,HW7,IC7) -> 119.5936 | IJ7: =SUM(HR7,HX7,ID7) -> 291.61295 | IK7: =SUM(HS7,HY7,IE7) -> 11.75 | IL7: =SUM(HT7,HZ7,IF7) -> 0 | IM7: =SUM(HU7,IA7,IG7) -> 569.93321 | IS7: =SUM(IN7:IR7) -> 0 | IY7: =SUM(IT7:IX7) -> 0 | JE7: =SUM(IZ7:JD7) -> 0 | JF7: =SUM(IN7,IT7,IZ7) -> 0 | JG7: =SUM(IO7,IU7,JA7) -> 0 | JH7: =SUM(IP7,IV7,JB7) -> 0 | JI7: =SUM(IQ7,IW7,JC7) -> 0 | JJ7: =SUM(IR7,IX7,JD7) -> 0 | JK7: =SUM(JF7:JJ7) -> 0 | JM7: =SUM(T7,BD7,CB7,DF7,FB7,HJ7,IH7,JF7) -> 5461.1228 | JN7: =SUM(U7,BE7,CC7,DG7,FC7,HK7,II7,JG7) -> 11424.372 | JO7: =SUM(V7,BF7,CD7,DH7,FD7,HL7,IJ7,JH7) -> 11179.267 | JP7: =SUM(W7,BG7,CE7,DI7,FE7,HM7,IK7,JI7) -> 1941.6408 | JQ7: =SUM(X7,BH7,CF7,DJ7,FF7,HN7,IL7,JJ7) -> 89.190053 | JR7: =SUM(HO7,FG7,BI7) -> 641.8738
A8: IBB=Western Balsam Bark Beetle | B8: 60.809581 | C8: 601.50764 | D8: 4.0637188 | E8: 14.75 | G8: =SUM(B8:F8) -> 681.13094 | H8: 608.06265 | I8: 1461.8279 | J8: 19.576086 | K8: 5 | M8: =SUM(H8:L8) -> 2094.4667 | O8: 60.648541 | P8: 10.739643 | Q8: 1.25 | S8: =SUM(N8:R8) -> 72.638185 | T8: =SUM(B8,H8,N8) -> 668.87223 | U8: =SUM(C8,I8,O8) -> 2123.9841 | V8: =SUM(D8,J8,P8) -> 34.379448 | W8: =SUM(E8,K8,Q8) -> 21 | X8: =SUM(F8,L8,R8) -> 0 | Y8: =SUM(T8:X8) -> 2848.2358 | AE8: =SUM(Z8:AD8) -> 0 | AF8: 113.48031 | AI8: 2.5 | AK8: =SUM(AF8:AJ8) -> 115.98031 | AL8: 1457.7917 | AM8: 26.084352 | AO8: 7.25 | AQ8: =SUM(AL8:AP8) -> 1491.126 | AW8: =SUM(AR8:AV8) -> 0 | AY8: 11.304372 | BA8: 0.75 | BC8: =SUM(AX8:BB8) -> 12.054372 | BD8: =SUM(Z8,AF8,AL8,AR8,AX8) -> 1571.272 | BE8: =SUM(AA8,AG8,AM8,AS8,AY8) -> 37.388725 | BF8: =SUM(AB8,AH8,AN8,AT8,AZ8) -> 0 | BG8: =SUM(AC8,AI8,AO8,AU8,BA8) -> 10.5 | BH8: =SUM(AD8,AJ8,AP8,AV8,BB8) -> 0 | BI8: =SUM(BD8:BH8) -> 1619.1607 | BJ8: 2448.0347 | BK8: 1108.7864 | BM8: 3 | BO8: =SUM(BJ8:BN8) -> 3559.8211 | BP8: 16885.685 | BQ8: 392.57577 | BS8: 1 | BU8: =SUM(BP8:BT8) -> 17279.261 | BV8: 14872.891 | BW8: 1855.3018 | BX8: 7.7450924 | BY8: 10.25 | CA8: =SUM(BV8:BZ8) -> 16746.188 | CB8: =SUM(BJ8,BP8,BV8) -> 34206.61 | CC8: =SUM(BK8,BQ8,BW8) -> 3356.664 | CD8: =SUM(BL8,BR8,BX8) -> 7.7450924 | CE8: =SUM(BM8,BS8,BY8) -> 14.25 | CF8: =SUM(BN8,BT8,BZ8) -> 0 | CG8: =SUM(CB8:CF8) -> 37585.269 | CH8: 56720.301 | CI8: 3035.8502 | CJ8: 23.676804 | CM8: =SUM(CH8:CL8) -> 59779.828 | CN8: 1615.5069 | CO8: 7.9115772 | CS8: =SUM(CN8:CR8) -> 1623.4185 | CT8: 2896.8835 | CV8: 4.4526936 | CY8: =SUM(CT8:CX8) -> 2901.3362 | CZ8: 55495.414 | DA8: 1908.9104 | DB8: 10.0403 | DC8: 4.7394623 | DE8: =SUM(CZ8:DD8) -> 57419.104 | DF8: =SUM(CH8,CN8,CT8,CZ8) -> 116728.11 | DG8: =SUM(CI8,CO8,CU8,DA8) -> 4952.6721 | DH8: =SUM(CJ8,CP8,CV8,DB8) -> 38.169798 | DI8: =SUM(CK8,CQ8,CW8,DC8) -> 4.7394623 | DJ8: =SUM(CL8,CR8,CX8,DD8) -> 0 | DK8: =SUM(DF8:DJ8) -> 121723.69 | DL8: 1625.565 | DM8: 523.8107 | DO8: 18.75 | DQ8: =SUM(DL8:DP8) -> 2168.1257 | DR8: 464.64296 | DS8: 62.963843 | DU8: 3 | DW8: =SUM(DR8:DV8) -> 530.60681 | DX8: 891.13837 | DY8: 614.72598 | DZ8: 62.773398 | EA8: 17.25 | EC8: =SUM(DX8:EB8) -> 1585.8877 | ED8: 840.45927 | EE8: 623.12277 | EF8: 39.602232 | EG8: 39.853468 | EI8: =SUM(ED8:EH8) -> 1543.0377 | EJ8: 1438.0801 | EK8: 950.95506 | EL8: 45.59363 | EM8: 14.75 | EO8: =SUM(EJ8:EN8) -> 2449.3787 | EP8: 1113.4023 | EQ8: 438.70231 | ES8: 17 | EU8: =SUM(EP8:ET8) -> 1569.1046 | EV8: 634.69494 | EW8: 9.7443057 | EY8: 13.5 | FA8: =SUM(EV8:EZ8) -> 657.93925 | FB8: =SUM(DL8,DR8,DX8,ED8,EJ8,EP8,EV8) -> 7007.9829 | FC8: =SUM(DM8,DS8,DY8,EE8,EK8,EQ8,EW8) -> 3224.025 | FD8: =SUM(DN8,DT8,DZ8,EF8,EL8,ER8,EX8) -> 147.96926 | FE8: =SUM(DO8,DU8,EA8,EG8,EM8,ES8,EY8) -> 124.10347 | FF8: =SUM(DP8,DV8,EB8,EH8,EN8,ET8,EZ8) -> 0 | FG8: =SUM(FB8:FF8) -> 10504.081 | FH8: 153481.92 | FI8: 1895.7318 | FJ8: 40.719536 | FK8: 19.75 | FM8: =SUM(FH8:FL8) -> 155438.12 | FQ8: 1.75 | FS8: =SUM(FN8:FR8) -> 1.75 | FT8: 7766.7232 | FU8: 96.32499 | FW8: 3 | FY8: =SUM(FT8:FX8) -> 7866.0482 | FZ8: 7725.8709 | GA8: 671.02622 | GC8: 15 | GE8: =SUM(FZ8:GD8) -> 8411.8971 | GF8: 143933.95 | GG8: 2131.0227 | GI8: 62.033979 | GK8: =SUM(GF8:GJ8) -> 146127.01 | GL8: 41249.773 | GM8: 79.995349 | GO8: 26.5 | GQ8: =SUM(GL8:GP8) -> 41356.268 | GR8: 160807.6 | GS8: 2306.6326 | GU8: 16 | GW8: =SUM(GR8:GV8) -> 163130.23 | GX8: 14886.63 | GY8: 123.52667 | HA8: 24 | HC8: =SUM(GX8:HB8) -> 15034.157 | HI8: =SUM(HD8:HH8) -> 0 | HJ8: =SUM(FH8,FN8,FT8,FZ8,GF8,GL8,GR8,GX8,HD8) -> 529852.47 | HK8: =SUM(FI8,FO8,FU8,GA8,GG8,GM8,GS8,GY8,HE8) -> 7304.2604 | HL8: =SUM(FJ8,FP8,FV8,GB8,GH8,GN8,GT8,GZ8,HF8) -> 40.719536 | HM8: =SUM(FK8,FQ8,FW8,GC8,GI8,GO8,GU8,HA8,HG8) -> 168.03398 | HN8: =SUM(FL8,FR8,FX8,GD8,GJ8,GP8,GV8,HB8,HH8) -> 0 | HO8: =SUM(FM8,FS8,FY8,GE8,GK8,GQ8,GW8,HC8,HI8) -> 537365.49 | HP8: 13234.812 | HQ8: 247.28723 | HS8: 0.5 | HU8: =SUM(HP8:HT8) -> 13482.599 | HV8: 332240.91 | HW8: 1958.5098 | HY8: 46 | IA8: =SUM(HV8:HZ8) -> 334245.42 | IB8: 460789.68 | IC8: 34575.203 | IE8: 201.75 | IG8: =SUM(IB8:IF8) -> 495566.63 | IH8: =SUM(HP8,HV8,IB8) -> 806265.4 | II8: =SUM(HQ8,HW8,IC8) -> 36781 | IJ8: =SUM(HR8,HX8,ID8) -> 0 | IK8: =SUM(HS8,HY8,IE8) -> 248.25 | IL8: =SUM(HT8,HZ8,IF8) -> 0 | IM8: =SUM(HU8,IA8,IG8) -> 843294.65 | IN8: 206697.99 | IO8: 715.32125 | IQ8: 43.75 | IS8: =SUM(IN8:IR8) -> 207457.06 | IT8: 3506.4613 | IU8: 5322.1857 | IW8: 6.25 | IY8: =SUM(IT8:IX8) -> 8834.897 | IZ8: 1112.6853 | JA8: 45.934176 | JC8: 3.75 | JE8: =SUM(IZ8:JD8) -> 1162.3695 | JF8: =SUM(IN8,IT8,IZ8) -> 211317.14 | JG8: =SUM(IO8,IU8,JA8) -> 6083.4411 | JH8: =SUM(IP8,IV8,JB8) -> 0 | JI8: =SUM(IQ8,IW8,JC8) -> 53.75 | JJ8: =SUM(IR8,IX8,JD8) -> 0 | JK8: =SUM(JF8:JJ8) -> 217454.33 | JM8: =SUM(T8,BD8,CB8,DF8,FB8,HJ8,IH8,JF8) -> 1707617.8 | JN8: =SUM(U8,BE8,CC8,DG8,FC8,HK8,II8,JG8) -> 63863.435 | JO8: =SUM(V8,BF8,CD8,DH8,FD8,HL8,IJ8,JH8) -> 268.98313 | JP8: =SUM(W8,BG8,CE8,DI8,FE8,HM8,IK8,JI8) -> 644.62691 | JQ8: =SUM(X8,BH8,CF8,DJ8,FF8,HN8,IL8,JJ8) -> 0 | JR8: =SUM(HO8,FG8,BI8) -> 549488.73
A9: IBD=Douglas-fir Beetle | B9: 16.537979 | C9: 998.60614 | D9: 50.986285 | E9: 50.650773 | G9: =SUM(B9:F9) -> 1116.7812 | I9: 15.796623 | J9: 42.754949 | K9: 16.5 | M9: =SUM(H9:L9) -> 75.051572 | O9: 67.676073 | P9: 470.42658 | Q9: 197.87099 | S9: =SUM(N9:R9) -> 735.97365 | T9: =SUM(B9,H9,N9) -> 16.537979 | U9: =SUM(C9,I9,O9) -> 1082.0788 | V9: =SUM(D9,J9,P9) -> 564.16782 | W9: =SUM(E9,K9,Q9) -> 265.02177 | X9: =SUM(F9,L9,R9) -> 0 | Y9: =SUM(T9:X9) -> 1927.8064 | AA9: 1411.93 | AC9: 23.180824 | AE9: =SUM(Z9:AD9) -> 1435.1109 | AG9: 12.843604 | AI9: 7.5 | AK9: =SUM(AF9:AJ9) -> 20.343604 | AM9: 138.94647 | AN9: 10.449857 | AO9: 9.5 | AQ9: =SUM(AL9:AP9) -> 158.89633 | AW9: =SUM(AR9:AV9) -> 0 | AY9: 4.0956374 | BA9: 10.5 | BC9: =SUM(AX9:BB9) -> 14.595637 | BD9: =SUM(Z9,AF9,AL9,AR9,AX9) -> 0 | BE9: =SUM(AA9,AG9,AM9,AS9,AY9) -> 1567.8157 | BF9: =SUM(AB9,AH9,AN9,AT9,AZ9) -> 10.449857 | BG9: =SUM(AC9,AI9,AO9,AU9,BA9) -> 50.680824 | BH9: =SUM(AD9,AJ9,AP9,AV9,BB9) -> 0 | BI9: =SUM(BD9:BH9) -> 1628.9464 | BJ9: 2473.9613 | BK9: 330.43902 | BM9: 66.75 | BO9: =SUM(BJ9:BN9) -> 2871.1503 | BP9: 132.59984 | BQ9: 353.26113 | BR9: 142.30064 | BS9: 25.75 | BU9: =SUM(BP9:BT9) -> 653.91161 | BV9: 2288.833 | BW9: 1208.816 | BY9: 157.75 | CA9: =SUM(BV9:BZ9) -> 3655.399 | CB9: =SUM(BJ9,BP9,BV9) -> 4895.3942 | CC9: =SUM(BK9,BQ9,BW9) -> 1892.5162 | CD9: =SUM(BL9,BR9,BX9) -> 142.30064 | CE9: =SUM(BM9,BS9,BY9) -> 250.25 | CF9: =SUM(BN9,BT9,BZ9) -> 0 | CG9: =SUM(CB9:CF9) -> 7180.461 | CI9: 282.99674 | CJ9: 416.55311 | CK9: 210.07008 | CL9: 7.3602327 | CM9: =SUM(CH9:CL9) -> 916.98016 | CN9: 3.9068127 | CO9: 185.86132 | CP9: 134.18765 | CQ9: 49.073745 | CS9: =SUM(CN9:CR9) -> 373.02953 | CU9: 22.745087 | CV9: 15.501703 | CW9: 7.25 | CY9: =SUM(CT9:CX9) -> 45.49679 | DA9: 185.4163 | DB9: 256.66977 | DC9: 134.705 | DD9: 15.606702 | DE9: =SUM(CZ9:DD9) -> 592.39778 | DF9: =SUM(CH9,CN9,CT9,CZ9) -> 3.9068127 | DG9: =SUM(CI9,CO9,CU9,DA9) -> 677.01945 | DH9: =SUM(CJ9,CP9,CV9,DB9) -> 822.91224 | DI9: =SUM(CK9,CQ9,CW9,DC9) -> 401.09883 | DJ9: =SUM(CL9,CR9,CX9,DD9) -> 22.966935 | DK9: =SUM(DF9:DJ9) -> 1927.9043 | DM9: 50.567059 | DN9: 12.507827 | DO9: 11.75 | DQ9: =SUM(DL9:DP9) -> 74.824885 | DS9: 37.66787 | DU9: 6.25 | DW9: =SUM(DR9:DV9) -> 43.91787 | DX9: 18.690338 | DY9: 84.923444 | DZ9: 72.751082 | EA9: 12.75 | EC9: =SUM(DX9:EB9) -> 189.11486 | ED9: 29.742923 | EE9: 249.25437 | EF9: 60.914444 | EG9: 7.25 | EI9: =SUM(ED9:EH9) -> 347.16174 | EJ9: 47.722144 | EK9: 513.02499 | EL9: 530.8839 | EM9: 6.25 | EO9: =SUM(EJ9:EN9) -> 1097.881 | EQ9: 260.98248 | ER9: 48.154815 | ES9: 11 | EU9: =SUM(EP9:ET9) -> 320.1373 | EV9: 43.578392 | EW9: 137.16272 | EX9: 22.395006 | EY9: 3 | FA9: =SUM(EV9:EZ9) -> 206.13612 | FB9: =SUM(DL9,DR9,DX9,ED9,EJ9,EP9,EV9) -> 139.7338 | FC9: =SUM(DM9,DS9,DY9,EE9,EK9,EQ9,EW9) -> 1333.5829 | FD9: =SUM(DN9,DT9,DZ9,EF9,EL9,ER9,EX9) -> 747.60708 | FE9: =SUM(DO9,DU9,EA9,EG9,EM9,ES9,EY9) -> 58.25 | FF9: =SUM(DP9,DV9,EB9,EH9,EN9,ET9,EZ9) -> 0 | FG9: =SUM(FB9:FF9) -> 2279.1738 | FM9: =SUM(FH9:FL9) -> 0 | FS9: =SUM(FN9:FR9) -> 0 | FY9: =SUM(FT9:FX9) -> 0 | GE9: =SUM(FZ9:GD9) -> 0 | GK9: =SUM(GF9:GJ9) -> 0 | GQ9: =SUM(GL9:GP9) -> 0 | GW9: =SUM(GR9:GV9) -> 0 | HC9: =SUM(GX9:HB9) -> 0 | HI9: =SUM(HD9:HH9) -> 0 | HJ9: =SUM(FH9,FN9,FT9,FZ9,GF9,GL9,GR9,GX9,HD9) -> 0 | HK9: =SUM(FI9,FO9,FU9,GA9,GG9,GM9,GS9,GY9,HE9) -> 0 | HL9: =SUM(FJ9,FP9,FV9,GB9,GH9,GN9,GT9,GZ9,HF9) -> 0 | HM9: =SUM(FK9,FQ9,FW9,GC9,GI9,GO9,GU9,HA9,HG9) -> 0 | HN9: =SUM(FL9,FR9,FX9,GD9,GJ9,GP9,GV9,HB9,HH9) -> 0 | HO9: =SUM(FM9,FS9,FY9,GE9,GK9,GQ9,GW9,HC9,HI9) -> 0 | HS9: 1 | HU9: =SUM(HP9:HT9) -> 1 | IA9: =SUM(HV9:HZ9) -> 0 | IB9: 569.99975 | IC9: 232.56096 | IE9: 40.75 | IG9: =SUM(IB9:IF9) -> 843.31071 | IH9: =SUM(HP9,HV9,IB9) -> 569.99975 | II9: =SUM(HQ9,HW9,IC9) -> 232.56096 | IJ9: =SUM(HR9,HX9,ID9) -> 0 | IK9: =SUM(HS9,HY9,IE9) -> 41.75 | IL9: =SUM(HT9,HZ9,IF9) -> 0 | IM9: =SUM(HU9,IA9,IG9) -> 844.31071 | IS9: =SUM(IN9:IR9) -> 0 | IY9: =SUM(IT9:IX9) -> 0 | JE9: =SUM(IZ9:JD9) -> 0 | JF9: =SUM(IN9,IT9,IZ9) -> 0 | JG9: =SUM(IO9,IU9,JA9) -> 0 | JH9: =SUM(IP9,IV9,JB9) -> 0 | JI9: =SUM(IQ9,IW9,JC9) -> 0 | JJ9: =SUM(IR9,IX9,JD9) -> 0 | JK9: =SUM(JF9:JJ9) -> 0 | JM9: =SUM(T9,BD9,CB9,DF9,FB9,HJ9,IH9,JF9) -> 5625.5725 | JN9: =SUM(U9,BE9,CC9,DG9,FC9,HK9,II9,JG9) -> 6785.5741 | JO9: =SUM(V9,BF9,CD9,DH9,FD9,HL9,IJ9,JH9) -> 2287.4376 | JP9: =SUM(W9,BG9,CE9,DI9,FE9,HM9,IK9,JI9) -> 1067.0514 | JQ9: =SUM(X9,BH9,CF9,DJ9,FF9,HN9,IL9,JJ9) -> 22.966935 | JR9: =SUM(HO9,FG9,BI9) -> 3908.1202
A10: IBF = Fir engraver Beetle | G10: =SUM(B10:F10) -> 0 | M10: =SUM(H10:L10) -> 0 | S10: =SUM(N10:R10) -> 0 | T10: =SUM(B10,H10,N10) -> 0 | U10: =SUM(C10,I10,O10) -> 0 | V10: =SUM(D10,J10,P10) -> 0 | W10: =SUM(E10,K10,Q10) -> 0 | X10: =SUM(F10,L10,R10) -> 0 | Y10: =SUM(T10:X10) -> 0 | AE10: =SUM(Z10:AD10) -> 0 | AK10: =SUM(AF10:AJ10) -> 0 | AQ10: =SUM(AL10:AP10) -> 0 | AW10: =SUM(AR10:AV10) -> 0 | BC10: =SUM(AX10:BB10) -> 0 | BD10: =SUM(Z10,AF10,AL10,AR10,AX10) -> 0 | BE10: =SUM(AA10,AG10,AM10,AS10,AY10) -> 0 | BF10: =SUM(AB10,AH10,AN10,AT10,AZ10) -> 0 | BG10: =SUM(AC10,AI10,AO10,AU10,BA10) -> 0 | BH10: =SUM(AD10,AJ10,AP10,AV10,BB10) -> 0 | BI10: =SUM(BD10:BH10) -> 0 | BO10: =SUM(BJ10:BN10) -> 0 | BU10: =SUM(BP10:BT10) -> 0 | CA10: =SUM(BV10:BZ10) -> 0 | CB10: =SUM(BJ10,BP10,BV10) -> 0 | CC10: =SUM(BK10,BQ10,BW10) -> 0 | CD10: =SUM(BL10,BR10,BX10) -> 0 | CE10: =SUM(BM10,BS10,BY10) -> 0 | CF10: =SUM(BN10,BT10,BZ10) -> 0 | CG10: =SUM(CB10:CF10) -> 0 | CM10: =SUM(CH10:CL10) -> 0 | CS10: =SUM(CN10:CR10) -> 0 | CY10: =SUM(CT10:CX10) -> 0 | DE10: =SUM(CZ10:DD10) -> 0 | DF10: =SUM(CH10,CN10,CT10,CZ10) -> 0 | DG10: =SUM(CI10,CO10,CU10,DA10) -> 0 | DH10: =SUM(CJ10,CP10,CV10,DB10) -> 0 | DI10: =SUM(CK10,CQ10,CW10,DC10) -> 0 | DJ10: =SUM(CL10,CR10,CX10,DD10) -> 0 | DK10: =SUM(DF10:DJ10) -> 0 | DQ10: =SUM(DL10:DP10) -> 0 | DW10: =SUM(DR10:DV10) -> 0 | EC10: =SUM(DX10:EB10) -> 0 | EI10: =SUM(ED10:EH10) -> 0 | EO10: =SUM(EJ10:EN10) -> 0 | EU10: =SUM(EP10:ET10) -> 0 | FA10: =SUM(EV10:EZ10) -> 0 | FB10: =SUM(DL10,DR10,DX10,ED10,EJ10,EP10,EV10) -> 0 | FC10: =SUM(DM10,DS10,DY10,EE10,EK10,EQ10,EW10) -> 0 | FD10: =SUM(DN10,DT10,DZ10,EF10,EL10,ER10,EX10) -> 0 | FE10: =SUM(DO10,DU10,EA10,EG10,EM10,ES10,EY10) -> 0 | FF10: =SUM(DP10,DV10,EB10,EH10,EN10,ET10,EZ10) -> 0 | FG10: =SUM(FB10:FF10) -> 0 | FM10: =SUM(FH10:FL10) -> 0 | FS10: =SUM(FN10:FR10) -> 0 | FY10: =SUM(FT10:FX10) -> 0 | GE10: =SUM(FZ10:GD10) -> 0 | GK10: =SUM(GF10:GJ10) -> 0 | GQ10: =SUM(GL10:GP10) -> 0 | GW10: =SUM(GR10:GV10) -> 0 | HC10: =SUM(GX10:HB10) -> 0 | HI10: =SUM(HD10:HH10) -> 0 | HJ10: =SUM(FH10,FN10,FT10,FZ10,GF10,GL10,GR10,GX10,HD10) -> 0 | HK10: =SUM(FI10,FO10,FU10,GA10,GG10,GM10,GS10,GY10,HE10) -> 0 | HL10: =SUM(FJ10,FP10,FV10,GB10,GH10,GN10,GT10,GZ10,HF10) -> 0 | HM10: =SUM(FK10,FQ10,FW10,GC10,GI10,GO10,GU10,HA10,HG10) -> 0 | HN10: =SUM(FL10,FR10,FX10,GD10,GJ10,GP10,GV10,HB10,HH10) -> 0 | HO10: =SUM(FM10,FS10,FY10,GE10,GK10,GQ10,GW10,HC10,HI10) -> 0 | HU10: =SUM(HP10:HT10) -> 0 | IA10: =SUM(HV10:HZ10) -> 0 | IG10: =SUM(IB10:IF10) -> 0 | IH10: =SUM(HP10,HV10,IB10) -> 0 | II10: =SUM(HQ10,HW10,IC10) -> 0 | IJ10: =SUM(HR10,HX10,ID10) -> 0 | IK10: =SUM(HS10,HY10,IE10) -> 0 | IL10: =SUM(HT10,HZ10,IF10) -> 0 | IM10: =SUM(HU10,IA10,IG10) -> 0 | IS10: =SUM(IN10:IR10) -> 0 | IY10: =SUM(IT10:IX10) -> 0 | JE10: =SUM(IZ10:JD10) -> 0 | JF10: =SUM(IN10,IT10,IZ10) -> 0 | JG10: =SUM(IO10,IU10,JA10) -> 0 | JH10: =SUM(IP10,IV10,JB10) -> 0 | JI10: =SUM(IQ10,IW10,JC10) -> 0 | JJ10: =SUM(IR10,IX10,JD10) -> 0 | JK10: =SUM(JF10:JJ10) -> 0 | JM10: =SUM(T10,BD10,CB10,DF10,FB10,HJ10,IH10,JF10) -> 0 | JN10: =SUM(U10,BE10,CC10,DG10,FC10,HK10,II10,JG10) -> 0 | JO10: =SUM(V10,BF10,CD10,DH10,FD10,HL10,IJ10,JH10) -> 0 | JP10: =SUM(W10,BG10,CE10,DI10,FE10,HM10,IK10,JI10) -> 0 | JQ10: =SUM(X10,BH10,CF10,DJ10,FF10,HN10,IL10,JJ10) -> 0 | JR10: =SUM(HO10,FG10,BI10) -> 0
A11: IBP = Twig Beetle | G11: =SUM(B11:F11) -> 0 | M11: =SUM(H11:L11) -> 0 | S11: =SUM(N11:R11) -> 0 | T11: =SUM(B11,H11,N11) -> 0 | U11: =SUM(C11,I11,O11) -> 0 | V11: =SUM(D11,J11,P11) -> 0 | W11: =SUM(E11,K11,Q11) -> 0 | X11: =SUM(F11,L11,R11) -> 0 | Y11: =SUM(T11:X11) -> 0 | AE11: =SUM(Z11:AD11) -> 0 | AK11: =SUM(AF11:AJ11) -> 0 | AQ11: =SUM(AL11:AP11) -> 0 | AW11: =SUM(AR11:AV11) -> 0 | BC11: =SUM(AX11:BB11) -> 0 | BD11: =SUM(Z11,AF11,AL11,AR11,AX11) -> 0 | BE11: =SUM(AA11,AG11,AM11,AS11,AY11) -> 0 | BF11: =SUM(AB11,AH11,AN11,AT11,AZ11) -> 0 | BG11: =SUM(AC11,AI11,AO11,AU11,BA11) -> 0 | BH11: =SUM(AD11,AJ11,AP11,AV11,BB11) -> 0 | BI11: =SUM(BD11:BH11) -> 0 | BO11: =SUM(BJ11:BN11) -> 0 | BU11: =SUM(BP11:BT11) -> 0 | CA11: =SUM(BV11:BZ11) -> 0 | CB11: =SUM(BJ11,BP11,BV11) -> 0 | CC11: =SUM(BK11,BQ11,BW11) -> 0 | CD11: =SUM(BL11,BR11,BX11) -> 0 | CE11: =SUM(BM11,BS11,BY11) -> 0 | CF11: =SUM(BN11,BT11,BZ11) -> 0 | CG11: =SUM(CB11:CF11) -> 0 | CM11: =SUM(CH11:CL11) -> 0 | CS11: =SUM(CN11:CR11) -> 0 | CY11: =SUM(CT11:CX11) -> 0 | DE11: =SUM(CZ11:DD11) -> 0 | DF11: =SUM(CH11,CN11,CT11,CZ11) -> 0 | DG11: =SUM(CI11,CO11,CU11,DA11) -> 0 | DH11: =SUM(CJ11,CP11,CV11,DB11) -> 0 | DI11: =SUM(CK11,CQ11,CW11,DC11) -> 0 | DJ11: =SUM(CL11,CR11,CX11,DD11) -> 0 | DK11: =SUM(DF11:DJ11) -> 0 | DQ11: =SUM(DL11:DP11) -> 0 | DW11: =SUM(DR11:DV11) -> 0 | EC11: =SUM(DX11:EB11) -> 0 | EI11: =SUM(ED11:EH11) -> 0 | EO11: =SUM(EJ11:EN11) -> 0 | EU11: =SUM(EP11:ET11) -> 0 | FA11: =SUM(EV11:EZ11) -> 0 | FB11: =SUM(DL11,DR11,DX11,ED11,EJ11,EP11,EV11) -> 0 | FC11: =SUM(DM11,DS11,DY11,EE11,EK11,EQ11,EW11) -> 0 | FD11: =SUM(DN11,DT11,DZ11,EF11,EL11,ER11,EX11) -> 0 | FE11: =SUM(DO11,DU11,EA11,EG11,EM11,ES11,EY11) -> 0 | FF11: =SUM(DP11,DV11,EB11,EH11,EN11,ET11,EZ11) -> 0 | FG11: =SUM(FB11:FF11) -> 0 | FM11: =SUM(FH11:FL11) -> 0 | FS11: =SUM(FN11:FR11) -> 0 | FY11: =SUM(FT11:FX11) -> 0 | GE11: =SUM(FZ11:GD11) -> 0 | GK11: =SUM(GF11:GJ11) -> 0 | GQ11: =SUM(GL11:GP11) -> 0 | GW11: =SUM(GR11:GV11) -> 0 | HC11: =SUM(GX11:HB11) -> 0 | HI11: =SUM(HD11:HH11) -> 0 | HJ11: =SUM(FH11,FN11,FT11,FZ11,GF11,GL11,GR11,GX11,HD11) -> 0 | HK11: =SUM(FI11,FO11,FU11,GA11,GG11,GM11,GS11,GY11,HE11) -> 0 | HL11: =SUM(FJ11,FP11,FV11,GB11,GH11,GN11,GT11,GZ11,HF11) -> 0 | HM11: =SUM(FK11,FQ11,FW11,GC11,GI11,GO11,GU11,HA11,HG11) -> 0 | HN11: =SUM(FL11,FR11,FX11,GD11,GJ11,GP11,GV11,HB11,HH11) -> 0 | HO11: =SUM(FM11,FS11,FY11,GE11,GK11,GQ11,GW11,HC11,HI11) -> 0 | HU11: =SUM(HP11:HT11) -> 0 | IA11: =SUM(HV11:HZ11) -> 0 | IG11: =SUM(IB11:IF11) -> 0 | IH11: =SUM(HP11,HV11,IB11) -> 0 | II11: =SUM(HQ11,HW11,IC11) -> 0 | IJ11: =SUM(HR11,HX11,ID11) -> 0 | IK11: =SUM(HS11,HY11,IE11) -> 0 | IL11: =SUM(HT11,HZ11,IF11) -> 0 | IM11: =SUM(HU11,IA11,IG11) -> 0 | IS11: =SUM(IN11:IR11) -> 0 | IY11: =SUM(IT11:IX11) -> 0 | JE11: =SUM(IZ11:JD11) -> 0 | JF11: =SUM(IN11,IT11,IZ11) -> 0 | JG11: =SUM(IO11,IU11,JA11) -> 0 | JH11: =SUM(IP11,IV11,JB11) -> 0 | JI11: =SUM(IQ11,IW11,JC11) -> 0 | JJ11: =SUM(IR11,IX11,JD11) -> 0 | JK11: =SUM(JF11:JJ11) -> 0 | JM11: =SUM(T11,BD11,CB11,DF11,FB11,HJ11,IH11,JF11) -> 0 | JN11: =SUM(U11,BE11,CC11,DG11,FC11,HK11,II11,JG11) -> 0 | JO11: =SUM(V11,BF11,CD11,DH11,FD11,HL11,IJ11,JH11) -> 0 | JP11: =SUM(W11,BG11,CE11,DI11,FE11,HM11,IK11,JI11) -> 0 | JQ11: =SUM(X11,BH11,CF11,DJ11,FF11,HN11,IL11,JJ11) -> 0 | JR11: =SUM(HO11,FG11,BI11) -> 0
A12: IBI=Engraver Beetle (Ips species) | G12: =SUM(B12:F12) -> 0 | M12: =SUM(H12:L12) -> 0 | S12: =SUM(N12:R12) -> 0 | T12: =SUM(B12,H12,N12) -> 0 | U12: =SUM(C12,I12,O12) -> 0 | V12: =SUM(D12,J12,P12) -> 0 | W12: =SUM(E12,K12,Q12) -> 0 | X12: =SUM(F12,L12,R12) -> 0 | Y12: =SUM(T12:X12) -> 0 | AE12: =SUM(Z12:AD12) -> 0 | AK12: =SUM(AF12:AJ12) -> 0 | AQ12: =SUM(AL12:AP12) -> 0 | AW12: =SUM(AR12:AV12) -> 0 | BC12: =SUM(AX12:BB12) -> 0 | BD12: =SUM(Z12,AF12,AL12,AR12,AX12) -> 0 | BE12: =SUM(AA12,AG12,AM12,AS12,AY12) -> 0 | BF12: =SUM(AB12,AH12,AN12,AT12,AZ12) -> 0 | BG12: =SUM(AC12,AI12,AO12,AU12,BA12) -> 0 | BH12: =SUM(AD12,AJ12,AP12,AV12,BB12) -> 0 | BI12: =SUM(BD12:BH12) -> 0 | BO12: =SUM(BJ12:BN12) -> 0 | BU12: =SUM(BP12:BT12) -> 0 | CA12: =SUM(BV12:BZ12) -> 0 | CB12: =SUM(BJ12,BP12,BV12) -> 0 | CC12: =SUM(BK12,BQ12,BW12) -> 0 | CD12: =SUM(BL12,BR12,BX12) -> 0 | CE12: =SUM(BM12,BS12,BY12) -> 0 | CF12: =SUM(BN12,BT12,BZ12) -> 0 | CG12: =SUM(CB12:CF12) -> 0 | CM12: =SUM(CH12:CL12) -> 0 | CS12: =SUM(CN12:CR12) -> 0 | CY12: =SUM(CT12:CX12) -> 0 | DE12: =SUM(CZ12:DD12) -> 0 | DF12: =SUM(CH12,CN12,CT12,CZ12) -> 0 | DG12: =SUM(CI12,CO12,CU12,DA12) -> 0 | DH12: =SUM(CJ12,CP12,CV12,DB12) -> 0 | DI12: =SUM(CK12,CQ12,CW12,DC12) -> 0 | DJ12: =SUM(CL12,CR12,CX12,DD12) -> 0 | DK12: =SUM(DF12:DJ12) -> 0 | DQ12: =SUM(DL12:DP12) -> 0 | DW12: =SUM(DR12:DV12) -> 0 | EC12: =SUM(DX12:EB12) -> 0 | EI12: =SUM(ED12:EH12) -> 0 | EO12: =SUM(EJ12:EN12) -> 0 | EU12: =SUM(EP12:ET12) -> 0 | FA12: =SUM(EV12:EZ12) -> 0 | FB12: =SUM(DL12,DR12,DX12,ED12,EJ12,EP12,EV12) -> 0 | FC12: =SUM(DM12,DS12,DY12,EE12,EK12,EQ12,EW12) -> 0 | FD12: =SUM(DN12,DT12,DZ12,EF12,EL12,ER12,EX12) -> 0 | FE12: =SUM(DO12,DU12,EA12,EG12,EM12,ES12,EY12) -> 0 | FF12: =SUM(DP12,DV12,EB12,EH12,EN12,ET12,EZ12) -> 0 | FG12: =SUM(FB12:FF12) -> 0 | FM12: =SUM(FH12:FL12) -> 0 | FS12: =SUM(FN12:FR12) -> 0 | FY12: =SUM(FT12:FX12) -> 0 | GE12: =SUM(FZ12:GD12) -> 0 | GK12: =SUM(GF12:GJ12) -> 0 | GQ12: =SUM(GL12:GP12) -> 0 | GW12: =SUM(GR12:GV12) -> 0 | HC12: =SUM(GX12:HB12) -> 0 | HI12: =SUM(HD12:HH12) -> 0 | HJ12: =SUM(FH12,FN12,FT12,FZ12,GF12,GL12,GR12,GX12,HD12) -> 0 | HK12: =SUM(FI12,FO12,FU12,GA12,GG12,GM12,GS12,GY12,HE12) -> 0 | HL12: =SUM(FJ12,FP12,FV12,GB12,GH12,GN12,GT12,GZ12,HF12) -> 0 | HM12: =SUM(FK12,FQ12,FW12,GC12,GI12,GO12,GU12,HA12,HG12) -> 0 | HN12: =SUM(FL12,FR12,FX12,GD12,GJ12,GP12,GV12,HB12,HH12) -> 0 | HO12: =SUM(FM12,FS12,FY12,GE12,GK12,GQ12,GW12,HC12,HI12) -> 0 | HU12: =SUM(HP12:HT12) -> 0 | IA12: =SUM(HV12:HZ12) -> 0 | IG12: =SUM(IB12:IF12) -> 0 | IH12: =SUM(HP12,HV12,IB12) -> 0 | II12: =SUM(HQ12,HW12,IC12) -> 0 | IJ12: =SUM(HR12,HX12,ID12) -> 0 | IK12: =SUM(HS12,HY12,IE12) -> 0 | IL12: =SUM(HT12,HZ12,IF12) -> 0 | IM12: =SUM(HU12,IA12,IG12) -> 0 | IS12: =SUM(IN12:IR12) -> 0 | IY12: =SUM(IT12:IX12) -> 0 | JE12: =SUM(IZ12:JD12) -> 0 | JF12: =SUM(IN12,IT12,IZ12) -> 0 | JG12: =SUM(IO12,IU12,JA12) -> 0 | JH12: =SUM(IP12,IV12,JB12) -> 0 | JI12: =SUM(IQ12,IW12,JC12) -> 0 | JJ12: =SUM(IR12,IX12,JD12) -> 0 | JK12: =SUM(JF12:JJ12) -> 0 | JM12: =SUM(T12,BD12,CB12,DF12,FB12,HJ12,IH12,JF12) -> 0 | JN12: =SUM(U12,BE12,CC12,DG12,FC12,HK12,II12,JG12) -> 0 | JO12: =SUM(V12,BF12,CD12,DH12,FD12,HL12,IJ12,JH12) -> 0 | JP12: =SUM(W12,BG12,CE12,DI12,FE12,HM12,IK12,JI12) -> 0 | JQ12: =SUM(X12,BH12,CF12,DJ12,FF12,HN12,IL12,JJ12) -> 0 | JR12: =SUM(HO12,FG12,BI12) -> 0
A13: IBW=Western Pine Beetle | G13: =SUM(B13:F13) -> 0 | M13: =SUM(H13:L13) -> 0 | S13: =SUM(N13:R13) -> 0 | T13: =SUM(B13,H13,N13) -> 0 | U13: =SUM(C13,I13,O13) -> 0 | V13: =SUM(D13,J13,P13) -> 0 | W13: =SUM(E13,K13,Q13) -> 0 | X13: =SUM(F13,L13,R13) -> 0 | Y13: =SUM(T13:X13) -> 0 | AE13: =SUM(Z13:AD13) -> 0 | AK13: =SUM(AF13:AJ13) -> 0 | AQ13: =SUM(AL13:AP13) -> 0 | AW13: =SUM(AR13:AV13) -> 0 | BC13: =SUM(AX13:BB13) -> 0 | BD13: =SUM(Z13,AF13,AL13,AR13,AX13) -> 0 | BE13: =SUM(AA13,AG13,AM13,AS13,AY13) -> 0 | BF13: =SUM(AB13,AH13,AN13,AT13,AZ13) -> 0 | BG13: =SUM(AC13,AI13,AO13,AU13,BA13) -> 0 | BH13: =SUM(AD13,AJ13,AP13,AV13,BB13) -> 0 | BI13: =SUM(BD13:BH13) -> 0 | BO13: =SUM(BJ13:BN13) -> 0 | BU13: =SUM(BP13:BT13) -> 0 | CA13: =SUM(BV13:BZ13) -> 0 | CB13: =SUM(BJ13,BP13,BV13) -> 0 | CC13: =SUM(BK13,BQ13,BW13) -> 0 | CD13: =SUM(BL13,BR13,BX13) -> 0 | CE13: =SUM(BM13,BS13,BY13) -> 0 | CF13: =SUM(BN13,BT13,BZ13) -> 0 | CG13: =SUM(CB13:CF13) -> 0 | CM13: =SUM(CH13:CL13) -> 0 | CS13: =SUM(CN13:CR13) -> 0 | CY13: =SUM(CT13:CX13) -> 0 | DE13: =SUM(CZ13:DD13) -> 0 | DF13: =SUM(CH13,CN13,CT13,CZ13) -> 0 | DG13: =SUM(CI13,CO13,CU13,DA13) -> 0 | DH13: =SUM(CJ13,CP13,CV13,DB13) -> 0 | DI13: =SUM(CK13,CQ13,CW13,DC13) -> 0 | DJ13: =SUM(CL13,CR13,CX13,DD13) -> 0 | DK13: =SUM(DF13:DJ13) -> 0 | DQ13: =SUM(DL13:DP13) -> 0 | DW13: =SUM(DR13:DV13) -> 0 | EC13: =SUM(DX13:EB13) -> 0 | EI13: =SUM(ED13:EH13) -> 0 | EO13: =SUM(EJ13:EN13) -> 0 | EU13: =SUM(EP13:ET13) -> 0 | FA13: =SUM(EV13:EZ13) -> 0 | FB13: =SUM(DL13,DR13,DX13,ED13,EJ13,EP13,EV13) -> 0 | FC13: =SUM(DM13,DS13,DY13,EE13,EK13,EQ13,EW13) -> 0 | FD13: =SUM(DN13,DT13,DZ13,EF13,EL13,ER13,EX13) -> 0 | FE13: =SUM(DO13,DU13,EA13,EG13,EM13,ES13,EY13) -> 0 | FF13: =SUM(DP13,DV13,EB13,EH13,EN13,ET13,EZ13) -> 0 | FG13: =SUM(FB13:FF13) -> 0 | FM13: =SUM(FH13:FL13) -> 0 | FS13: =SUM(FN13:FR13) -> 0 | FY13: =SUM(FT13:FX13) -> 0 | GE13: =SUM(FZ13:GD13) -> 0 | GK13: =SUM(GF13:GJ13) -> 0 | GQ13: =SUM(GL13:GP13) -> 0 | GW13: =SUM(GR13:GV13) -> 0 | HC13: =SUM(GX13:HB13) -> 0 | HI13: =SUM(HD13:HH13) -> 0 | HJ13: =SUM(FH13,FN13,FT13,FZ13,GF13,GL13,GR13,GX13,HD13) -> 0 | HK13: =SUM(FI13,FO13,FU13,GA13,GG13,GM13,GS13,GY13,HE13) -> 0 | HL13: =SUM(FJ13,FP13,FV13,GB13,GH13,GN13,GT13,GZ13,HF13) -> 0 | HM13: =SUM(FK13,FQ13,FW13,GC13,GI13,GO13,GU13,HA13,HG13) -> 0 | HN13: =SUM(FL13,FR13,FX13,GD13,GJ13,GP13,GV13,HB13,HH13) -> 0 | HO13: =SUM(FM13,FS13,FY13,GE13,GK13,GQ13,GW13,HC13,HI13) -> 0 | HU13: =SUM(HP13:HT13) -> 0 | IA13: =SUM(HV13:HZ13) -> 0 | IG13: =SUM(IB13:IF13) -> 0 | IH13: =SUM(HP13,HV13,IB13) -> 0 | II13: =SUM(HQ13,HW13,IC13) -> 0 | IJ13: =SUM(HR13,HX13,ID13) -> 0 | IK13: =SUM(HS13,HY13,IE13) -> 0 | IL13: =SUM(HT13,HZ13,IF13) -> 0 | IM13: =SUM(HU13,IA13,IG13) -> 0 | IS13: =SUM(IN13:IR13) -> 0 | IY13: =SUM(IT13:IX13) -> 0 | JE13: =SUM(IZ13:JD13) -> 0 | JF13: =SUM(IN13,IT13,IZ13) -> 0 | JG13: =SUM(IO13,IU13,JA13) -> 0 | JH13: =SUM(IP13,IV13,JB13) -> 0 | JI13: =SUM(IQ13,IW13,JC13) -> 0 | JJ13: =SUM(IR13,IX13,JD13) -> 0 | JK13: =SUM(JF13:JJ13) -> 0 | JM13: =SUM(T13,BD13,CB13,DF13,FB13,HJ13,IH13,JF13) -> 0 | JN13: =SUM(U13,BE13,CC13,DG13,FC13,HK13,II13,JG13) -> 0 | JO13: =SUM(V13,BF13,CD13,DH13,FD13,HL13,IJ13,JH13) -> 0 | JP13: =SUM(W13,BG13,CE13,DI13,FE13,HM13,IK13,JI13) -> 0 | JQ13: =SUM(X13,BH13,CF13,DJ13,FF13,HN13,IL13,JJ13) -> 0 | JR13: =SUM(HO13,FG13,BI13) -> 0
A14: IBL=Lodgepole Pine Beetle | G14: =SUM(B14:F14) -> 0 | M14: =SUM(H14:L14) -> 0 | S14: =SUM(N14:R14) -> 0 | T14: =SUM(B14,H14,N14) -> 0 | U14: =SUM(C14,I14,O14) -> 0 | V14: =SUM(D14,J14,P14) -> 0 | W14: =SUM(E14,K14,Q14) -> 0 | X14: =SUM(F14,L14,R14) -> 0 | Y14: =SUM(T14:X14) -> 0 | AE14: =SUM(Z14:AD14) -> 0 | AK14: =SUM(AF14:AJ14) -> 0 | AQ14: =SUM(AL14:AP14) -> 0 | AW14: =SUM(AR14:AV14) -> 0 | BC14: =SUM(AX14:BB14) -> 0 | BD14: =SUM(Z14,AF14,AL14,AR14,AX14) -> 0 | BE14: =SUM(AA14,AG14,AM14,AS14,AY14) -> 0 | BF14: =SUM(AB14,AH14,AN14,AT14,AZ14) -> 0 | BG14: =SUM(AC14,AI14,AO14,AU14,BA14) -> 0 | BH14: =SUM(AD14,AJ14,AP14,AV14,BB14) -> 0 | BI14: =SUM(BD14:BH14) -> 0 | BO14: =SUM(BJ14:BN14) -> 0 | BU14: =SUM(BP14:BT14) -> 0 | CA14: =SUM(BV14:BZ14) -> 0 | CB14: =SUM(BJ14,BP14,BV14) -> 0 | CC14: =SUM(BK14,BQ14,BW14) -> 0 | CD14: =SUM(BL14,BR14,BX14) -> 0 | CE14: =SUM(BM14,BS14,BY14) -> 0 | CF14: =SUM(BN14,BT14,BZ14) -> 0 | CG14: =SUM(CB14:CF14) -> 0 | CM14: =SUM(CH14:CL14) -> 0 | CS14: =SUM(CN14:CR14) -> 0 | CY14: =SUM(CT14:CX14) -> 0 | DE14: =SUM(CZ14:DD14) -> 0 | DF14: =SUM(CH14,CN14,CT14,CZ14) -> 0 | DG14: =SUM(CI14,CO14,CU14,DA14) -> 0 | DH14: =SUM(CJ14,CP14,CV14,DB14) -> 0 | DI14: =SUM(CK14,CQ14,CW14,DC14) -> 0 | DJ14: =SUM(CL14,CR14,CX14,DD14) -> 0 | DK14: =SUM(DF14:DJ14) -> 0 | DQ14: =SUM(DL14:DP14) -> 0 | DW14: =SUM(DR14:DV14) -> 0 | EC14: =SUM(DX14:EB14) -> 0 | EI14: =SUM(ED14:EH14) -> 0 | EO14: =SUM(EJ14:EN14) -> 0 | EU14: =SUM(EP14:ET14) -> 0 | FA14: =SUM(EV14:EZ14) -> 0 | FB14: =SUM(DL14,DR14,DX14,ED14,EJ14,EP14,EV14) -> 0 | FC14: =SUM(DM14,DS14,DY14,EE14,EK14,EQ14,EW14) -> 0 | FD14: =SUM(DN14,DT14,DZ14,EF14,EL14,ER14,EX14) -> 0 | FE14: =SUM(DO14,DU14,EA14,EG14,EM14,ES14,EY14) -> 0 | FF14: =SUM(DP14,DV14,EB14,EH14,EN14,ET14,EZ14) -> 0 | FG14: =SUM(FB14:FF14) -> 0 | FM14: =SUM(FH14:FL14) -> 0 | FS14: =SUM(FN14:FR14) -> 0 | FY14: =SUM(FT14:FX14) -> 0 | GE14: =SUM(FZ14:GD14) -> 0 | GK14: =SUM(GF14:GJ14) -> 0 | GQ14: =SUM(GL14:GP14) -> 0 | GW14: =SUM(GR14:GV14) -> 0 | HC14: =SUM(GX14:HB14) -> 0 | HI14: =SUM(HD14:HH14) -> 0 | HJ14: =SUM(FH14,FN14,FT14,FZ14,GF14,GL14,GR14,GX14,HD14) -> 0 | HK14: =SUM(FI14,FO14,FU14,GA14,GG14,GM14,GS14,GY14,HE14) -> 0 | HL14: =SUM(FJ14,FP14,FV14,GB14,GH14,GN14,GT14,GZ14,HF14) -> 0 | HM14: =SUM(FK14,FQ14,FW14,GC14,GI14,GO14,GU14,HA14,HG14) -> 0 | HN14: =SUM(FL14,FR14,FX14,GD14,GJ14,GP14,GV14,HB14,HH14) -> 0 | HO14: =SUM(FM14,FS14,FY14,GE14,GK14,GQ14,GW14,HC14,HI14) -> 0 | HU14: =SUM(HP14:HT14) -> 0 | IA14: =SUM(HV14:HZ14) -> 0 | IG14: =SUM(IB14:IF14) -> 0 | IH14: =SUM(HP14,HV14,IB14) -> 0 | II14: =SUM(HQ14,HW14,IC14) -> 0 | IJ14: =SUM(HR14,HX14,ID14) -> 0 | IK14: =SUM(HS14,HY14,IE14) -> 0 | IL14: =SUM(HT14,HZ14,IF14) -> 0 | IM14: =SUM(HU14,IA14,IG14) -> 0 | IS14: =SUM(IN14:IR14) -> 0 | IY14: =SUM(IT14:IX14) -> 0 | JE14: =SUM(IZ14:JD14) -> 0 | JF14: =SUM(IN14,IT14,IZ14) -> 0 | JG14: =SUM(IO14,IU14,JA14) -> 0 | JH14: =SUM(IP14,IV14,JB14) -> 0 | JI14: =SUM(IQ14,IW14,JC14) -> 0 | JJ14: =SUM(IR14,IX14,JD14) -> 0 | JK14: =SUM(JF14:JJ14) -> 0 | JM14: =SUM(T14,BD14,CB14,DF14,FB14,HJ14,IH14,JF14) -> 0 | JN14: =SUM(U14,BE14,CC14,DG14,FC14,HK14,II14,JG14) -> 0 | JO14: =SUM(V14,BF14,CD14,DH14,FD14,HL14,IJ14,JH14) -> 0 | JP14: =SUM(W14,BG14,CE14,DI14,FE14,HM14,IK14,JI14) -> 0 | JQ14: =SUM(X14,BH14,CF14,DJ14,FF14,HN14,IL14,JJ14) -> 0 | JR14: =SUM(HO14,FG14,BI14) -> 0
A15: IBT=Red Turpentine Beetle | G15: =SUM(B15:F15) -> 0 | M15: =SUM(H15:L15) -> 0 | S15: =SUM(N15:R15) -> 0 | T15: =SUM(B15,H15,N15) -> 0 | U15: =SUM(C15,I15,O15) -> 0 | V15: =SUM(D15,J15,P15) -> 0 | W15: =SUM(E15,K15,Q15) -> 0 | X15: =SUM(F15,L15,R15) -> 0 | Y15: =SUM(T15:X15) -> 0 | AE15: =SUM(Z15:AD15) -> 0 | AK15: =SUM(AF15:AJ15) -> 0 | AQ15: =SUM(AL15:AP15) -> 0 | AW15: =SUM(AR15:AV15) -> 0 | BC15: =SUM(AX15:BB15) -> 0 | BD15: =SUM(Z15,AF15,AL15,AR15,AX15) -> 0 | BE15: =SUM(AA15,AG15,AM15,AS15,AY15) -> 0 | BF15: =SUM(AB15,AH15,AN15,AT15,AZ15) -> 0 | BG15: =SUM(AC15,AI15,AO15,AU15,BA15) -> 0 | BH15: =SUM(AD15,AJ15,AP15,AV15,BB15) -> 0 | BI15: =SUM(BD15:BH15) -> 0 | BO15: =SUM(BJ15:BN15) -> 0 | BU15: =SUM(BP15:BT15) -> 0 | CA15: =SUM(BV15:BZ15) -> 0 | CB15: =SUM(BJ15,BP15,BV15) -> 0 | CC15: =SUM(BK15,BQ15,BW15) -> 0 | CD15: =SUM(BL15,BR15,BX15) -> 0 | CE15: =SUM(BM15,BS15,BY15) -> 0 | CF15: =SUM(BN15,BT15,BZ15) -> 0 | CG15: =SUM(CB15:CF15) -> 0 | CM15: =SUM(CH15:CL15) -> 0 | CS15: =SUM(CN15:CR15) -> 0 | CY15: =SUM(CT15:CX15) -> 0 | DE15: =SUM(CZ15:DD15) -> 0 | DF15: =SUM(CH15,CN15,CT15,CZ15) -> 0 | DG15: =SUM(CI15,CO15,CU15,DA15) -> 0 | DH15: =SUM(CJ15,CP15,CV15,DB15) -> 0 | DI15: =SUM(CK15,CQ15,CW15,DC15) -> 0 | DJ15: =SUM(CL15,CR15,CX15,DD15) -> 0 | DK15: =SUM(DF15:DJ15) -> 0 | DQ15: =SUM(DL15:DP15) -> 0 | DW15: =SUM(DR15:DV15) -> 0 | EC15: =SUM(DX15:EB15) -> 0 | EI15: =SUM(ED15:EH15) -> 0 | EO15: =SUM(EJ15:EN15) -> 0 | EU15: =SUM(EP15:ET15) -> 0 | FA15: =SUM(EV15:EZ15) -> 0 | FB15: =SUM(DL15,DR15,DX15,ED15,EJ15,EP15,EV15) -> 0 | FC15: =SUM(DM15,DS15,DY15,EE15,EK15,EQ15,EW15) -> 0 | FD15: =SUM(DN15,DT15,DZ15,EF15,EL15,ER15,EX15) -> 0 | FE15: =SUM(DO15,DU15,EA15,EG15,EM15,ES15,EY15) -> 0 | FF15: =SUM(DP15,DV15,EB15,EH15,EN15,ET15,EZ15) -> 0 | FG15: =SUM(FB15:FF15) -> 0 | FM15: =SUM(FH15:FL15) -> 0 | FS15: =SUM(FN15:FR15) -> 0 | FY15: =SUM(FT15:FX15) -> 0 | GE15: =SUM(FZ15:GD15) -> 0 | GK15: =SUM(GF15:GJ15) -> 0 | GQ15: =SUM(GL15:GP15) -> 0 | GW15: =SUM(GR15:GV15) -> 0 | HC15: =SUM(GX15:HB15) -> 0 | HI15: =SUM(HD15:HH15) -> 0 | HJ15: =SUM(FH15,FN15,FT15,FZ15,GF15,GL15,GR15,GX15,HD15) -> 0 | HK15: =SUM(FI15,FO15,FU15,GA15,GG15,GM15,GS15,GY15,HE15) -> 0 | HL15: =SUM(FJ15,FP15,FV15,GB15,GH15,GN15,GT15,GZ15,HF15) -> 0 | HM15: =SUM(FK15,FQ15,FW15,GC15,GI15,GO15,GU15,HA15,HG15) -> 0 | HN15: =SUM(FL15,FR15,FX15,GD15,GJ15,GP15,GV15,HB15,HH15) -> 0 | HO15: =SUM(FM15,FS15,FY15,GE15,GK15,GQ15,GW15,HC15,HI15) -> 0 | HU15: =SUM(HP15:HT15) -> 0 | IA15: =SUM(HV15:HZ15) -> 0 | IG15: =SUM(IB15:IF15) -> 0 | IH15: =SUM(HP15,HV15,IB15) -> 0 | II15: =SUM(HQ15,HW15,IC15) -> 0 | IJ15: =SUM(HR15,HX15,ID15) -> 0 | IK15: =SUM(HS15,HY15,IE15) -> 0 | IL15: =SUM(HT15,HZ15,IF15) -> 0 | IM15: =SUM(HU15,IA15,IG15) -> 0 | IS15: =SUM(IN15:IR15) -> 0 | IY15: =SUM(IT15:IX15) -> 0 | JE15: =SUM(IZ15:JD15) -> 0 | JF15: =SUM(IN15,IT15,IZ15) -> 0 | JG15: =SUM(IO15,IU15,JA15) -> 0 | JH15: =SUM(IP15,IV15,JB15) -> 0 | JI15: =SUM(IQ15,IW15,JC15) -> 0 | JJ15: =SUM(IR15,IX15,JD15) -> 0 | JK15: =SUM(JF15:JJ15) -> 0 | JM15: =SUM(T15,BD15,CB15,DF15,FB15,HJ15,IH15,JF15) -> 0 | JN15: =SUM(U15,BE15,CC15,DG15,FC15,HK15,II15,JG15) -> 0 | JO15: =SUM(V15,BF15,CD15,DH15,FD15,HL15,IJ15,JH15) -> 0 | JP15: =SUM(W15,BG15,CE15,DI15,FE15,HM15,IK15,JI15) -> 0 | JQ15: =SUM(X15,BH15,CF15,DJ15,FF15,HN15,IL15,JJ15) -> 0 | JR15: =SUM(HO15,FG15,BI15) -> 0
A16: IB=Unknown Beetle | G16: =SUM(B16:F16) -> 0 | M16: =SUM(H16:L16) -> 0 | S16: =SUM(N16:R16) -> 0 | T16: =SUM(B16,H16,N16) -> 0 | U16: =SUM(C16,I16,O16) -> 0 | V16: =SUM(D16,J16,P16) -> 0 | W16: =SUM(E16,K16,Q16) -> 0 | X16: =SUM(F16,L16,R16) -> 0 | Y16: =SUM(T16:X16) -> 0 | AE16: =SUM(Z16:AD16) -> 0 | AK16: =SUM(AF16:AJ16) -> 0 | AQ16: =SUM(AL16:AP16) -> 0 | AW16: =SUM(AR16:AV16) -> 0 | BC16: =SUM(AX16:BB16) -> 0 | BD16: =SUM(Z16,AF16,AL16,AR16,AX16) -> 0 | BE16: =SUM(AA16,AG16,AM16,AS16,AY16) -> 0 | BF16: =SUM(AB16,AH16,AN16,AT16,AZ16) -> 0 | BG16: =SUM(AC16,AI16,AO16,AU16,BA16) -> 0 | BH16: =SUM(AD16,AJ16,AP16,AV16,BB16) -> 0 | BI16: =SUM(BD16:BH16) -> 0 | BO16: =SUM(BJ16:BN16) -> 0 | BU16: =SUM(BP16:BT16) -> 0 | CA16: =SUM(BV16:BZ16) -> 0 | CB16: =SUM(BJ16,BP16,BV16) -> 0 | CC16: =SUM(BK16,BQ16,BW16) -> 0 | CD16: =SUM(BL16,BR16,BX16) -> 0 | CE16: =SUM(BM16,BS16,BY16) -> 0 | CF16: =SUM(BN16,BT16,BZ16) -> 0 | CG16: =SUM(CB16:CF16) -> 0 | CM16: =SUM(CH16:CL16) -> 0 | CS16: =SUM(CN16:CR16) -> 0 | CY16: =SUM(CT16:CX16) -> 0 | DE16: =SUM(CZ16:DD16) -> 0 | DF16: =SUM(CH16,CN16,CT16,CZ16) -> 0 | DG16: =SUM(CI16,CO16,CU16,DA16) -> 0 | DH16: =SUM(CJ16,CP16,CV16,DB16) -> 0 | DI16: =SUM(CK16,CQ16,CW16,DC16) -> 0 | DJ16: =SUM(CL16,CR16,CX16,DD16) -> 0 | DK16: =SUM(DF16:DJ16) -> 0 | DQ16: =SUM(DL16:DP16) -> 0 | DW16: =SUM(DR16:DV16) -> 0 | EC16: =SUM(DX16:EB16) -> 0 | EI16: =SUM(ED16:EH16) -> 0 | EO16: =SUM(EJ16:EN16) -> 0 | EU16: =SUM(EP16:ET16) -> 0 | FA16: =SUM(EV16:EZ16) -> 0 | FB16: =SUM(DL16,DR16,DX16,ED16,EJ16,EP16,EV16) -> 0 | FC16: =SUM(DM16,DS16,DY16,EE16,EK16,EQ16,EW16) -> 0 | FD16: =SUM(DN16,DT16,DZ16,EF16,EL16,ER16,EX16) -> 0 | FE16: =SUM(DO16,DU16,EA16,EG16,EM16,ES16,EY16) -> 0 | FF16: =SUM(DP16,DV16,EB16,EH16,EN16,ET16,EZ16) -> 0 | FG16: =SUM(FB16:FF16) -> 0 | FM16: =SUM(FH16:FL16) -> 0 | FS16: =SUM(FN16:FR16) -> 0 | FY16: =SUM(FT16:FX16) -> 0 | GE16: =SUM(FZ16:GD16) -> 0 | GK16: =SUM(GF16:GJ16) -> 0 | GQ16: =SUM(GL16:GP16) -> 0 | GW16: =SUM(GR16:GV16) -> 0 | HC16: =SUM(GX16:HB16) -> 0 | HI16: =SUM(HD16:HH16) -> 0 | HJ16: =SUM(FH16,FN16,FT16,FZ16,GF16,GL16,GR16,GX16,HD16) -> 0 | HK16: =SUM(FI16,FO16,FU16,GA16,GG16,GM16,GS16,GY16,HE16) -> 0 | HL16: =SUM(FJ16,FP16,FV16,GB16,GH16,GN16,GT16,GZ16,HF16) -> 0 | HM16: =SUM(FK16,FQ16,FW16,GC16,GI16,GO16,GU16,HA16,HG16) -> 0 | HN16: =SUM(FL16,FR16,FX16,GD16,GJ16,GP16,GV16,HB16,HH16) -> 0 | HO16: =SUM(FM16,FS16,FY16,GE16,GK16,GQ16,GW16,HC16,HI16) -> 0 | HU16: =SUM(HP16:HT16) -> 0 | IA16: =SUM(HV16:HZ16) -> 0 | IG16: =SUM(IB16:IF16) -> 0 | IH16: =SUM(HP16,HV16,IB16) -> 0 | II16: =SUM(HQ16,HW16,IC16) -> 0 | IJ16: =SUM(HR16,HX16,ID16) -> 0 | IK16: =SUM(HS16,HY16,IE16) -> 0 | IL16: =SUM(HT16,HZ16,IF16) -> 0 | IM16: =SUM(HU16,IA16,IG16) -> 0 | IS16: =SUM(IN16:IR16) -> 0 | IY16: =SUM(IT16:IX16) -> 0 | JE16: =SUM(IZ16:JD16) -> 0 | JF16: =SUM(IN16,IT16,IZ16) -> 0 | JG16: =SUM(IO16,IU16,JA16) -> 0 | JH16: =SUM(IP16,IV16,JB16) -> 0 | JI16: =SUM(IQ16,IW16,JC16) -> 0 | JJ16: =SUM(IR16,IX16,JD16) -> 0 | JK16: =SUM(JF16:JJ16) -> 0 | JM16: =SUM(T16,BD16,CB16,DF16,FB16,HJ16,IH16,JF16) -> 0 | JN16: =SUM(U16,BE16,CC16,DG16,FC16,HK16,II16,JG16) -> 0 | JO16: =SUM(V16,BF16,CD16,DH16,FD16,HL16,IJ16,JH16) -> 0 | JP16: =SUM(W16,BG16,CE16,DI16,FE16,HM16,IK16,JI16) -> 0 | JQ16: =SUM(X16,BH16,CF16,DJ16,FF16,HN16,IL16,JJ16) -> 0 | JR16: =SUM(HO16,FG16,BI16) -> 0
